From mboxrd@z Thu Jan 1 00:00:00 1970 Return-Path: Received: from mails.dpdk.org (mails.dpdk.org [217.70.189.124]) by inbox.dpdk.org (Postfix) with ESMTP id 541AC466FF for ; Fri, 9 May 2025 12:44:16 +0200 (CEST) Received: from mails.dpdk.org (localhost [127.0.0.1]) by mails.dpdk.org (Postfix) with ESMTP id 358A84026C; Fri, 9 May 2025 12:44:16 +0200 (CEST) Received: from mail-qk1-f225.google.com (mail-qk1-f225.google.com [209.85.222.225]) by mails.dpdk.org (Postfix) with ESMTP id 3CE774026B for ; Fri, 9 May 2025 12:44:15 +0200 (CEST) Received: by mail-qk1-f225.google.com with SMTP id af79cd13be357-7c5f720c717so368001185a.0 for ; Fri, 09 May 2025 03:44:15 -0700 (PDT) DKIM-Signature: v=1; a=rsa-sha256; c=relaxed/relaxed; d=iol.unh.edu; s=unh-iol; t=1746787454; x=1747392254; darn=dpdk.org; h=cc:to:from:subject:message-id:date:from:to:cc:subject:date :message-id:reply-to; bh=T04NeL4cddIPR6AqeQEn4pSqH8GDUHJvw9N/TOKNT9A=; b=VYUXrBDYTeYZjC1A9YEBI0xlpbXXF+1xFxTsIzbZSSDlp+4w8djj/d2vt6v8p25dIh q0iSLPQ8/wrXBkbgBUpcto0d5JWjXxHWMVB+1i9P/Tj1Mt2GmGZ+Cvfiq2KNNkNIYboL I988Rur47ddZF20bSJd6FmUjByBaQTDMvSCfw= X-Google-DKIM-Signature: v=1; a=rsa-sha256; c=relaxed/relaxed; d=1e100.net; s=20230601; t=1746787454; x=1747392254; h=cc:to:from:subject:message-id:date:x-gm-message-state:from:to:cc :subject:date:message-id:reply-to; bh=T04NeL4cddIPR6AqeQEn4pSqH8GDUHJvw9N/TOKNT9A=; b=MkIp/gQTlk4Ep8CAQd++0FbAGL1kv9rDJOt8oM6EeQpYhGt7gPShJi4mBWXFLtJ8MZ vCQ7LQSwjQZHJv+WqssTGQb8db6NwCR+68mvT9egj3+eEKyskIxA2P7GFKtgSaEnGtj8 02Vss+X9RnMJHwxIX2FHuwuREeQkHGG1Jll/z/pEe4SEgwY2XqMGOUd19z8JxeqyW7VO 6AO2doTihZI66I0VpY7yMgNJBphwWtmOdNzLOWxisC6/ZvrOIKMJCoVO7Jq8yCmqMP61 d0sB2qh/Td683U5GBn9FFVmO6+IRypQBX55iQQpv87o8cJi1PRHkrzECOciqBLwgYR3X SaAg== X-Gm-Message-State: AOJu0YxAc2bRQI9D3y0BXTUQAj5hkPoFsIWdNmFuICsd+0vKC0PZ2Kjw iTjwrjmNXhtKO3ciqOir12Q0pEbISCGB0A7P0JmdtREYkqpcyTKJ2r2OzWeKmhI62euZa8Rafjm CTN/I1ze+kA+9NAy7ulh+dG9yMMT8CPwprr2rgNzf7dbWSzaw X-Gm-Gg: ASbGnctngrHTBCWxV0XtlmRsznRCvHpYH5Uynu+xztAUYQKFsZBssK7t+Bp301ZdxWv Yy/i62ChRBsSSPyTLjz25fh5GlHEV4siGIJtV5CelGlBVxSPCq0g/guSdKH58eC3qhCXHLaudML y4rD7IVbIXghCNPZauwk5AAPUbmduHls2yG63RIr4zNEpwJipQIplC7DLITfr0TNG9ue318X8b9 dZzjB5p6dHdJd+6aDB+mj6ar3JvqXnGs1dSYzQt6xHzaZxNu2rw68MrO8U8Gym6tAsXX+6XJ8O5 j5CQUwwNkr8ODrIBWKmK7WoJGIDJR3c+nzZf X-Google-Smtp-Source: AGHT+IF3E3cCuIgBLIAOsVNY9i8jt3ByPn6JJGkQHlrcuvfszVD7/+zkc3xMRN7+DaWCPm8lj0/U26x3w/O1 X-Received: by 2002:a05:620a:261e:b0:7c5:9553:d4e2 with SMTP id af79cd13be357-7cd017d2c3dmr375976985a.24.1746787454583; Fri, 09 May 2025 03:44:14 -0700 (PDT) Received: from postal.iol.unh.edu (postal.iol.unh.edu. [2606:4100:3880:1234::84]) by smtp-relay.gmail.com with ESMTPS id 6a1803df08f44-6f6e39f8d96sm938566d6.21.2025.05.09.03.44.14 (version=TLS1_2 cipher=ECDHE-ECDSA-AES128-GCM-SHA256 bits=128/128); Fri, 09 May 2025 03:44:14 -0700 (PDT) X-Relaying-Domain: iol.unh.edu Date: Fri, 09 May 2025 03:44:14 -0700 (PDT) Message-ID: <681ddc7e.050a0220.36485e.5678SMTPIN_ADDED_MISSING@mx.google.com> Received: from [172.17.0.2] (unknown [172.18.0.74]) by postal.iol.unh.edu (Postfix) with ESMTP id 244EB6052471; Fri, 9 May 2025 06:44:14 -0400 (EDT) Subject: |SUCCESS| [GIT MASTER] 4c5634de9f933555bab9c64a533d3dca999071cd From: dpdklab@iol.unh.edu To: Test Report Cc: dpdk-test-reports@iol.unh.edu, Xueming Li , Christian Ehrhardt , Kevin Traynor , Luca Boccassi Content-Type: text/plain X-BeenThere: test-report@dpdk.org X-Mailman-Version: 2.1.29 Precedence: list List-Id: automatic DPDK test reports List-Unsubscribe: , List-Archive: List-Post: List-Help: List-Subscribe: , Errors-To: test-report-bounces@dpdk.org _Testing PASS_ Branch: tags/v24.11 4c5634de9f933555bab9c64a533d3dca999071cd --> testing pass Upstream job id: ACVP-FIPS-testing#9764 Test environment and result as below: +--------------------+----------------------+----------------------+ | Environment | compressdev_zlib_pmd | dpdk_fips_validation | +====================+======================+======================+ | Ubuntu 22.04 (ARM) | PASS | SKIPPED | +--------------------+----------------------+----------------------+ | Ubuntu 22.04 | PASS | SKIPPED | +--------------------+----------------------+----------------------+ | Ubuntu 20.04 | SKIPPED | PASS | +--------------------+----------------------+----------------------+ Ubuntu 22.04 (ARM) Kernel: 5.15.0-97-generic Compiler: gcc gcc (Ubuntu 11.4.0-1ubuntu1~22.04) 11.4.0 Ubuntu 22.04 Kernel: 5.15.0-100-generic Compiler: gcc gcc (Ubuntu 11.4.0-1ubuntu1~22.04) 11.4.0 Ubuntu 20.04 Kernel: Depends on container host Compiler: gcc (Ubuntu 9.4.0-1ubuntu1~20.04.2) 9.4.0 To view detailed results, visit: https://lab.dpdk.org/results/dashboard/tarballs/33482/ UNH-IOL DPDK Community Lab To manage your email subscriptions, visit: https://lab.dpdk.org/results/dashboard/preferences/subscriptions/