From mboxrd@z Thu Jan 1 00:00:00 1970 Return-Path: Received: from mails.dpdk.org (mails.dpdk.org [217.70.189.124]) by inbox.dpdk.org (Postfix) with ESMTP id 89B49466FF for ; Fri, 9 May 2025 13:11:07 +0200 (CEST) Received: from mails.dpdk.org (localhost [127.0.0.1]) by mails.dpdk.org (Postfix) with ESMTP id 62FAE4025D; Fri, 9 May 2025 13:11:07 +0200 (CEST) Received: from mail-oi1-f227.google.com (mail-oi1-f227.google.com [209.85.167.227]) by mails.dpdk.org (Postfix) with ESMTP id AF4964025A for ; Fri, 9 May 2025 13:11:05 +0200 (CEST) Received: by mail-oi1-f227.google.com with SMTP id 5614622812f47-3feaedb531dso531857b6e.3 for ; Fri, 09 May 2025 04:11:05 -0700 (PDT) DKIM-Signature: v=1; a=rsa-sha256; c=relaxed/relaxed; d=iol.unh.edu; s=unh-iol; t=1746789065; x=1747393865; darn=dpdk.org; h=references:in-reply-to:cc:to:from:subject:message-id:date:from:to :cc:subject:date:message-id:reply-to; bh=Awy8q3W89E/otzlp3wPxIN7sgRhdoQzmnaPjfPxYgMI=; b=B8uLBJR8/aCtuq2wstkyUY7cSZ77nk2BULtlUn80oHVOaLiIE9l8M3BhxW6IDbAc7T fndilLJaKU1x/QHpPjl4oAtjA6FhYJQlSYLjbVydC/TrEak1Ln+iVqSakI+SCS5B9N3A K7uuf4XxdtOWMKVtfZPGYANLPAJL+5u4DIvaQ= X-Google-DKIM-Signature: v=1; a=rsa-sha256; c=relaxed/relaxed; d=1e100.net; s=20230601; t=1746789065; x=1747393865; h=references:in-reply-to:cc:to:from:subject:message-id:date :x-gm-message-state:from:to:cc:subject:date:message-id:reply-to; bh=Awy8q3W89E/otzlp3wPxIN7sgRhdoQzmnaPjfPxYgMI=; b=r28P7thy2dzFQ4vacNeVGvS7C24nTPOVC1uQI5WcRccLjPj1oL2Mm/Yvh/z4/II/B4 Pn95L1+/vN3qf4khwUtDynjqBmTH66dc8VDhaNwM0PoZDD4GQ62csZl7dQdYsj7HaxC8 ORrxMUPt0p9EYjXWHLmtQplAU4lrvn6QtqifvyARLEYVaFt5w67uObMbtRXBFvK2z2ZM RVpDyU5V2Ih+hdobchYNZtrfDYVmt0wsYIRQ9gxI6rSZFEh9UOtW1RUBnSIjvDS3BsxO aUxL+40o7IlnJx18SUDBN71reA+QsFxsQRKbuWo8S9kFp9M5403Qod5SpgPd5ZjgFxVW FSDQ== X-Gm-Message-State: AOJu0YwQHbWaLaTZGegk63tJmUcB1JSH1fNMngsHt7lAd1kgZ2tvOcAT ko9sTmYX+QqJESxE4+SDlF+Cazd3+kT5G0LT/o0Q08zbxqlPt59BNW1nilXYAS1MYqy/F3Exdje 25WKsNJ6kII8BL6E6MwpjwHYd2jJcr32AhNJdG2O9 X-Gm-Gg: ASbGncuGfAlYyDTDSjqyA9VEsgdjH5JsT7mgxqPGZ1kFYnR3k5L8fKaSZp8XeSz5c4n LoCiNvWSHpyoQTbP/WdJVWU1TsHNB9ul9Goup1bzRaIQ4sBJXeLXTQ9UgKw+YdCrRrUiiTaeVfI 124kJHJOUkcdRfD4+njbO+UanpAkYxXpGX9PECazIOFroPBwGh4gJ6qx3WHmCUqGXciatNMrVHE wUti6oc2tgVA7ItPr4aDX0iy9O+2B2sa1GELXJPpEMpObQBbm93HAZ8Ol0OFvOAcUrG1E5yhaK9 fO6pMirG5Wx2TosRVnuUP9zKKayDuZt6iirFMXDKT3BiENBEl2iLEYI65vE= X-Google-Smtp-Source: AGHT+IGJBS5gcThjyIoVsLn067zrdrzf8T/7XGAczjLNsBvnffNw6h+5+DGJ4yT2E6ZWcd+KK/TqAx24gYYG X-Received: by 2002:a05:6808:2110:b0:403:31b5:7eb1 with SMTP id 5614622812f47-403800ec049mr1514013b6e.36.1746789064727; Fri, 09 May 2025 04:11:04 -0700 (PDT) Received: from postal.iol.unh.edu (postal.iol.unh.edu. [132.177.123.84]) by smtp-relay.gmail.com with ESMTPS id 586e51a60fabf-2dba0af04besm84675fac.25.2025.05.09.04.11.04 (version=TLS1_2 cipher=ECDHE-ECDSA-AES128-GCM-SHA256 bits=128/128); Fri, 09 May 2025 04:11:04 -0700 (PDT) X-Relaying-Domain: iol.unh.edu Date: Fri, 09 May 2025 04:11:04 -0700 (PDT) Message-ID: <681de2c8.050a0220.f7cf4.48e7SMTPIN_ADDED_MISSING@mx.google.com> Received: from [172.17.0.2] (unknown [172.18.0.74]) by postal.iol.unh.edu (Postfix) with ESMTP id 094606052471; Fri, 9 May 2025 07:11:04 -0400 (EDT) Subject: |SUCCESS| pw153363-153369 [PATCH] [v1,7/7] event/dlb2: fix default c From: dpdklab@iol.unh.edu To: Test Report Cc: dpdk-test-reports@iol.unh.edu In-Reply-To: <20250509042401.2634765-8-pravin.pathak@intel.com> References: <20250509042401.2634765-8-pravin.pathak@intel.com> Content-Type: text/plain X-BeenThere: test-report@dpdk.org X-Mailman-Version: 2.1.29 Precedence: list List-Id: automatic DPDK test reports List-Unsubscribe: , List-Archive: List-Post: List-Help: List-Subscribe: , Errors-To: test-report-bounces@dpdk.org Test-Label: iol-sample-apps-testing Test-Status: SUCCESS http://dpdk.org/patch/153369 _Testing PASS_ Submitter: Pravin Pathak Date: Friday, May 09 2025 04:24:01 DPDK git baseline: Repo:dpdk Branch: master CommitID:2a5c6c4709c9a23feb92ed1325945cb459884b4f 153363-153369 --> testing pass Upstream job id: ACVP-FIPS-testing#9765 Test environment and result as below: +--------------------+----------------------+----------------------+ | Environment | compressdev_zlib_pmd | dpdk_fips_validation | +====================+======================+======================+ | Ubuntu 22.04 (ARM) | PASS | SKIPPED | +--------------------+----------------------+----------------------+ | Ubuntu 22.04 | PASS | SKIPPED | +--------------------+----------------------+----------------------+ | Ubuntu 20.04 | SKIPPED | PASS | +--------------------+----------------------+----------------------+ Ubuntu 22.04 (ARM) Kernel: 5.15.0-97-generic Compiler: gcc gcc (Ubuntu 11.4.0-1ubuntu1~22.04) 11.4.0 Ubuntu 22.04 Kernel: 5.15.0-100-generic Compiler: gcc gcc (Ubuntu 11.4.0-1ubuntu1~22.04) 11.4.0 Ubuntu 20.04 Kernel: Depends on container host Compiler: gcc (Ubuntu 9.4.0-1ubuntu1~20.04.2) 9.4.0 To view detailed results, visit: https://lab.dpdk.org/results/dashboard/patchsets/33145/ UNH-IOL DPDK Community Lab To manage your email subscriptions, visit: https://lab.dpdk.org/results/dashboard/preferences/subscriptions/