From mboxrd@z Thu Jan 1 00:00:00 1970 Return-Path: Received: from mails.dpdk.org (mails.dpdk.org [217.70.189.124]) by inbox.dpdk.org (Postfix) with ESMTP id 2631D466FF for ; Fri, 9 May 2025 13:41:31 +0200 (CEST) Received: from mails.dpdk.org (localhost [127.0.0.1]) by mails.dpdk.org (Postfix) with ESMTP id DDAB74025D; Fri, 9 May 2025 13:41:30 +0200 (CEST) Received: from mail-oa1-f98.google.com (mail-oa1-f98.google.com [209.85.160.98]) by mails.dpdk.org (Postfix) with ESMTP id 9277E4025A for ; Fri, 9 May 2025 13:41:29 +0200 (CEST) Received: by mail-oa1-f98.google.com with SMTP id 586e51a60fabf-2c7e5f7f0e3so721538fac.3 for ; Fri, 09 May 2025 04:41:29 -0700 (PDT) DKIM-Signature: v=1; a=rsa-sha256; c=relaxed/relaxed; d=iol.unh.edu; s=unh-iol; t=1746790888; x=1747395688; darn=dpdk.org; h=references:in-reply-to:cc:to:from:subject:message-id:date:from:to :cc:subject:date:message-id:reply-to; bh=gWgWp9ctcuEM+1AqQVezRKwgtlzHhhh2HwjZfKpEeyM=; b=dpSWsAjmDR5fFt7DYliTfwDV8H+GI4PrpbJPWwk1m8v9gRe8lRwEZedJQJYuMh4A/O 6maYJBp63HWBQLZUZ00qWg8CgrmJZSgMyfvdbz8gXiI1/gIshVXWYY5xvPy7H1301z/J J6Brvyei0puTjhatR5IDFAT9pW+fhifLWpQqw= X-Google-DKIM-Signature: v=1; a=rsa-sha256; c=relaxed/relaxed; d=1e100.net; s=20230601; t=1746790888; x=1747395688; h=references:in-reply-to:cc:to:from:subject:message-id:date :x-gm-message-state:from:to:cc:subject:date:message-id:reply-to; bh=gWgWp9ctcuEM+1AqQVezRKwgtlzHhhh2HwjZfKpEeyM=; b=MNWW0YL7BP4Pg5Wk0GmxNWwtlO1PbtXoJOcSNGdp9hh7gueaFB+eb/6laqOnEUc0Fz CJEFly10sniSY1ainE7mpymlrAlHv89X6+y2J7KwTKrMS0/cMSepYDQl9rNta5WwQOpC DWhFuF4RRH8TMJ1+cBouHMNUwXDpBrW5W6/lKmD+7Bjn0UskYPvXP4ddGOtRDgZ0ILwh tXvT3TAwMonUWX3KXpjkBvGhXjkKVh+8vfe1+dcA9RDyC/bBexNfZKL5ukR53zye//ur rFHuEPp2s84lzy44ffpN89Bj7ll6BPfEYe7DBAueRtDvNobejJxhKEef0d/sWjUdIoY+ T12g== X-Gm-Message-State: AOJu0YxIUeAKnbOVEtChEEna5llNBs11T+YzVXW/3ErWejevjmNOrfuc teN2W/gM5AXNlRuujpmtNsfMYO2zpN6sRoOmHuS1CYNVBA3+SU76Z8Cw1wa1XvU2huW15XzZC3N EpJ+WvHx6ZmYxyuGyIcO8pVDjSD2MVXWjPWHd7QsM X-Gm-Gg: ASbGncutndqWK48gLaUIXJNYccQfuIWYVTg2ZDKMp7hw0/xwWCPitXiJ61xjjJ3geR+ rxoSbfPg3Zv/1uIOTkf0TzDLcOfDMqVaAOYYJsHTOgd0phuwE4pDudNUAG/mIYJytzemgX3QNO3 d68f4lT/WbkjnamnJ4Dmy6O5H1k0Z6coiarRpoNPQ6+35ldsRNbaLN+bni/41sojnK/DV/OqagE LuGv5Ba/Gpi54vOzsHD27WVtM+KZs8Tc9oTEEYd1PK9PU6eBvEP61vftYePeh1WjOm8USQTBtJQ ztU1+unVeFW6mQqGkjdCfk8WQMYcqE7hA/4GHHqOz04QoubncPctqmTSVnM= X-Google-Smtp-Source: AGHT+IFrDmPN0nHq2hfI0YKA38Wyfne8tKrX4+RLXoNix91WVUYUz4e52vvfh0gyYx2qXc8QwwDlYn/QRtYX X-Received: by 2002:a05:6870:961a:b0:29e:69d9:8834 with SMTP id 586e51a60fabf-2dba3e5848amr1671343fac.0.1746790888631; Fri, 09 May 2025 04:41:28 -0700 (PDT) Received: from postal.iol.unh.edu (postal.iol.unh.edu. [132.177.123.84]) by smtp-relay.gmail.com with ESMTPS id 46e09a7af769-73226479f9asm76671a34.1.2025.05.09.04.41.28 (version=TLS1_2 cipher=ECDHE-ECDSA-AES128-GCM-SHA256 bits=128/128); Fri, 09 May 2025 04:41:28 -0700 (PDT) X-Relaying-Domain: iol.unh.edu Date: Fri, 09 May 2025 04:41:28 -0700 (PDT) Message-ID: <681de9e8.050a0220.1c6d0f.42f9SMTPIN_ADDED_MISSING@mx.google.com> Received: from [172.17.0.2] (unknown [172.18.0.74]) by postal.iol.unh.edu (Postfix) with ESMTP id 9BD546052471; Fri, 9 May 2025 07:41:27 -0400 (EDT) Subject: |SUCCESS| pw153370-153382 [PATCH] [v2,13/13] app/graph: add IP6 look From: dpdklab@iol.unh.edu To: Test Report Cc: dpdk-test-reports@iol.unh.edu In-Reply-To: <20250509064448.724019-14-adwivedi@marvell.com> References: <20250509064448.724019-14-adwivedi@marvell.com> Content-Type: text/plain X-BeenThere: test-report@dpdk.org X-Mailman-Version: 2.1.29 Precedence: list List-Id: automatic DPDK test reports List-Unsubscribe: , List-Archive: List-Post: List-Help: List-Subscribe: , Errors-To: test-report-bounces@dpdk.org Test-Label: iol-sample-apps-testing Test-Status: SUCCESS http://dpdk.org/patch/153382 _Testing PASS_ Submitter: Ankur Dwivedi Date: Friday, May 09 2025 06:44:48 DPDK git baseline: Repo:dpdk Branch: master CommitID:75f179ebe347b6098cf3af26d3d3b7168fe3fe24 153370-153382 --> testing pass Upstream job id: ACVP-FIPS-testing#9766 Test environment and result as below: +--------------------+----------------------+----------------------+ | Environment | compressdev_zlib_pmd | dpdk_fips_validation | +====================+======================+======================+ | Ubuntu 22.04 (ARM) | PASS | SKIPPED | +--------------------+----------------------+----------------------+ | Ubuntu 22.04 | PASS | SKIPPED | +--------------------+----------------------+----------------------+ | Ubuntu 20.04 | SKIPPED | PASS | +--------------------+----------------------+----------------------+ Ubuntu 22.04 (ARM) Kernel: 5.15.0-97-generic Compiler: gcc gcc (Ubuntu 11.4.0-1ubuntu1~22.04) 11.4.0 Ubuntu 22.04 Kernel: 5.15.0-100-generic Compiler: gcc gcc (Ubuntu 11.4.0-1ubuntu1~22.04) 11.4.0 Ubuntu 20.04 Kernel: Depends on container host Compiler: gcc (Ubuntu 9.4.0-1ubuntu1~20.04.2) 9.4.0 To view detailed results, visit: https://lab.dpdk.org/results/dashboard/patchsets/33146/ UNH-IOL DPDK Community Lab To manage your email subscriptions, visit: https://lab.dpdk.org/results/dashboard/preferences/subscriptions/