From mboxrd@z Thu Jan  1 00:00:00 1970
Return-Path: <test-report-bounces@dpdk.org>
Received: from mails.dpdk.org (mails.dpdk.org [217.70.189.124])
	by inbox.dpdk.org (Postfix) with ESMTP id 5CAB1466FF
	for <public@inbox.dpdk.org>; Fri,  9 May 2025 13:43:52 +0200 (CEST)
Received: from mails.dpdk.org (localhost [127.0.0.1])
	by mails.dpdk.org (Postfix) with ESMTP id 2B0CB4025D;
	Fri,  9 May 2025 13:43:52 +0200 (CEST)
Received: from mail-ot1-f99.google.com (mail-ot1-f99.google.com
 [209.85.210.99]) by mails.dpdk.org (Postfix) with ESMTP id 62F314025A
 for <test-report@dpdk.org>; Fri,  9 May 2025 13:43:50 +0200 (CEST)
Received: by mail-ot1-f99.google.com with SMTP id
 46e09a7af769-72ec926e828so566635a34.0
 for <test-report@dpdk.org>; Fri, 09 May 2025 04:43:50 -0700 (PDT)
DKIM-Signature: v=1; a=rsa-sha256; c=relaxed/relaxed;
 d=iol.unh.edu; s=unh-iol; t=1746791029; x=1747395829; darn=dpdk.org;
 h=references:in-reply-to:cc:to:from:subject:message-id:date:from:to
 :cc:subject:date:message-id:reply-to;
 bh=Lo0C9rTG7AliH28cGNj0mm3H0VGs87hcqNmCVLK07UA=;
 b=gr7+TfdJRp2D5V3czrcT6ODWsV0TA+fu4Zhmzb5cqLwwb0SXsRjckY6aOXhICV4mVH
 Lt80s5fEIQyFoPaIruTRSNOQdfzh+FcpTVahnGRnRJuYVhJiDI5TCr7vCEGofYFFFDSK
 L5S0T+y1h/gaQcfYlF21cX5eP45vYoobMeXkM=
X-Google-DKIM-Signature: v=1; a=rsa-sha256; c=relaxed/relaxed;
 d=1e100.net; s=20230601; t=1746791029; x=1747395829;
 h=references:in-reply-to:cc:to:from:subject:message-id:date
 :x-gm-message-state:from:to:cc:subject:date:message-id:reply-to;
 bh=Lo0C9rTG7AliH28cGNj0mm3H0VGs87hcqNmCVLK07UA=;
 b=tpHWdB3LpOwRpAZXJwgc15YJBjp4ChJ8iRlX4nBDixPcORkUegXta1NPDHxPnqOuks
 ChLzO7Pr+ig13GMLO+irGWwtI4Zl9q6Ct9AVf3Rc+eM4Kr+5Csku/AZcljCk23BqhLIt
 M54LwlEhfDaGavd8KTFAUrHn54GYX8E4jNOFRyMLTRPYbO7vOG405LjdPYXw5A3GqGnC
 AawXcPquzx9nFWtUbek/qD1CqfKmt/pEUOW1T2Kay5HnkLaVrYOswenlIT1I67hwdyCB
 sBkSMFryaJH/dVp+qWOFgxpwMldIUvn3hVaKcBV6JjPcoqc1zN7DiUgMl9XY9eET0bjn
 pDaw==
X-Gm-Message-State: AOJu0YwjPcSbWfznfNB3Gfmynlxrcd1c1AnAlk+sh0ZTkaVsN+soRtgX
 jHleaes++2k9R8BGnYc6tfqW/1E5073EwSvIouWaObfYWW0SOpSPhcSU6M8te+mGmDOC6eTBozM
 Fr41RiolN//glmglBQQRLX+bMjE3v3E+wJAyPo1ngqh2IZ3FX6BDJ1XrU
X-Gm-Gg: ASbGnct+MPXclgdLwGqkwu239J4HDREZLvzXbEo1JJuKS0jXNQHF/jY0ofD2WW6Gqwo
 X27cfy8YNII0z5Hhc8sMVk7H1CemRVVa+Kbt1/FsxY/JZ6QDHDBRMYmsNQsXQ45BEEgSpQvNaQS
 WyCbT3ZL/I/XtcmiHQx4VcpgB+PbCR3Oi844BHZPT8u7Hs1xl8Ip2sZhQSF59o/CFdpFGcAR+Dj
 O09cz7sjrgn8WvgkyDVfd4wDE9shOw9nYKR0Pbs4WmOE+GAAsvo3yu0lGzrxPlGtG52OrBiWnjg
 +ozG64giwxUJLC2JFnNPUZlQa8KkZ95B6dX0
X-Google-Smtp-Source: AGHT+IHmtQHkAw2/Ld3oRoj38JJrAzEnhacpzqaog87xq1Np47f9LpZcwIPQ+yoVsYkCGVnR9OjvAc9Por0u
X-Received: by 2002:a05:6830:648b:b0:72b:9b1f:2e1d with SMTP id
 46e09a7af769-732269c8ce0mr2339756a34.2.1746791029457; 
 Fri, 09 May 2025 04:43:49 -0700 (PDT)
Received: from postal.iol.unh.edu (postal.iol.unh.edu.
 [2606:4100:3880:1234::84]) by smtp-relay.gmail.com with ESMTPS id
 46e09a7af769-732262b76dasm77874a34.0.2025.05.09.04.43.49
 (version=TLS1_2 cipher=ECDHE-ECDSA-AES128-GCM-SHA256 bits=128/128);
 Fri, 09 May 2025 04:43:49 -0700 (PDT)
X-Relaying-Domain: iol.unh.edu
Date: Fri, 09 May 2025 04:43:49 -0700 (PDT)
Message-ID: <681dea75.050a0220.18c9d0.45bdSMTPIN_ADDED_MISSING@mx.google.com>
Received: from [172.17.0.2] (unknown [172.18.0.74])
 by postal.iol.unh.edu (Postfix) with ESMTP id 7FAD26052471;
 Fri,  9 May 2025 07:43:48 -0400 (EDT)
Subject: |SUCCESS| pw153370-153382 [PATCH] [v2,13/13] app/graph: add IP6 look
From: dpdklab@iol.unh.edu
To: Test Report <test-report@dpdk.org>
Cc: dpdk-test-reports@iol.unh.edu
In-Reply-To: <20250509064448.724019-14-adwivedi@marvell.com>
References: <20250509064448.724019-14-adwivedi@marvell.com>
Content-Type: text/plain
X-BeenThere: test-report@dpdk.org
X-Mailman-Version: 2.1.29
Precedence: list
List-Id: automatic DPDK test reports <test-report.dpdk.org>
List-Unsubscribe: <https://mails.dpdk.org/options/test-report>,
 <mailto:test-report-request@dpdk.org?subject=unsubscribe>
List-Archive: <http://mails.dpdk.org/archives/test-report/>
List-Post: <mailto:test-report@dpdk.org>
List-Help: <mailto:test-report-request@dpdk.org?subject=help>
List-Subscribe: <https://mails.dpdk.org/listinfo/test-report>,
 <mailto:test-report-request@dpdk.org?subject=subscribe>
Errors-To: test-report-bounces@dpdk.org

Test-Label: iol-compile-arm64-testing
Test-Status: SUCCESS
http://dpdk.org/patch/153382

_Testing PASS_

Submitter: Ankur Dwivedi <adwivedi@marvell.com>
Date: Friday, May 09 2025 06:44:48 
DPDK git baseline: Repo:dpdk
  Branch: master
  CommitID:75f179ebe347b6098cf3af26d3d3b7168fe3fe24

153370-153382 --> testing pass

Upstream job id: Generic-DPDK-Compile-Meson#386727

Test environment and result as below:

+----------------------------------------+--------------------+
|              Environment               | dpdk_meson_compile |
+========================================+====================+
| Fedora 40 (ARM)                        | PASS               |
+----------------------------------------+--------------------+
| Ubuntu 20.04 ARM GCC Cross Compile     | PASS               |
+----------------------------------------+--------------------+
| Debian 12 with MUSDK                   | PASS               |
+----------------------------------------+--------------------+
| Ubuntu 20.04 ARM SVE                   | PASS               |
+----------------------------------------+--------------------+
| RHEL9 (ARM)                            | PASS               |
+----------------------------------------+--------------------+
| Fedora 40 (ARM Clang)                  | PASS               |
+----------------------------------------+--------------------+
| Fedora 41 (ARM)                        | PASS               |
+----------------------------------------+--------------------+
| Fedora 41 (ARM Clang)                  | PASS               |
+----------------------------------------+--------------------+
| Ubuntu 20.04 (ARM)                     | PASS               |
+----------------------------------------+--------------------+
| Ubuntu 22.04 (ARM)                     | PASS               |
+----------------------------------------+--------------------+
| Ubuntu 24.04 (ARM)                     | PASS               |
+----------------------------------------+--------------------+
| CentOS Stream 9 (ARM)                  | PASS               |
+----------------------------------------+--------------------+
| CentOS Stream 10 (ARM)                 | PASS               |
+----------------------------------------+--------------------+
| Debian 12 (arm)                        | PASS               |
+----------------------------------------+--------------------+
| Ubuntu 20.04 ARM Clang Cross Compile   | PASS               |
+----------------------------------------+--------------------+
| Ubuntu 20.04 aarch32 GCC Cross Compile | PASS               |
+----------------------------------------+--------------------+


Fedora 40 (ARM)
	Kernel: Depends on container host
	Compiler: gcc 14.2.1 20240912 (Red Hat 14.2.1-3)

Ubuntu 20.04 ARM GCC Cross Compile
	Kernel: Depends on container host
	Compiler: aarch64-linux-gnu-gcc (Ubuntu 9.4.0-1ubuntu1~20.04.2) 9.4.0

Debian 12 with MUSDK
	Kernel: Depends on container host
	Compiler: gcc (Debian 12.2.0-14) 12.2.0

Ubuntu 20.04 ARM SVE
	Kernel: Depends on container host
	Compiler: gcc (Ubuntu 10.5.0-1ubuntu1~20.04) 10.5.0

RHEL9 (ARM)
	Kernel: Depends on container host
	Compiler: gcc 11.5.0 20240719 (Red Hat 11.5.0-2)

Fedora 40 (ARM Clang)
	Kernel: Depends on container host
	Compiler: clang 18.1.8 (Fedora 18.1.8-1.fc40)

Fedora 41 (ARM)
	Kernel: Depends on container host
	Compiler: gcc 14.2.1 20240912 (Red Hat 14.2.1-3)

Fedora 41 (ARM Clang)
	Kernel: Depends on container host
	Compiler: clang 19.1.5 (Fedora 19.1.5-1.fc41)

Ubuntu 20.04 (ARM)
	Kernel: Depends on container host
	Compiler: gcc (Ubuntu 9.4.0-1ubuntu1~20.04.2) 9.4.0

Ubuntu 22.04 (ARM)
	Kernel: Depends on container host
	Compiler: gcc (Ubuntu 11.4.0-1ubuntu1~22.04) 11.4.0

Ubuntu 24.04 (ARM)
	Kernel: Depends on container host
	Compiler: gcc (Ubuntu 13.3.0-6ubuntu2~24.04) 13.3.0

CentOS Stream 9 (ARM)
	Kernel: Depends on container host
	Compiler: gcc 11.5.0 20240719 (Red Hat 11.5.0-2)

CentOS Stream 10 (ARM)
	Kernel: Depends on container host
	Compiler: gcc 14.2.1 20241104 (Red Hat 14.2.1-6)

Debian 12 (arm)
	Kernel: Depends on container host
	Compiler: gcc (Debian 12.2.0-14) 12.2.0

Ubuntu 20.04 ARM Clang Cross Compile
	Kernel: Depends on container host
	Compiler: clang 10.0.0-4ubuntu1

Ubuntu 20.04 aarch32 GCC Cross Compile
	Kernel: Depends on container host
	Compiler: gcc 9.4.0

To view detailed results, visit:
https://lab.dpdk.org/results/dashboard/patchsets/33146/

UNH-IOL DPDK Community Lab

To manage your email subscriptions, visit: 
https://lab.dpdk.org/results/dashboard/preferences/subscriptions/