From mboxrd@z Thu Jan 1 00:00:00 1970 Return-Path: Received: from mails.dpdk.org (mails.dpdk.org [217.70.189.124]) by inbox.dpdk.org (Postfix) with ESMTP id AA11046701 for ; Fri, 9 May 2025 16:55:08 +0200 (CEST) Received: from mails.dpdk.org (localhost [127.0.0.1]) by mails.dpdk.org (Postfix) with ESMTP id 865354025D; Fri, 9 May 2025 16:55:08 +0200 (CEST) Received: from mail-pl1-f228.google.com (mail-pl1-f228.google.com [209.85.214.228]) by mails.dpdk.org (Postfix) with ESMTP id 73A684025A for ; Fri, 9 May 2025 16:55:07 +0200 (CEST) Received: by mail-pl1-f228.google.com with SMTP id d9443c01a7336-22fa47d6578so21389525ad.2 for ; Fri, 09 May 2025 07:55:07 -0700 (PDT) DKIM-Signature: v=1; a=rsa-sha256; c=relaxed/relaxed; d=iol.unh.edu; s=unh-iol; t=1746802506; x=1747407306; darn=dpdk.org; h=references:in-reply-to:cc:to:from:subject:message-id:date:from:to :cc:subject:date:message-id:reply-to; bh=z8ywCa1xiK1XoZp2vpHfbHRv3D2tAPfCkzGBXUWDSno=; b=BNziiGEMObXclPcqAgQqwIwA5NE/Eh/NSbnh1Zr916hhoDnGkhXWYT2PfKCTTUpy8/ 4St8xw2DgOXWGVrfHq5Kh+ui3up3R1PReJtcxpIaHdTaLYwC9BhAbp4uQ1loxDdk+OPV wHHeRyTEZEXgn4MSzsJrWdY0hlZsjw79RNpLQ= X-Google-DKIM-Signature: v=1; a=rsa-sha256; c=relaxed/relaxed; d=1e100.net; s=20230601; t=1746802506; x=1747407306; h=references:in-reply-to:cc:to:from:subject:message-id:date :x-gm-message-state:from:to:cc:subject:date:message-id:reply-to; bh=z8ywCa1xiK1XoZp2vpHfbHRv3D2tAPfCkzGBXUWDSno=; b=OsOM2YYHYiPINVTHfsmUZ7W0GopCD/5Uue6c0pNZMz1+F2LH/7++Mb1dJx0D3lxc6v qE0b7zQEftHYCDpm1sB2Attbl3m40s7yC74VLFbGnLTID3PAnoK7WhyoIpGnk+Tu5CDp sF3LEekyPHy/0z4bp7U8JlIR59qikE5EIpAiSmdUmlkspsBkOuj6SZ8Eb4BFzLa+i5gg SmhnG9dqZyKhyH5SvKCKWOq7aMCBSsBaRZGpFr6xPHWTJ0nKFQ4JR0iBdKC3xaj7fWah AHNBGMYZTywzVlB3YI1iQ+HD3Exg0W4vb309EvAbmv6E8hp8mPiVYUAfk97UgjgqD0NU ibhA== X-Gm-Message-State: AOJu0YxTo2XxgU4JWWjZdu20fz/eyhCkjuebU37oeQ8p5gpb6C+GZCTC z10uvdzDo9sl8DAEMWmZqem6vF/nrRgteBtty8fZNJfH20vSacm9Tje0ukN9d9lgyOOvJjM0M0g MPS6Coqzg/ZFMmdlB0qF/266UjhYp86Q09ZKUH4qfxq0KY+axd6YBi+Dn X-Gm-Gg: ASbGncvFZEXjQq+Ox40gj/vrcw48BqLvNhAD+rHm1IcOdxYJtOtOaUbC3w1ReJGU2uB nTvNlxyjnXT/M5ikSfx/h/d06Ht/wttLb/xwXnl6Sf8nhK5R4HPP98lIONNFLn8ZnDDgMGZnLjk GKIkPEHTTJNNHPvPLCqfOcf9DL0pXON7i0okrxuAnunw8tcEL4Ac1iosmzrO0maD1goWlwCovY0 13Ves4bHXN3Xiq7DNFXahLZGsn5tBKmJmLoqLiISVZn7a+tIe1fTuDcXeR60oNCrR/yjS9GhMv1 8TZxXHEogYUP9hQpILYzqGjbhVpvgFJal0gf X-Google-Smtp-Source: AGHT+IFJBeqTHwT18/O/w/2IObLMO1+nlM54VkDUttdtRJI+LBzV/L6+fqYMvCcmN/Vj3kNH5H4fFRMkrpcc X-Received: by 2002:a17:902:ccd1:b0:224:1579:5e8e with SMTP id d9443c01a7336-22fc8b108a9mr56405535ad.1.1746802506289; Fri, 09 May 2025 07:55:06 -0700 (PDT) Received: from postal.iol.unh.edu (postal.iol.unh.edu. [2606:4100:3880:1234::84]) by smtp-relay.gmail.com with ESMTPS id d9443c01a7336-22fc6f24d48sm1076935ad.112.2025.05.09.07.55.06 (version=TLS1_2 cipher=ECDHE-ECDSA-AES128-GCM-SHA256 bits=128/128); Fri, 09 May 2025 07:55:06 -0700 (PDT) X-Relaying-Domain: iol.unh.edu Date: Fri, 09 May 2025 07:55:06 -0700 (PDT) Message-ID: <681e174a.170a0220.27f1c4.6573SMTPIN_ADDED_MISSING@mx.google.com> Received: from [172.17.0.2] (unknown [172.18.0.74]) by postal.iol.unh.edu (Postfix) with ESMTP id B6B416052471; Fri, 9 May 2025 10:55:05 -0400 (EDT) Subject: |SUCCESS| pw153383-153385 [PATCH] [v9,3/3] app/testpmd: add sleep co From: dpdklab@iol.unh.edu To: Test Report Cc: dpdk-test-reports@iol.unh.edu In-Reply-To: <78b85a747daa44382163d25090a2aa2da70aa291.1746797960.git.anatoly.burakov@intel.com> References: <78b85a747daa44382163d25090a2aa2da70aa291.1746797960.git.anatoly.burakov@intel.com> Content-Type: text/plain X-BeenThere: test-report@dpdk.org X-Mailman-Version: 2.1.29 Precedence: list List-Id: automatic DPDK test reports List-Unsubscribe: , List-Archive: List-Post: List-Help: List-Subscribe: , Errors-To: test-report-bounces@dpdk.org Test-Label: iol-abi-testing Test-Status: SUCCESS http://dpdk.org/patch/153385 _Testing PASS_ Submitter: Burakov, Anatoly Date: Friday, May 09 2025 13:39:27 DPDK git baseline: Repo:dpdk Branch: master CommitID:75f179ebe347b6098cf3af26d3d3b7168fe3fe24 153383-153385 --> testing pass Upstream job id: Generic-DPDK-Compile-ABI#125870 Test environment and result as below: +-------------------+----------+ | Environment | abi_test | +===================+==========+ | CentOS Stream 10 | PASS | +-------------------+----------+ | CentOS Stream 9 | PASS | +-------------------+----------+ | openSUSE Leap 15 | PASS | +-------------------+----------+ | Debian 12 | PASS | +-------------------+----------+ | Fedora 40 | PASS | +-------------------+----------+ | Fedora 41 (Clang) | PASS | +-------------------+----------+ | Fedora 41 | PASS | +-------------------+----------+ | RHEL9 | PASS | +-------------------+----------+ | RHEL8 | PASS | +-------------------+----------+ | Ubuntu 22.04 | PASS | +-------------------+----------+ | Ubuntu 24.04 | PASS | +-------------------+----------+ | Fedora 40 (Clang) | PASS | +-------------------+----------+ CentOS Stream 10 Kernel: Depends on container host Compiler: gcc 14.2.1 20241104 (Red Hat 14.2.1-6) CentOS Stream 9 Kernel: Depends on container host Compiler: gcc 11.5.0 20240719 (Red Hat 11.5.0-2) openSUSE Leap 15 Kernel: Depends on container host Compiler: gcc (SUSE Linux) 7.5.0 Debian 12 Kernel: Depends on container host Compiler: gcc (Debian 12.2.0-14) 12.2.0 Fedora 40 Kernel: Depends on container host Compiler: gcc 14.2.1 20240912 (Red Hat 14.2.1-3) Fedora 41 (Clang) Kernel: Depends on container host Compiler: clang 19.1.5 (Fedora 19.1.5-1.fc41) Fedora 41 Kernel: Depends on container host Compiler: gcc 14.2.1 20240912 (Red Hat 14.2.1-3) RHEL9 Kernel: Depends on container host Compiler: gcc 11.5.0 20240719 (Red Hat 11.5.0-2) RHEL8 Kernel: Depends on container host Compiler: gcc 8.5.0 20210514 (Red Hat 8.5.0-22) Ubuntu 22.04 Kernel: Depends on container host Compiler: gcc (Ubuntu 11.4.0-1ubuntu1~22.04) 11.4.0 Ubuntu 24.04 Kernel: Depends on container host Compiler: gcc (Ubuntu 13.3.0-6ubuntu2~24.04) 13.3.0 Fedora 40 (Clang) Kernel: Depends on container host Compiler: clang 18.1.8 (Fedora 18.1.8-1.fc40) To view detailed results, visit: https://lab.dpdk.org/results/dashboard/patchsets/33147/ UNH-IOL DPDK Community Lab To manage your email subscriptions, visit: https://lab.dpdk.org/results/dashboard/preferences/subscriptions/