From mboxrd@z Thu Jan 1 00:00:00 1970 Return-Path: Received: from mails.dpdk.org (mails.dpdk.org [217.70.189.124]) by inbox.dpdk.org (Postfix) with ESMTP id 8ABB546701 for ; Fri, 9 May 2025 17:05:15 +0200 (CEST) Received: from mails.dpdk.org (localhost [127.0.0.1]) by mails.dpdk.org (Postfix) with ESMTP id 640E94025D; Fri, 9 May 2025 17:05:15 +0200 (CEST) Received: from mail-oa1-f98.google.com (mail-oa1-f98.google.com [209.85.160.98]) by mails.dpdk.org (Postfix) with ESMTP id EEF3C4025A for ; Fri, 9 May 2025 17:05:14 +0200 (CEST) Received: by mail-oa1-f98.google.com with SMTP id 586e51a60fabf-2d0920ce388so1263581fac.0 for ; Fri, 09 May 2025 08:05:14 -0700 (PDT) DKIM-Signature: v=1; a=rsa-sha256; c=relaxed/relaxed; d=iol.unh.edu; s=unh-iol; t=1746803114; x=1747407914; darn=dpdk.org; h=references:in-reply-to:cc:to:from:subject:message-id:date:from:to :cc:subject:date:message-id:reply-to; bh=mb1VFzv+FK5H498jUTcm7ShOpoPgbQtKa5tnCo6AYgw=; b=CYNPI5a4HlxOBBs6oYTNCcJjZuTV5dB1wK6L8KnxHYhLm3ZxQTRpDgqo5kVKsvfMWM zDDYefmFY9ocxeZ/bzY9nieDSBFhuabWUnw7cbUOIIk71j2zF1+afEyp4rHoiMLHjykQ TjiT2BHNRPIc+AWO0dUvvp6YSEswxNLOJhEEk= X-Google-DKIM-Signature: v=1; a=rsa-sha256; c=relaxed/relaxed; d=1e100.net; s=20230601; t=1746803114; x=1747407914; h=references:in-reply-to:cc:to:from:subject:message-id:date :x-gm-message-state:from:to:cc:subject:date:message-id:reply-to; bh=mb1VFzv+FK5H498jUTcm7ShOpoPgbQtKa5tnCo6AYgw=; b=cIIOwPSW4MviGLgdtrgflnTfdKSof3L3HkHK52Cijsp1iNY936hynARSxqj2FDxsiZ fRdBt2s/qFyHDHKC167Nzl+Cf4BRHdDrxeivyBqAkGyuNH17t/rKyC2Ys2TeFPTyUx7q r+8xDhBOZPArfSG2XUJpoP3EpdnZuMRMa6um4r+4RzDdMi+M/sif4gtC27RTPj6bDRow DA3XhoPzVyh+CbSpTcSolR/efQG4EWb3/qhn0jABQ0igrWFgW2HzhM9AffUUc/iwQn/K fcbjtLVjJWKdwlGTUW0kPJNDb3/BBVQEU7vmvcZoyPBrah7fIjIPH6Znsxbl0v5b/ZJd kjBg== X-Gm-Message-State: AOJu0YyNHSkPTWzDNBBi/HFtQMHcW5bOSP3q0anNF383CAQEAaF7miHz vxuFzDXYV/+RYpVbS0t/U7cVd9ADhQMrBhFcylo/jX6jdNosO0gnac+W2jChtG3Mh54+fisdsAw VIlxDlALGTb4oX/Ur5jM16YcblsIBS9ATMAYLpIYl+BgExDIqzRRgPCuD X-Gm-Gg: ASbGnctBO5a2zP2KH+VmT/KmYFOfPR3R8m56mPOVIhlgtXzGI/SdNrtp8+5IN7MwyZd whVeJJ52TkGDXXUBVobhkuqka00W35I6TsByj3DXFGJyM7UWHtPJWEtM6OZyRWDCDuaaNCKzwwK U4akSv6uC2D52V82rH28Igr+FmBVpAAW+OqfYjm0GWkvRERJ4rG4p437t8KH//Cz0dnEujm3fuN zDqI8QovLAcq2Q6aKBU7veZYroPls8HZl0r+FcDw0aLtHEE4QWPU8nuL1CVP7Q0BNWVaYiXBEHp 1M7MeYjyVs2KedLErte1qcL0d6Cm9taMwFUc X-Google-Smtp-Source: AGHT+IGmjzL6DOgmMH8qro6qUk0THaza9ygIfqLlgCv+5s+2XB1GovthazpDijj6KRjrK3Dwj0eDTxMOn2JX X-Received: by 2002:a05:620a:2909:b0:7c9:5ebc:f048 with SMTP id af79cd13be357-7cd010ffaddmr487761985a.20.1746803103034; Fri, 09 May 2025 08:05:03 -0700 (PDT) Received: from postal.iol.unh.edu (postal.iol.unh.edu. [2606:4100:3880:1234::84]) by smtp-relay.gmail.com with ESMTPS id 71dfb90a1353d-52c5383afe0sm48522e0c.9.2025.05.09.08.05.02 (version=TLS1_2 cipher=ECDHE-ECDSA-AES128-GCM-SHA256 bits=128/128); Fri, 09 May 2025 08:05:03 -0700 (PDT) X-Relaying-Domain: iol.unh.edu Date: Fri, 09 May 2025 08:05:03 -0700 (PDT) Message-ID: <681e199f.050a0220.30a844.2b9cSMTPIN_ADDED_MISSING@mx.google.com> Received: from [172.17.0.2] (unknown [172.18.0.74]) by postal.iol.unh.edu (Postfix) with ESMTP id 71C856052471; Fri, 9 May 2025 11:05:02 -0400 (EDT) Subject: |SUCCESS| pw153383-153385 [PATCH] [v9,3/3] app/testpmd: add sleep co From: dpdklab@iol.unh.edu To: Test Report Cc: dpdk-test-reports@iol.unh.edu In-Reply-To: <78b85a747daa44382163d25090a2aa2da70aa291.1746797960.git.anatoly.burakov@intel.com> References: <78b85a747daa44382163d25090a2aa2da70aa291.1746797960.git.anatoly.burakov@intel.com> Content-Type: text/plain X-BeenThere: test-report@dpdk.org X-Mailman-Version: 2.1.29 Precedence: list List-Id: automatic DPDK test reports List-Unsubscribe: , List-Archive: List-Post: List-Help: List-Subscribe: , Errors-To: test-report-bounces@dpdk.org Test-Label: iol-sample-apps-testing Test-Status: SUCCESS http://dpdk.org/patch/153385 _Testing PASS_ Submitter: Burakov, Anatoly Date: Friday, May 09 2025 13:39:27 DPDK git baseline: Repo:dpdk Branch: master CommitID:75f179ebe347b6098cf3af26d3d3b7168fe3fe24 153383-153385 --> testing pass Upstream job id: ACVP-FIPS-testing#9767 Test environment and result as below: +--------------------+----------------------+----------------------+ | Environment | dpdk_fips_validation | compressdev_zlib_pmd | +====================+======================+======================+ | Ubuntu 20.04 | PASS | SKIPPED | +--------------------+----------------------+----------------------+ | Ubuntu 22.04 (ARM) | SKIPPED | PASS | +--------------------+----------------------+----------------------+ | Ubuntu 22.04 | SKIPPED | PASS | +--------------------+----------------------+----------------------+ Ubuntu 20.04 Kernel: Depends on container host Compiler: gcc (Ubuntu 9.4.0-1ubuntu1~20.04.2) 9.4.0 Ubuntu 22.04 (ARM) Kernel: 5.15.0-97-generic Compiler: gcc gcc (Ubuntu 11.4.0-1ubuntu1~22.04) 11.4.0 Ubuntu 22.04 Kernel: 5.15.0-100-generic Compiler: gcc gcc (Ubuntu 11.4.0-1ubuntu1~22.04) 11.4.0 To view detailed results, visit: https://lab.dpdk.org/results/dashboard/patchsets/33147/ UNH-IOL DPDK Community Lab To manage your email subscriptions, visit: https://lab.dpdk.org/results/dashboard/preferences/subscriptions/