From mboxrd@z Thu Jan 1 00:00:00 1970 Return-Path: Received: from mails.dpdk.org (mails.dpdk.org [217.70.189.124]) by inbox.dpdk.org (Postfix) with ESMTP id BC43A46701 for ; Fri, 9 May 2025 17:20:38 +0200 (CEST) Received: from mails.dpdk.org (localhost [127.0.0.1]) by mails.dpdk.org (Postfix) with ESMTP id B83904025D; Fri, 9 May 2025 17:20:38 +0200 (CEST) Received: from mail-io1-f98.google.com (mail-io1-f98.google.com [209.85.166.98]) by mails.dpdk.org (Postfix) with ESMTP id 785674025A for ; Fri, 9 May 2025 17:20:37 +0200 (CEST) Received: by mail-io1-f98.google.com with SMTP id ca18e2360f4ac-8613f456960so58187339f.1 for ; Fri, 09 May 2025 08:20:37 -0700 (PDT) DKIM-Signature: v=1; a=rsa-sha256; c=relaxed/relaxed; d=iol.unh.edu; s=unh-iol; t=1746804037; x=1747408837; darn=dpdk.org; h=references:in-reply-to:cc:to:from:subject:message-id:date:from:to :cc:subject:date:message-id:reply-to; bh=CDgw6SjsoINLETuLjAgHKeRgszFxB4c+bVUWq6/4/44=; b=jrplfG1pTAfbaUlPMvupUxtj6vNFcKbxxByGPIdwqYVkjpr+d1/8TmQxvG0pUTqTq+ kV1mq1wev38Fo7RGfbuDI1o5RdJfvKQmzT+6uQXwFphDgIhjXs70lziBMwIreRoSQeS2 DxakMCESkFbVEc3bPncDeprlK0NCQpBmqe2MQ= X-Google-DKIM-Signature: v=1; a=rsa-sha256; c=relaxed/relaxed; d=1e100.net; s=20230601; t=1746804037; x=1747408837; h=references:in-reply-to:cc:to:from:subject:message-id:date :x-gm-message-state:from:to:cc:subject:date:message-id:reply-to; bh=CDgw6SjsoINLETuLjAgHKeRgszFxB4c+bVUWq6/4/44=; b=JjYr32JShXqlLnz1VubZNvvb3goTjgt6BS992vdyzNSD8Fs63TsHnD8jKr4LTdsxWy QvaFg5xUQIGIFmhb4kug8gcGMvJQMfNj9JLV7JF0rBTZGA+hKgeGrEtZHFAJbw3tK17T JOBW0XVF+mj96BzDCFL3t7irOxKHBL2pKhQwJRQiErELbKKOVwZdUKmhCLYhhkhmYABv xC6+BSKFcTflt4EVC480dOLaL9F4H7BnV4Gz/NThibo5DGlGAQK7o89Z0hbohNxW8GsL RNlxu/uMImVZq1ejaRN5ZTDkGqcVcUNAobFaLwFq5w3J8Zeag/uyZQkIzpYJSSVcFP/I fC/A== X-Gm-Message-State: AOJu0Yy0jRVjusW5teqx3ZfE3E+53AIm1I+MIrJT88Eyx8Dbb/Dm5mei Cf56JvNM9BIR7MQ7TW/ynDa9xu0VtTYmKl3tGg//P/+ELDHKCBmTi9b1lse6hBGKG5CYzp1xBsB ymm/WXnjd+fopFOuHooKHH7Awrkj4FwnB5A9zLVz7 X-Gm-Gg: ASbGncvL8NoZjPmzk0FXEQhwFK7QYHRhiUjFAGrLMic31rTKrRZI6CSnyT8b+P/aC76 SuFcRWepD21Gin7PjWYEpJhncd+bZ5HJX8RlDKbU3NRhnqk70a1p1c/dVvFmImfhss1D4rZY9ph 19KB4BMUVhjVxSk9OrXRHmKht5xm/F3pCYZoPAQsug/mg+L4NCHYzqKtxCa1c8HwWmRYxYRNRJx AfPOygHwFVOLNeSlSj/CZfc2YLdasRXfJ6xNkaBY9jpi3Dj20gXgXU77MX8EWkYdA+peTlL+ZZl ucYKB4wui8c8EIPh2e/I4uc3di7reF213B76IzMAFRqWQQ4wbi1adaSvzB0= X-Google-Smtp-Source: AGHT+IFWyLkUeILvot2AT64E2JJY5yLRD2Yb8BaXx+cm0DF1BumfJhgqHXQZkmKgVit8cuUy0rgEPmHZoHoN X-Received: by 2002:a05:6602:150b:b0:864:4a66:f4df with SMTP id ca18e2360f4ac-8676358cfb9mr562530939f.6.1746804036695; Fri, 09 May 2025 08:20:36 -0700 (PDT) Received: from postal.iol.unh.edu (postal.iol.unh.edu. [132.177.123.84]) by smtp-relay.gmail.com with ESMTPS id 8926c6da1cb9f-4fa224c7ae1sm42750173.39.2025.05.09.08.20.36 (version=TLS1_2 cipher=ECDHE-ECDSA-AES128-GCM-SHA256 bits=128/128); Fri, 09 May 2025 08:20:36 -0700 (PDT) X-Relaying-Domain: iol.unh.edu Date: Fri, 09 May 2025 08:20:36 -0700 (PDT) Message-ID: <681e1d44.050a0220.f8401.28c1SMTPIN_ADDED_MISSING@mx.google.com> Received: from [172.17.0.2] (unknown [172.18.0.74]) by postal.iol.unh.edu (Postfix) with ESMTP id 2E0FB6052471; Fri, 9 May 2025 11:20:36 -0400 (EDT) Subject: |SUCCESS| pw153383-153385 [PATCH] [v9,3/3] app/testpmd: add sleep co From: dpdklab@iol.unh.edu To: Test Report Cc: dpdk-test-reports@iol.unh.edu In-Reply-To: <78b85a747daa44382163d25090a2aa2da70aa291.1746797960.git.anatoly.burakov@intel.com> References: <78b85a747daa44382163d25090a2aa2da70aa291.1746797960.git.anatoly.burakov@intel.com> Content-Type: text/plain X-BeenThere: test-report@dpdk.org X-Mailman-Version: 2.1.29 Precedence: list List-Id: automatic DPDK test reports List-Unsubscribe: , List-Archive: List-Post: List-Help: List-Subscribe: , Errors-To: test-report-bounces@dpdk.org Test-Label: iol-unit-arm64-testing Test-Status: SUCCESS http://dpdk.org/patch/153385 _Testing PASS_ Submitter: Burakov, Anatoly Date: Friday, May 09 2025 13:39:27 DPDK git baseline: Repo:dpdk Branch: master CommitID:75f179ebe347b6098cf3af26d3d3b7168fe3fe24 153383-153385 --> testing pass Upstream job id: Generic-Unit-Test-DPDK#336747 Test environment and result as below: +-----------------------------+---------------------------+--------------+------------------------------+----------------+ | Environment | cryptodev_sw_zuc_autotest | lpm_autotest | cryptodev_sw_snow3g_autotest | dpdk_unit_test | +=============================+===========================+==============+==============================+================+ | Debian 12 (arm) | PASS | SKIPPED | PASS | PASS | +-----------------------------+---------------------------+--------------+------------------------------+----------------+ | Ubuntu 20.04 ARM SVE | SKIPPED | PASS | SKIPPED | SKIPPED | +-----------------------------+---------------------------+--------------+------------------------------+----------------+ | Fedora 40 (ARM) | SKIPPED | SKIPPED | SKIPPED | PASS | +-----------------------------+---------------------------+--------------+------------------------------+----------------+ | CentOS Stream 10 (ARM) | SKIPPED | SKIPPED | SKIPPED | PASS | +-----------------------------+---------------------------+--------------+------------------------------+----------------+ | Fedora 40 (ARM Clang) | SKIPPED | SKIPPED | SKIPPED | PASS | +-----------------------------+---------------------------+--------------+------------------------------+----------------+ | CentOS Stream 9 (ARM) | SKIPPED | SKIPPED | SKIPPED | PASS | +-----------------------------+---------------------------+--------------+------------------------------+----------------+ | RHEL9 (ARM) | SKIPPED | SKIPPED | SKIPPED | PASS | +-----------------------------+---------------------------+--------------+------------------------------+----------------+ | Ubuntu 20.04 (ARM) | SKIPPED | SKIPPED | SKIPPED | PASS | +-----------------------------+---------------------------+--------------+------------------------------+----------------+ | Fedora 41 (ARM Clang) | SKIPPED | SKIPPED | SKIPPED | PASS | +-----------------------------+---------------------------+--------------+------------------------------+----------------+ | Ubuntu 24.04 (ARM) | SKIPPED | SKIPPED | SKIPPED | PASS | +-----------------------------+---------------------------+--------------+------------------------------+----------------+ | Ubuntu 22.04 (ARM) | SKIPPED | SKIPPED | SKIPPED | PASS | +-----------------------------+---------------------------+--------------+------------------------------+----------------+ | Fedora 41 (ARM) | SKIPPED | SKIPPED | SKIPPED | PASS | +-----------------------------+---------------------------+--------------+------------------------------+----------------+ | 32-bit Ubuntu 22.04.4 (ARM) | SKIPPED | SKIPPED | SKIPPED | PASS | +-----------------------------+---------------------------+--------------+------------------------------+----------------+ Debian 12 (arm) Kernel: Depends on container host Compiler: gcc (Debian 12.2.0-14) 12.2.0 Ubuntu 20.04 ARM SVE Kernel: Depends on container host Compiler: gcc (Ubuntu 10.5.0-1ubuntu1~20.04) 10.5.0 Fedora 40 (ARM) Kernel: Depends on container host Compiler: gcc 14.2.1 20240912 (Red Hat 14.2.1-3) CentOS Stream 10 (ARM) Kernel: Depends on container host Compiler: gcc 14.2.1 20241104 (Red Hat 14.2.1-6) Fedora 40 (ARM Clang) Kernel: Depends on container host Compiler: clang 18.1.8 (Fedora 18.1.8-1.fc40) CentOS Stream 9 (ARM) Kernel: Depends on container host Compiler: gcc 11.5.0 20240719 (Red Hat 11.5.0-2) RHEL9 (ARM) Kernel: Depends on container host Compiler: gcc 11.5.0 20240719 (Red Hat 11.5.0-2) Ubuntu 20.04 (ARM) Kernel: Depends on container host Compiler: gcc (Ubuntu 9.4.0-1ubuntu1~20.04.2) 9.4.0 Fedora 41 (ARM Clang) Kernel: Depends on container host Compiler: clang 19.1.5 (Fedora 19.1.5-1.fc41) Ubuntu 24.04 (ARM) Kernel: Depends on container host Compiler: gcc (Ubuntu 13.3.0-6ubuntu2~24.04) 13.3.0 Ubuntu 22.04 (ARM) Kernel: Depends on container host Compiler: gcc (Ubuntu 11.4.0-1ubuntu1~22.04) 11.4.0 Fedora 41 (ARM) Kernel: Depends on container host Compiler: gcc 14.2.1 20240912 (Red Hat 14.2.1-3) 32-bit Ubuntu 22.04.4 (ARM) Kernel: 5.15.83+ aarch64 Compiler: gcc (Ubuntu 11.4.0-1ubuntu1~22.04) 11.4.0 To view detailed results, visit: https://lab.dpdk.org/results/dashboard/patchsets/33147/ UNH-IOL DPDK Community Lab To manage your email subscriptions, visit: https://lab.dpdk.org/results/dashboard/preferences/subscriptions/