From mboxrd@z Thu Jan 1 00:00:00 1970 Return-Path: Received: from mails.dpdk.org (mails.dpdk.org [217.70.189.124]) by inbox.dpdk.org (Postfix) with ESMTP id 4973846702 for ; Fri, 9 May 2025 18:03:14 +0200 (CEST) Received: from mails.dpdk.org (localhost [127.0.0.1]) by mails.dpdk.org (Postfix) with ESMTP id 3193D4025D; Fri, 9 May 2025 18:03:14 +0200 (CEST) Received: from mail-pl1-f228.google.com (mail-pl1-f228.google.com [209.85.214.228]) by mails.dpdk.org (Postfix) with ESMTP id 83EA34025A for ; Fri, 9 May 2025 18:03:13 +0200 (CEST) Received: by mail-pl1-f228.google.com with SMTP id d9443c01a7336-22c3407a87aso29757425ad.3 for ; Fri, 09 May 2025 09:03:13 -0700 (PDT) DKIM-Signature: v=1; a=rsa-sha256; c=relaxed/relaxed; d=iol.unh.edu; s=unh-iol; t=1746806592; x=1747411392; darn=dpdk.org; h=references:in-reply-to:cc:to:from:subject:message-id:date:from:to :cc:subject:date:message-id:reply-to; bh=+OKTlST7wnxE6KEYz1Oo7yTHojK0iVfGK4PWaJ90iAY=; b=UKhVkWkfi1+VW8vvZcJNFS7w5/be/z+5G4wHrNwl+6q0tG+c6UR1vmksUFhJzsmtOM M3OCnFQu3lT13qNOIZ3dGbUFbXZSF5f5lxWR0UHQbJzFMjf7KS16SMtsNZXQX+nDxVus 1p1QE9nDMEqBlPF+fFtL+IueWmVVDwHDY1TVE= X-Google-DKIM-Signature: v=1; a=rsa-sha256; c=relaxed/relaxed; d=1e100.net; s=20230601; t=1746806592; x=1747411392; h=references:in-reply-to:cc:to:from:subject:message-id:date :x-gm-message-state:from:to:cc:subject:date:message-id:reply-to; bh=+OKTlST7wnxE6KEYz1Oo7yTHojK0iVfGK4PWaJ90iAY=; b=Sg+nv/SkaSzONWtL8BGxu0TGU6I5IsGbBTEDPWYgAq79AH9QxpCwfFBxIZc9aBZtPt F3AlVi+bL0/j43aytmwtdUAy2VkevBjGc0U5GMcIPqA9spTszmXYCVcj6QPwBjbyL0qf oxHviQ8mgOZqmQgawM44usJC+fzMblEZRTWSXbIpsUBWzk1QfkxXG5xHFNz7QUi/GGQF IPrKlQ2jjr4rN/ilqLUee2Alo6LzwisGoIjW7RJOSwzB7cyojNVnx6LPKZI2xcO42sfj sWytk8JkkuRScXLQlKlobyDcrhMBuMoMLi1wvBx5ceuP91KhjBkr+OEK+AIiXfEgcBBC y75A== X-Gm-Message-State: AOJu0YzpF7taxcG7jiQF7sRmXY/FWH6Z+KP/vccsGGwUfSTP1yx/huvD O4H5qENOgNz/7bIyhJyXWKnT1DP0V0JnQMd0clRruBWAgCmVC7EVPTIWpk86i+O2ou9SBSIQmTr yGZKLBKG3iYjE6vn91cJgB5knQLRI76e1DuYZU9m1YA1Vlrao4VmYl5Ur X-Gm-Gg: ASbGncvDYIjfRvJKyfKsAqbyqMdf3wxrocH552nyxxHsVEEXnA888o5bbngCzY4TyEz zQUYZ7oiDbgwIOALZgpuWp1QN4jZnI51SyuMIzk0yyi7NkqrsKjJx4rvNe7IZXSGopB+kyOHkUf IiblWnIqY+0CJ7kfMfVQ8nxfBuMudJ7el7nRIxIq2iwhF6d8K5cYl8GNlkdBY1uxQUHdeXEoMrq zDbpWB1p2adZsHY+mU0p9DTfCwGmM79FzZz8NQX0SJ7RKE8I6/A5dHnaw6IsQmsCE9oTZnMAwuc YEsjYbOglxddFO3cqZbfhpHFcAQBto2ab93c X-Google-Smtp-Source: AGHT+IHgrwDVTjrhMw/AdZc4Z7ua0VgYmu7lLMCttGu7AxR09zAX9lAQ8ut74JzvTOa8rXydbTfeLKaXiYhe X-Received: by 2002:a17:902:ecc7:b0:22c:33b2:e430 with SMTP id d9443c01a7336-22fc8b3e291mr45847835ad.6.1746806592354; Fri, 09 May 2025 09:03:12 -0700 (PDT) Received: from postal.iol.unh.edu (postal.iol.unh.edu. [2606:4100:3880:1234::84]) by smtp-relay.gmail.com with ESMTPS id d9443c01a7336-22fc6f11756sm1172495ad.94.2025.05.09.09.03.12 (version=TLS1_2 cipher=ECDHE-ECDSA-AES128-GCM-SHA256 bits=128/128); Fri, 09 May 2025 09:03:12 -0700 (PDT) X-Relaying-Domain: iol.unh.edu Date: Fri, 09 May 2025 09:03:12 -0700 (PDT) Message-ID: <681e2740.170a0220.1f5cf3.6a84SMTPIN_ADDED_MISSING@mx.google.com> Received: from [172.17.0.2] (unknown [172.18.0.74]) by postal.iol.unh.edu (Postfix) with ESMTP id D12576052471; Fri, 9 May 2025 12:03:11 -0400 (EDT) Subject: |SUCCESS| pw153383-153385 [PATCH] [v9,3/3] app/testpmd: add sleep co From: dpdklab@iol.unh.edu To: Test Report Cc: dpdk-test-reports@iol.unh.edu In-Reply-To: <78b85a747daa44382163d25090a2aa2da70aa291.1746797960.git.anatoly.burakov@intel.com> References: <78b85a747daa44382163d25090a2aa2da70aa291.1746797960.git.anatoly.burakov@intel.com> Content-Type: text/plain X-BeenThere: test-report@dpdk.org X-Mailman-Version: 2.1.29 Precedence: list List-Id: automatic DPDK test reports List-Unsubscribe: , List-Archive: List-Post: List-Help: List-Subscribe: , Errors-To: test-report-bounces@dpdk.org Test-Label: iol-compile-arm64-testing Test-Status: SUCCESS http://dpdk.org/patch/153385 _Testing PASS_ Submitter: Burakov, Anatoly Date: Friday, May 09 2025 13:39:27 DPDK git baseline: Repo:dpdk Branch: master CommitID:75f179ebe347b6098cf3af26d3d3b7168fe3fe24 153383-153385 --> testing pass Upstream job id: Generic-DPDK-Compile-Meson#386760 Test environment and result as below: +----------------------------------------+--------------------+ | Environment | dpdk_meson_compile | +========================================+====================+ | RHEL9 (ARM) | PASS | +----------------------------------------+--------------------+ | Ubuntu 20.04 ARM GCC Cross Compile | PASS | +----------------------------------------+--------------------+ | Ubuntu 20.04 ARM SVE | PASS | +----------------------------------------+--------------------+ | Debian 12 with MUSDK | PASS | +----------------------------------------+--------------------+ | Fedora 40 (ARM) | PASS | +----------------------------------------+--------------------+ | Fedora 41 (ARM) | PASS | +----------------------------------------+--------------------+ | Ubuntu 22.04 (ARM) | PASS | +----------------------------------------+--------------------+ | Ubuntu 20.04 (ARM) | PASS | +----------------------------------------+--------------------+ | Ubuntu 24.04 (ARM) | PASS | +----------------------------------------+--------------------+ | CentOS Stream 9 (ARM) | PASS | +----------------------------------------+--------------------+ | CentOS Stream 10 (ARM) | PASS | +----------------------------------------+--------------------+ | Debian 12 (arm) | PASS | +----------------------------------------+--------------------+ | Ubuntu 20.04 ARM Clang Cross Compile | PASS | +----------------------------------------+--------------------+ | Ubuntu 20.04 aarch32 GCC Cross Compile | PASS | +----------------------------------------+--------------------+ | Fedora 40 (ARM Clang) | PASS | +----------------------------------------+--------------------+ | Fedora 41 (ARM Clang) | PASS | +----------------------------------------+--------------------+ RHEL9 (ARM) Kernel: Depends on container host Compiler: gcc 11.5.0 20240719 (Red Hat 11.5.0-2) Ubuntu 20.04 ARM GCC Cross Compile Kernel: Depends on container host Compiler: aarch64-linux-gnu-gcc (Ubuntu 9.4.0-1ubuntu1~20.04.2) 9.4.0 Ubuntu 20.04 ARM SVE Kernel: Depends on container host Compiler: gcc (Ubuntu 10.5.0-1ubuntu1~20.04) 10.5.0 Debian 12 with MUSDK Kernel: Depends on container host Compiler: gcc (Debian 12.2.0-14) 12.2.0 Fedora 40 (ARM) Kernel: Depends on container host Compiler: gcc 14.2.1 20240912 (Red Hat 14.2.1-3) Fedora 41 (ARM) Kernel: Depends on container host Compiler: gcc 14.2.1 20240912 (Red Hat 14.2.1-3) Ubuntu 22.04 (ARM) Kernel: Depends on container host Compiler: gcc (Ubuntu 11.4.0-1ubuntu1~22.04) 11.4.0 Ubuntu 20.04 (ARM) Kernel: Depends on container host Compiler: gcc (Ubuntu 9.4.0-1ubuntu1~20.04.2) 9.4.0 Ubuntu 24.04 (ARM) Kernel: Depends on container host Compiler: gcc (Ubuntu 13.3.0-6ubuntu2~24.04) 13.3.0 CentOS Stream 9 (ARM) Kernel: Depends on container host Compiler: gcc 11.5.0 20240719 (Red Hat 11.5.0-2) CentOS Stream 10 (ARM) Kernel: Depends on container host Compiler: gcc 14.2.1 20241104 (Red Hat 14.2.1-6) Debian 12 (arm) Kernel: Depends on container host Compiler: gcc (Debian 12.2.0-14) 12.2.0 Ubuntu 20.04 ARM Clang Cross Compile Kernel: Depends on container host Compiler: clang 10.0.0-4ubuntu1 Ubuntu 20.04 aarch32 GCC Cross Compile Kernel: Depends on container host Compiler: gcc 9.4.0 Fedora 40 (ARM Clang) Kernel: Depends on container host Compiler: clang 18.1.8 (Fedora 18.1.8-1.fc40) Fedora 41 (ARM Clang) Kernel: Depends on container host Compiler: clang 19.1.5 (Fedora 19.1.5-1.fc41) To view detailed results, visit: https://lab.dpdk.org/results/dashboard/patchsets/33147/ UNH-IOL DPDK Community Lab To manage your email subscriptions, visit: https://lab.dpdk.org/results/dashboard/preferences/subscriptions/