From mboxrd@z Thu Jan 1 00:00:00 1970 Return-Path: Received: from mails.dpdk.org (mails.dpdk.org [217.70.189.124]) by inbox.dpdk.org (Postfix) with ESMTP id EF82546702 for ; Fri, 9 May 2025 19:35:02 +0200 (CEST) Received: from mails.dpdk.org (localhost [127.0.0.1]) by mails.dpdk.org (Postfix) with ESMTP id E95B24025D; Fri, 9 May 2025 19:35:02 +0200 (CEST) Received: from mail-oa1-f100.google.com (mail-oa1-f100.google.com [209.85.160.100]) by mails.dpdk.org (Postfix) with ESMTP id 0DFD24025A for ; Fri, 9 May 2025 19:35:01 +0200 (CEST) Received: by mail-oa1-f100.google.com with SMTP id 586e51a60fabf-2d060c62b61so2466180fac.0 for ; Fri, 09 May 2025 10:35:00 -0700 (PDT) DKIM-Signature: v=1; a=rsa-sha256; c=relaxed/relaxed; d=iol.unh.edu; s=unh-iol; t=1746812100; x=1747416900; darn=dpdk.org; h=references:in-reply-to:cc:to:from:subject:message-id:date:from:to :cc:subject:date:message-id:reply-to; bh=Xupwk2O18+Cn2Ag8N4RYmEgslaO+KQW8i9nkkOJRK5U=; b=cfsjJ7i415VhytnF6BuKTlCZjW+EcCAcbMtM1nk6Scfvv+CmUgESIDEMEPJmW39w9b MHQxZnQ6drydngBLxBDaIOjfDlrLWJYtn5IdFQaNKmO4PqQrkmtV7ow9mNrmEPE5hk9+ ROaoxnO58Ea0S/hklK+SUwnTNhH0DiuuhbdoI= X-Google-DKIM-Signature: v=1; a=rsa-sha256; c=relaxed/relaxed; d=1e100.net; s=20230601; t=1746812100; x=1747416900; h=references:in-reply-to:cc:to:from:subject:message-id:date :x-gm-message-state:from:to:cc:subject:date:message-id:reply-to; bh=Xupwk2O18+Cn2Ag8N4RYmEgslaO+KQW8i9nkkOJRK5U=; b=LDi5wc3GzglD5/SfNmZSSaeUaVXHfJybI/uHw+qK1ArwqdfGKOXNqTcFG2Vrj3uird lqbI8xi1g8FVzJKIYvPk9CMGq0OzNnWxPQDM4zU+ohJXVQvEfaBc8/gFiZhvBA7XNPtF Rz3Ea1c8kbay8xK/TOzAwYSPs2e6DhXWDXl9r2Jsxg2klI2v1XBRM0sxUNmUjSNouPZQ 308E0hf4D4CVpXWRarKdXiuqxq6eW1lWwUKeDW4uxgR6d69dS5Hl66bBfA/TRHIzhXy4 zsQG1IGMLIUPYfuPv+rAaBaSFAY030dJypx+1iGZ1mfDxQ6sundXFQZK28J8LIlg9BfK IMbQ== X-Gm-Message-State: AOJu0YzjF6Qo/QbNYazHIgXt2GGYxghdIAnH/vpZJMa5IZAunMiyQfRs i56yIeaRqukuzH7DuwHi/7Ev152RzKD9d9tAHbyibvdH4+xJ6VgrTDfmb/rWa64c/5ssnzjDP5P fBXjj3CRWwmtnE2Pjc8/B7AZKM1hh/J+y8Jjc+NtE X-Gm-Gg: ASbGnctyLQI/fLgbJfLcppwTpc4vGcHY/z8a7MoAwAj//GUv2spw+BuHxi1fdvjQLGe NgmeKeguXLV2HxkmgGQuelVLv0rP5+GwJIkD+8u+Ei3VD3xCZWdQldoXk+QEGKsQNd26DNJsiGl iYHIsEzjtbnhv2sx7wEOJ6WGUXWsrleOXAif0uYLzmgVTQ1WUAAw4YUyZX47c2hdndqy87jqePD Pm7R4na6pVYeOBF4lWk7upFueSZJIBReTie4y3bjXp63QMd+lx7bIelIr3HfSviRoXkUEx+zSOQ UCck5lDlauW6aJqD/FfCPwxWmMJKXhMQnZM4MYT6tE2S+0Lx/7nUrf7Hcu0= X-Google-Smtp-Source: AGHT+IG7JDNg+q5AbxMAOLUtfz1hQYt1oG+Zhh/Lfx7efTr3fuag5yU3vG0zNGpbZSfSaEu2rHxEj38HBF1n X-Received: by 2002:a05:6870:e389:b0:2d4:e420:926d with SMTP id 586e51a60fabf-2dba44c5108mr3212775fac.29.1746812100256; Fri, 09 May 2025 10:35:00 -0700 (PDT) Received: from postal.iol.unh.edu (postal.iol.unh.edu. [132.177.123.84]) by smtp-relay.gmail.com with ESMTPS id 586e51a60fabf-2dba06246c5sm107648fac.7.2025.05.09.10.35.00 (version=TLS1_2 cipher=ECDHE-ECDSA-AES128-GCM-SHA256 bits=128/128); Fri, 09 May 2025 10:35:00 -0700 (PDT) X-Relaying-Domain: iol.unh.edu Date: Fri, 09 May 2025 10:35:00 -0700 (PDT) Message-ID: <681e3cc4.050a0220.b8531.5d98SMTPIN_ADDED_MISSING@mx.google.com> Received: from [172.21.0.5] (unknown [172.18.0.240]) by postal.iol.unh.edu (Postfix) with ESMTP id BD97D6052471; Fri, 9 May 2025 13:34:59 -0400 (EDT) Subject: |SUCCESS| pw153389 [PATCH] net/ice: update log message From: dpdklab@iol.unh.edu To: Test Report Cc: dpdk-test-reports@iol.unh.edu In-Reply-To: <20250509162543.142225-1-dhanya.r.pillai@intel.com> References: <20250509162543.142225-1-dhanya.r.pillai@intel.com> Content-Type: text/plain X-BeenThere: test-report@dpdk.org X-Mailman-Version: 2.1.29 Precedence: list List-Id: automatic DPDK test reports List-Unsubscribe: , List-Archive: List-Post: List-Help: List-Subscribe: , Errors-To: test-report-bounces@dpdk.org Test-Label: iol-sample-apps-testing Test-Status: SUCCESS http://dpdk.org/patch/153389 _Testing PASS_ Submitter: Pillai, Dhanya R Date: Friday, May 09 2025 16:25:38 DPDK git baseline: Repo:dpdk Branch: master CommitID:7cf0355db9fdab5648b05fd787356c391c510534 153389 --> testing pass Upstream job id: Template-DTS-Pipeline#225153 Test environment and result as below: +--------------------+----------------------+----------------------+ | Environment | dpdk_fips_validation | compressdev_zlib_pmd | +====================+======================+======================+ | Ubuntu 20.04 | PASS | SKIPPED | +--------------------+----------------------+----------------------+ | Ubuntu 22.04 (ARM) | SKIPPED | PASS | +--------------------+----------------------+----------------------+ | Ubuntu 22.04 | SKIPPED | PASS | +--------------------+----------------------+----------------------+ Ubuntu 20.04 Kernel: Depends on container host Compiler: gcc (Ubuntu 9.4.0-1ubuntu1~20.04.2) 9.4.0 Ubuntu 22.04 (ARM) Kernel: 5.15.0-97-generic Compiler: gcc gcc (Ubuntu 11.4.0-1ubuntu1~22.04) 11.4.0 Ubuntu 22.04 Kernel: 5.15.0-100-generic Compiler: gcc gcc (Ubuntu 11.4.0-1ubuntu1~22.04) 11.4.0 To view detailed results, visit: https://lab.dpdk.org/results/dashboard/patchsets/33149/ UNH-IOL DPDK Community Lab To manage your email subscriptions, visit: https://lab.dpdk.org/results/dashboard/preferences/subscriptions/