From mboxrd@z Thu Jan 1 00:00:00 1970 Return-Path: Received: from mails.dpdk.org (mails.dpdk.org [217.70.189.124]) by inbox.dpdk.org (Postfix) with ESMTP id 78FE546703 for ; Fri, 9 May 2025 20:10:38 +0200 (CEST) Received: from mails.dpdk.org (localhost [127.0.0.1]) by mails.dpdk.org (Postfix) with ESMTP id 740F74025D; Fri, 9 May 2025 20:10:38 +0200 (CEST) Received: from mail-oo1-f97.google.com (mail-oo1-f97.google.com [209.85.161.97]) by mails.dpdk.org (Postfix) with ESMTP id 2E5CA4025A for ; Fri, 9 May 2025 20:10:37 +0200 (CEST) Received: by mail-oo1-f97.google.com with SMTP id 006d021491bc7-605fda00c30so1003699eaf.1 for ; Fri, 09 May 2025 11:10:37 -0700 (PDT) DKIM-Signature: v=1; a=rsa-sha256; c=relaxed/relaxed; d=iol.unh.edu; s=unh-iol; t=1746814236; x=1747419036; darn=dpdk.org; h=references:in-reply-to:cc:to:from:subject:message-id:date:from:to :cc:subject:date:message-id:reply-to; bh=Tcnd5zv+4x87ayg54wI86Ck5pbO312QSF9knuJKx8UE=; b=Z1gvrq6yznz4X37cdVLpqhsYWptESJ8gzVUT4sEAZzfQbDjvXRSuia3KliLgW4zZd8 LHleHecNbZHDSajcLqDWo+UhC/qcEoNLTZNuX5HiwCsRZLUm4rfwG1X9YaUz3UsIzpTB /3QiLzzKxGpT1bZzqlDQh8ZJz9wKaaLNnDuqY= X-Google-DKIM-Signature: v=1; a=rsa-sha256; c=relaxed/relaxed; d=1e100.net; s=20230601; t=1746814236; x=1747419036; h=references:in-reply-to:cc:to:from:subject:message-id:date :x-gm-message-state:from:to:cc:subject:date:message-id:reply-to; bh=Tcnd5zv+4x87ayg54wI86Ck5pbO312QSF9knuJKx8UE=; b=RKxPPoGL58RGwZwkoFSkUkXgoTTB1BzZ++x9Tgna6XfBSM69Qe1+aK9royqlSKt6Eq I9WPL6gnYvZ3bgxC0BACoU8nHkpy/ZPLPAbm/rj48Dm4JaOcJ4gjH2x7xsHf5bJJneXT drLFIXKBeSt5siCp5AmQJHeMHpmm3hMi0R1zS71/+A4j2i+nhlPxBQdmdr5nIJTbPTNj YV+SNIRrEyL+idHwggvO11bHQkE3/giPUaIAsjPiPL3o1Pinz+r9HyonIFTYtPnCZzJS vR84SEw7mXgH0++4IpeptMPSdQODsY5sUr1XDnLTT96zddSe23FD647KMjW6hzDBTUAa H7YA== X-Gm-Message-State: AOJu0YwXg9bYmVw0nUpI65b9QnIOW45wUGTTLkjrDs2fdNhC3XH8kq4c fNzmKFNWxXz2k4aS0zvmPu1ywZIxUQkoxNsWAACLAi5/5cxqS8+sthHO+DC8UKC28LLJyKnOXCf TdZ/3WOlNnfO/100He3qayFLaO3j0tAiGVY+H4KrD X-Gm-Gg: ASbGncvXyqQEhBtRwz2AoGt3UKe+7kkqP1dV3bVZFSuWgdjgyHdw9Oe/W9P15j79iFy H9Z17jBBVWrTNWdPacURSupVkFaxXSD2cnnHlEwIeSO6NqzDkL4tkbet9VHZsTZQ1ivsnyS9wNo YJShyCnQJuWQp0ktt7CjYl0IX6A4EUCKccgaZlkX2LmwRSN88LP9wyWYkUvV1Adysx8xQzx8tcL hx5eZ/kuQ/GnInsib3D9Wic87vICVlLSRvPcuXdIbogdsKbh+wcQBoQVCyo2WGBq7v53dNM78je glzg3Vo9BTZbJ/rC0rS0O2qStWE/SFhdjfOc1Ry2FL8Aqhw+aHrDP18Ao74= X-Google-Smtp-Source: AGHT+IFFV9gPOFC40DP3YxCE0O0wInabo22tVZZBNpQtmwNB3UC1wTziH+jmn+G/1GN4Oq+qfLw9zQ6uIsY1 X-Received: by 2002:a05:6820:983:b0:604:ae66:1e9b with SMTP id 006d021491bc7-6084c118041mr2648456eaf.8.1746814236325; Fri, 09 May 2025 11:10:36 -0700 (PDT) Received: from postal.iol.unh.edu (postal.iol.unh.edu. [132.177.123.84]) by smtp-relay.gmail.com with ESMTPS id 006d021491bc7-6083fe09db0sm81187eaf.2.2025.05.09.11.10.36 (version=TLS1_2 cipher=ECDHE-ECDSA-AES128-GCM-SHA256 bits=128/128); Fri, 09 May 2025 11:10:36 -0700 (PDT) X-Relaying-Domain: iol.unh.edu Date: Fri, 09 May 2025 11:10:36 -0700 (PDT) Message-ID: <681e451c.050a0220.f08f.49adSMTPIN_ADDED_MISSING@mx.google.com> Received: from [172.21.0.5] (unknown [172.18.0.240]) by postal.iol.unh.edu (Postfix) with ESMTP id C8BA06052471; Fri, 9 May 2025 14:10:35 -0400 (EDT) Subject: |SUCCESS| pw153389 [PATCH] net/ice: update log message From: dpdklab@iol.unh.edu To: Test Report Cc: dpdk-test-reports@iol.unh.edu In-Reply-To: <20250509162543.142225-1-dhanya.r.pillai@intel.com> References: <20250509162543.142225-1-dhanya.r.pillai@intel.com> Content-Type: text/plain X-BeenThere: test-report@dpdk.org X-Mailman-Version: 2.1.29 Precedence: list List-Id: automatic DPDK test reports List-Unsubscribe: , List-Archive: List-Post: List-Help: List-Subscribe: , Errors-To: test-report-bounces@dpdk.org Test-Label: iol-unit-arm64-testing Test-Status: SUCCESS http://dpdk.org/patch/153389 _Testing PASS_ Submitter: Pillai, Dhanya R Date: Friday, May 09 2025 16:25:38 DPDK git baseline: Repo:dpdk Branch: master CommitID:7cf0355db9fdab5648b05fd787356c391c510534 153389 --> testing pass Upstream job id: Generic-Unit-Test-DPDK#336770 Test environment and result as below: +-----------------------------+----------------+--------------+------------------------------+---------------------------+ | Environment | dpdk_unit_test | lpm_autotest | cryptodev_sw_snow3g_autotest | cryptodev_sw_zuc_autotest | +=============================+================+==============+==============================+===========================+ | CentOS Stream 9 (ARM) | PASS | SKIPPED | SKIPPED | SKIPPED | +-----------------------------+----------------+--------------+------------------------------+---------------------------+ | CentOS Stream 10 (ARM) | PASS | SKIPPED | SKIPPED | SKIPPED | +-----------------------------+----------------+--------------+------------------------------+---------------------------+ | Fedora 40 (ARM Clang) | PASS | SKIPPED | SKIPPED | SKIPPED | +-----------------------------+----------------+--------------+------------------------------+---------------------------+ | Fedora 41 (ARM) | PASS | SKIPPED | SKIPPED | SKIPPED | +-----------------------------+----------------+--------------+------------------------------+---------------------------+ | Ubuntu 20.04 (ARM) | PASS | SKIPPED | SKIPPED | SKIPPED | +-----------------------------+----------------+--------------+------------------------------+---------------------------+ | Debian 12 (arm) | PASS | SKIPPED | PASS | PASS | +-----------------------------+----------------+--------------+------------------------------+---------------------------+ | RHEL9 (ARM) | PASS | SKIPPED | SKIPPED | SKIPPED | +-----------------------------+----------------+--------------+------------------------------+---------------------------+ | Fedora 41 (ARM Clang) | PASS | SKIPPED | SKIPPED | SKIPPED | +-----------------------------+----------------+--------------+------------------------------+---------------------------+ | Fedora 40 (ARM) | PASS | SKIPPED | SKIPPED | SKIPPED | +-----------------------------+----------------+--------------+------------------------------+---------------------------+ | Ubuntu 22.04 (ARM) | PASS | SKIPPED | SKIPPED | SKIPPED | +-----------------------------+----------------+--------------+------------------------------+---------------------------+ | Ubuntu 24.04 (ARM) | PASS | SKIPPED | SKIPPED | SKIPPED | +-----------------------------+----------------+--------------+------------------------------+---------------------------+ | 32-bit Ubuntu 22.04.4 (ARM) | PASS | SKIPPED | SKIPPED | SKIPPED | +-----------------------------+----------------+--------------+------------------------------+---------------------------+ | Ubuntu 20.04 ARM SVE | SKIPPED | PASS | SKIPPED | SKIPPED | +-----------------------------+----------------+--------------+------------------------------+---------------------------+ CentOS Stream 9 (ARM) Kernel: Depends on container host Compiler: gcc 11.5.0 20240719 (Red Hat 11.5.0-2) CentOS Stream 10 (ARM) Kernel: Depends on container host Compiler: gcc 14.2.1 20241104 (Red Hat 14.2.1-6) Fedora 40 (ARM Clang) Kernel: Depends on container host Compiler: clang 18.1.8 (Fedora 18.1.8-1.fc40) Fedora 41 (ARM) Kernel: Depends on container host Compiler: gcc 14.2.1 20240912 (Red Hat 14.2.1-3) Ubuntu 20.04 (ARM) Kernel: Depends on container host Compiler: gcc (Ubuntu 9.4.0-1ubuntu1~20.04.2) 9.4.0 Debian 12 (arm) Kernel: Depends on container host Compiler: gcc (Debian 12.2.0-14) 12.2.0 RHEL9 (ARM) Kernel: Depends on container host Compiler: gcc 11.5.0 20240719 (Red Hat 11.5.0-2) Fedora 41 (ARM Clang) Kernel: Depends on container host Compiler: clang 19.1.5 (Fedora 19.1.5-1.fc41) Fedora 40 (ARM) Kernel: Depends on container host Compiler: gcc 14.2.1 20240912 (Red Hat 14.2.1-3) Ubuntu 22.04 (ARM) Kernel: Depends on container host Compiler: gcc (Ubuntu 11.4.0-1ubuntu1~22.04) 11.4.0 Ubuntu 24.04 (ARM) Kernel: Depends on container host Compiler: gcc (Ubuntu 13.3.0-6ubuntu2~24.04) 13.3.0 32-bit Ubuntu 22.04.4 (ARM) Kernel: 5.15.83+ aarch64 Compiler: gcc (Ubuntu 11.4.0-1ubuntu1~22.04) 11.4.0 Ubuntu 20.04 ARM SVE Kernel: Depends on container host Compiler: gcc (Ubuntu 10.5.0-1ubuntu1~20.04) 10.5.0 To view detailed results, visit: https://lab.dpdk.org/results/dashboard/patchsets/33149/ UNH-IOL DPDK Community Lab To manage your email subscriptions, visit: https://lab.dpdk.org/results/dashboard/preferences/subscriptions/