From mboxrd@z Thu Jan 1 00:00:00 1970 Return-Path: Received: from mails.dpdk.org (mails.dpdk.org [217.70.189.124]) by inbox.dpdk.org (Postfix) with ESMTP id D088846703 for ; Fri, 9 May 2025 20:38:48 +0200 (CEST) Received: from mails.dpdk.org (localhost [127.0.0.1]) by mails.dpdk.org (Postfix) with ESMTP id A383A4025D; Fri, 9 May 2025 20:38:48 +0200 (CEST) Received: from mail-qv1-f99.google.com (mail-qv1-f99.google.com [209.85.219.99]) by mails.dpdk.org (Postfix) with ESMTP id 648934025A for ; Fri, 9 May 2025 20:38:47 +0200 (CEST) Received: by mail-qv1-f99.google.com with SMTP id 6a1803df08f44-6f54036c4b9so23523876d6.1 for ; Fri, 09 May 2025 11:38:47 -0700 (PDT) DKIM-Signature: v=1; a=rsa-sha256; c=relaxed/relaxed; d=iol.unh.edu; s=unh-iol; t=1746815926; x=1747420726; darn=dpdk.org; h=references:in-reply-to:cc:to:from:subject:message-id:date:from:to :cc:subject:date:message-id:reply-to; bh=opgpJHT0umMvsWkWa0vWTThvT7Mn/yNZfaZkXGZsegI=; b=P8QHQonYyAx+Cxkii1Ew9BVyWqLpRwBnJiy8Fr79jBPizTZsbzbdxuO6Eid7UcTZfw uMUDOcacFXu+xhZSP8WGr4NwtAbSbZxCSFSP9j+MKXYk9VLSLWysc8DAnU527baaqH7x NPI8V6Wa21UmtdZfjrEQJnEj3HCojdXB+3yZ8= X-Google-DKIM-Signature: v=1; a=rsa-sha256; c=relaxed/relaxed; d=1e100.net; s=20230601; t=1746815926; x=1747420726; h=references:in-reply-to:cc:to:from:subject:message-id:date :x-gm-message-state:from:to:cc:subject:date:message-id:reply-to; bh=opgpJHT0umMvsWkWa0vWTThvT7Mn/yNZfaZkXGZsegI=; b=rnUFiWmQZU3r5nV5GZaVrNAc+VEjdGRkRUkr6DfjDBM2Gy4WHxbEH0vabTyU2DU8+T S28P01u8aKjRF6/xnfx+MfZecCSbnEN5f+R4/PmxrNfFpfhKvAQDXZLdvoxZebjeZKsG qEoLqCjKEhbsBSwih8f/unDpxD1ifqB9uP47xPMUyYGZ5MajiE3wteyYXE6Bx92n20Ev j/6ARD0Nr+KueuWSWsfU8A4bLB8M1ZCwQZ08ux0P8RS1ikM8sFfvZaINlm1mh58c8wOL I1eKMEv5Ij0lIpOsqGy9DBHyjtfePXa16t/dAOtriBMIcwYwMxDyeONZzltrBDRidv1S Gp7Q== X-Gm-Message-State: AOJu0YwuMJHpsdqcqx+jLB9M9RZTo2RwTPtVto/SXAlfj7aggkCa/bVC HEXdwnfH5BzjynQP+kSejFEsF1ilqEvSOPCMTaapQlBw1MeDnypuP5kaWkNkiPsjBcTbp/Lsa6w g/cI1mv1jAVouvsYIyQzuCculEZC9AbGTZUY6ZXsG X-Gm-Gg: ASbGncvTJ88NZK951J2/wqqivQLu0C5ZXVaa6xEmMjEebwR+LWpIV+7klPR58MA75Ti Tqc8x+JuIJOEGrMjfnXO84xc/Mh0vk7WNRDK4gWUaE7tDve3ITdstpBJDuNu/m+A+N3SQK/CL0T /dDV47svZsoxUB4/UfDTx3atKCZnRjp1YKSFYrxjtsucQL8VnnDLAa6GTXh5qkG0fZOvB+4Y3NU 4tal4rfR8qmuU+YJaQFchDIvDKltWBHtMTuI4VQqdkVEFRrL6s2XtbwSvo0HSSbbI4HHgWBvULe 96wzipVpeOUZjsdnxioO3LkCVNx3rWSJVK02bCfVmXj9wW63ruJ1OKqlWoI= X-Google-Smtp-Source: AGHT+IGTfyMcKhKG4Sqlg3vohTulK3KUXnGxzy/7I2aJD2sj7HC+A0W1PSt4NjBjuAPhJV/iw4TyX/hNPqpB X-Received: by 2002:ad4:5d63:0:b0:6f4:b757:d45f with SMTP id 6a1803df08f44-6f6e47c2346mr73580576d6.20.1746815926509; Fri, 09 May 2025 11:38:46 -0700 (PDT) Received: from postal.iol.unh.edu (postal.iol.unh.edu. [132.177.123.84]) by smtp-relay.gmail.com with ESMTPS id 6a1803df08f44-6f6e3a0e2dfsm1305956d6.31.2025.05.09.11.38.46 (version=TLS1_2 cipher=ECDHE-ECDSA-AES128-GCM-SHA256 bits=128/128); Fri, 09 May 2025 11:38:46 -0700 (PDT) X-Relaying-Domain: iol.unh.edu Date: Fri, 09 May 2025 11:38:46 -0700 (PDT) Message-ID: <681e4bb6.d40a0220.35e187.771cSMTPIN_ADDED_MISSING@mx.google.com> Received: from [172.21.0.5] (unknown [172.18.0.240]) by postal.iol.unh.edu (Postfix) with ESMTP id 3CB9A6052471; Fri, 9 May 2025 14:38:46 -0400 (EDT) Subject: |SUCCESS| pw153386-153388 [PATCH] [v10,3/3] app/testpmd: add sleep c From: dpdklab@iol.unh.edu To: Test Report Cc: dpdk-test-reports@iol.unh.edu In-Reply-To: <2ded7147fd7db8c3cc4579e7126a1deede653828.1746801711.git.anatoly.burakov@intel.com> References: <2ded7147fd7db8c3cc4579e7126a1deede653828.1746801711.git.anatoly.burakov@intel.com> Content-Type: text/plain X-BeenThere: test-report@dpdk.org X-Mailman-Version: 2.1.29 Precedence: list List-Id: automatic DPDK test reports List-Unsubscribe: , List-Archive: List-Post: List-Help: List-Subscribe: , Errors-To: test-report-bounces@dpdk.org Test-Label: iol-unit-amd64-testing Test-Status: SUCCESS http://dpdk.org/patch/153388 _Testing PASS_ Submitter: Burakov, Anatoly Date: Friday, May 09 2025 14:41:58 DPDK git baseline: Repo:dpdk Branch: master CommitID:75f179ebe347b6098cf3af26d3d3b7168fe3fe24 153386-153388 --> testing pass Upstream job id: Generic-Unit-Test-DPDK#336791 Test environment and result as below: +---------------------+----------------+ | Environment | dpdk_unit_test | +=====================+================+ | RHEL8 | PASS | +---------------------+----------------+ | RHEL9 | PASS | +---------------------+----------------+ | Ubuntu 20.04 | PASS | +---------------------+----------------+ | Fedora 41 | PASS | +---------------------+----------------+ | CentOS Stream 10 | PASS | +---------------------+----------------+ | Fedora 40 | PASS | +---------------------+----------------+ | Fedora 41 (Clang) | PASS | +---------------------+----------------+ | Debian 12 | PASS | +---------------------+----------------+ | CentOS Stream 9 | PASS | +---------------------+----------------+ | Fedora 40 (Clang) | PASS | +---------------------+----------------+ | Ubuntu 22.04 | PASS | +---------------------+----------------+ | Ubuntu 24.04 | PASS | +---------------------+----------------+ | Windows Server 2022 | PASS | +---------------------+----------------+ RHEL8 Kernel: Depends on container host Compiler: gcc 8.5.0 20210514 (Red Hat 8.5.0-22) RHEL9 Kernel: Depends on container host Compiler: gcc 11.5.0 20240719 (Red Hat 11.5.0-2) Ubuntu 20.04 Kernel: Depends on container host Compiler: gcc (Ubuntu 9.4.0-1ubuntu1~20.04.2) 9.4.0 Fedora 41 Kernel: Depends on container host Compiler: gcc 14.2.1 20240912 (Red Hat 14.2.1-3) CentOS Stream 10 Kernel: Depends on container host Compiler: gcc 14.2.1 20241104 (Red Hat 14.2.1-6) Fedora 40 Kernel: Depends on container host Compiler: gcc 14.2.1 20240912 (Red Hat 14.2.1-3) Fedora 41 (Clang) Kernel: Depends on container host Compiler: clang 19.1.5 (Fedora 19.1.5-1.fc41) Debian 12 Kernel: Depends on container host Compiler: gcc (Debian 12.2.0-14) 12.2.0 CentOS Stream 9 Kernel: Depends on container host Compiler: gcc 11.5.0 20240719 (Red Hat 11.5.0-2) Fedora 40 (Clang) Kernel: Depends on container host Compiler: clang 18.1.8 (Fedora 18.1.8-1.fc40) Ubuntu 22.04 Kernel: Depends on container host Compiler: gcc (Ubuntu 11.4.0-1ubuntu1~22.04) 11.4.0 Ubuntu 24.04 Kernel: Depends on container host Compiler: gcc (Ubuntu 13.3.0-6ubuntu2~24.04) 13.3.0 Windows Server 2022 Kernel: 10.0.20348.2031 Compiler: clang 15.0.7, gcc 14.1.0 (MinGW), and MSVC VS 19.39.33521 To view detailed results, visit: https://lab.dpdk.org/results/dashboard/patchsets/33148/ UNH-IOL DPDK Community Lab To manage your email subscriptions, visit: https://lab.dpdk.org/results/dashboard/preferences/subscriptions/