From mboxrd@z Thu Jan 1 00:00:00 1970 Return-Path: Received: from mails.dpdk.org (mails.dpdk.org [217.70.189.124]) by inbox.dpdk.org (Postfix) with ESMTP id D0A5746703 for ; Fri, 9 May 2025 20:50:40 +0200 (CEST) Received: from mails.dpdk.org (localhost [127.0.0.1]) by mails.dpdk.org (Postfix) with ESMTP id AA4C04025D; Fri, 9 May 2025 20:50:40 +0200 (CEST) Received: from mail-pg1-f225.google.com (mail-pg1-f225.google.com [209.85.215.225]) by mails.dpdk.org (Postfix) with ESMTP id 264D24025A for ; Fri, 9 May 2025 20:50:39 +0200 (CEST) Received: by mail-pg1-f225.google.com with SMTP id 41be03b00d2f7-b2325c56ebdso1404657a12.1 for ; Fri, 09 May 2025 11:50:39 -0700 (PDT) DKIM-Signature: v=1; a=rsa-sha256; c=relaxed/relaxed; d=iol.unh.edu; s=unh-iol; t=1746816638; x=1747421438; darn=dpdk.org; h=references:in-reply-to:cc:to:from:subject:message-id:date:from:to :cc:subject:date:message-id:reply-to; bh=3wiC5vjZ5dEh4jLyUyBFoC7ktrTTFDbRodi00vjKIFc=; b=BdGAp5vaeskq27uF3H9lnIVoZFQ8jgAMHybqCAdyEG16+JVQLdVCHqrYgaV/qD2I4j J15qu99oHocBMDH2LYeHjKWas+Vf7+qgCLXfWyQ1NoMFGj3OnNUeiQDkQ3xS8y1xsqge rXeUuwF9i8wJiwQ7HXCRntsscWn87W56Dgz+M= X-Google-DKIM-Signature: v=1; a=rsa-sha256; c=relaxed/relaxed; d=1e100.net; s=20230601; t=1746816638; x=1747421438; h=references:in-reply-to:cc:to:from:subject:message-id:date :x-gm-message-state:from:to:cc:subject:date:message-id:reply-to; bh=3wiC5vjZ5dEh4jLyUyBFoC7ktrTTFDbRodi00vjKIFc=; b=TEZD7Z1C+ao3Bn4tqksvv1RBiNo2HqzdBsWqK8tbHyo3Fly6xBQQ4yzk/s508zrvi9 4y/yUfZ8EfMMFoceNYfGIljA5DCFkbRXJquMTxCrPKHtVrnlhvsPfTW9AT+oum8al9z7 i96/bNihdycvsl0UUi46ZufewMaOeyZb/ucQZhMwQ0m2dGayN94yoh3MEXyoKDQgGUgS JA2Ai02WlMZHkV0VmmtHzjyTIodgaJmIlKZS00hIiBLDCFwlJMPXqe9XQ9GS5tvTeMyY KPqwy3kKnU1/lp9HR2xzCIPJSMYo4rTblagIEBDn+LT5+P1ZUf3ZVt7IdWCNR86o60wC j1+w== X-Gm-Message-State: AOJu0Yxuhp7CLyBtYEonuv4anP+78XFoOszMTezBr+tpURAA1xfIx4tD K+rIBUSYADTZTR/IIwXtPMNHImZrlYxv+ilGf6/EwiwsfKKteQgpLCNBHLtyTXjL+iomnyJUbv/ Rkfn9YrMjaUmt+OukZ614zstuPdtzaf9VrVkbitj60/cfHFh4AgNiM0Gh X-Gm-Gg: ASbGncstjNhP5X8ieFmv7a9EUBYLWXV9cXBYT8i5/qyb59GrnvlFtoOqWFczFwKwr1R aADi9BM9O1V4r5Fmdqx/Sp0fZOk+CR3w7aRYqwTGYp9jzfR6BqPrPPJleeRQ9+8UGQ85mQc6QMd 8vIw+zgYst/H8gI5tTzh0FHRDuOnQDntwUUHgxhemDHWzUtATkun/3m41nIsKJsKB8T3UIvT4uB CPun1grP4bJnj5xadZ5GUywsRhHhbF1iQJLx5atGnK+zO9Vrslj5HMJiSPnKMwMsWFBburfXgP8 /gtREMGh0mRByt0s8lKoCicD8jTh9Jr/n9gt X-Google-Smtp-Source: AGHT+IEh9qv4YTlDaAJ8p3woGZUg45ayz1+prcMYVjopA9iLf78KDnvxqW1KBg8q9hQrDX1KRFrVW5nIjHs9 X-Received: by 2002:a17:902:f609:b0:22e:50e1:31fd with SMTP id d9443c01a7336-22fc89404a2mr78206995ad.0.1746816637834; Fri, 09 May 2025 11:50:37 -0700 (PDT) Received: from postal.iol.unh.edu (postal.iol.unh.edu. [2606:4100:3880:1234::84]) by smtp-relay.gmail.com with ESMTPS id d9443c01a7336-22fc5a26f19sm1289765ad.37.2025.05.09.11.50.37 (version=TLS1_2 cipher=ECDHE-ECDSA-AES128-GCM-SHA256 bits=128/128); Fri, 09 May 2025 11:50:37 -0700 (PDT) X-Relaying-Domain: iol.unh.edu Date: Fri, 09 May 2025 11:50:37 -0700 (PDT) Message-ID: <681e4e7d.170a0220.23258.717bSMTPIN_ADDED_MISSING@mx.google.com> Received: from [172.17.0.3] (unknown [172.18.0.76]) by postal.iol.unh.edu (Postfix) with ESMTP id 422646052471; Fri, 9 May 2025 14:50:37 -0400 (EDT) Subject: |SUCCESS| pw153386-153388 [PATCH] [v10,3/3] app/testpmd: add sleep c From: dpdklab@iol.unh.edu To: Test Report Cc: dpdk-test-reports@iol.unh.edu In-Reply-To: <2ded7147fd7db8c3cc4579e7126a1deede653828.1746801711.git.anatoly.burakov@intel.com> References: <2ded7147fd7db8c3cc4579e7126a1deede653828.1746801711.git.anatoly.burakov@intel.com> Content-Type: text/plain X-BeenThere: test-report@dpdk.org X-Mailman-Version: 2.1.29 Precedence: list List-Id: automatic DPDK test reports List-Unsubscribe: , List-Archive: List-Post: List-Help: List-Subscribe: , Errors-To: test-report-bounces@dpdk.org Test-Label: iol-abi-testing Test-Status: SUCCESS http://dpdk.org/patch/153388 _Testing PASS_ Submitter: Burakov, Anatoly Date: Friday, May 09 2025 14:41:58 DPDK git baseline: Repo:dpdk Branch: master CommitID:75f179ebe347b6098cf3af26d3d3b7168fe3fe24 153386-153388 --> testing pass Upstream job id: Generic-DPDK-Compile-ABI#125897 Test environment and result as below: +-------------------+----------+ | Environment | abi_test | +===================+==========+ | Debian 12 | PASS | +-------------------+----------+ | CentOS Stream 9 | PASS | +-------------------+----------+ | CentOS Stream 10 | PASS | +-------------------+----------+ | Fedora 41 | PASS | +-------------------+----------+ | openSUSE Leap 15 | PASS | +-------------------+----------+ | Fedora 41 (Clang) | PASS | +-------------------+----------+ | Fedora 40 | PASS | +-------------------+----------+ | Fedora 40 (Clang) | PASS | +-------------------+----------+ | RHEL8 | PASS | +-------------------+----------+ | Ubuntu 22.04 | PASS | +-------------------+----------+ | RHEL9 | PASS | +-------------------+----------+ | Ubuntu 24.04 | PASS | +-------------------+----------+ Debian 12 Kernel: Depends on container host Compiler: gcc (Debian 12.2.0-14) 12.2.0 CentOS Stream 9 Kernel: Depends on container host Compiler: gcc 11.5.0 20240719 (Red Hat 11.5.0-2) CentOS Stream 10 Kernel: Depends on container host Compiler: gcc 14.2.1 20241104 (Red Hat 14.2.1-6) Fedora 41 Kernel: Depends on container host Compiler: gcc 14.2.1 20240912 (Red Hat 14.2.1-3) openSUSE Leap 15 Kernel: Depends on container host Compiler: gcc (SUSE Linux) 7.5.0 Fedora 41 (Clang) Kernel: Depends on container host Compiler: clang 19.1.5 (Fedora 19.1.5-1.fc41) Fedora 40 Kernel: Depends on container host Compiler: gcc 14.2.1 20240912 (Red Hat 14.2.1-3) Fedora 40 (Clang) Kernel: Depends on container host Compiler: clang 18.1.8 (Fedora 18.1.8-1.fc40) RHEL8 Kernel: Depends on container host Compiler: gcc 8.5.0 20210514 (Red Hat 8.5.0-22) Ubuntu 22.04 Kernel: Depends on container host Compiler: gcc (Ubuntu 11.4.0-1ubuntu1~22.04) 11.4.0 RHEL9 Kernel: Depends on container host Compiler: gcc 11.5.0 20240719 (Red Hat 11.5.0-2) Ubuntu 24.04 Kernel: Depends on container host Compiler: gcc (Ubuntu 13.3.0-6ubuntu2~24.04) 13.3.0 To view detailed results, visit: https://lab.dpdk.org/results/dashboard/patchsets/33148/ UNH-IOL DPDK Community Lab To manage your email subscriptions, visit: https://lab.dpdk.org/results/dashboard/preferences/subscriptions/