From mboxrd@z Thu Jan 1 00:00:00 1970 Return-Path: Received: from mails.dpdk.org (mails.dpdk.org [217.70.189.124]) by inbox.dpdk.org (Postfix) with ESMTP id A2D9E46703 for ; Fri, 9 May 2025 21:00:28 +0200 (CEST) Received: from mails.dpdk.org (localhost [127.0.0.1]) by mails.dpdk.org (Postfix) with ESMTP id 793504025D; Fri, 9 May 2025 21:00:28 +0200 (CEST) Received: from mail-pj1-f98.google.com (mail-pj1-f98.google.com [209.85.216.98]) by mails.dpdk.org (Postfix) with ESMTP id ADC834025A for ; Fri, 9 May 2025 21:00:27 +0200 (CEST) Received: by mail-pj1-f98.google.com with SMTP id 98e67ed59e1d1-30c3a038acfso1845238a91.3 for ; Fri, 09 May 2025 12:00:27 -0700 (PDT) DKIM-Signature: v=1; a=rsa-sha256; c=relaxed/relaxed; d=iol.unh.edu; s=unh-iol; t=1746817226; x=1747422026; darn=dpdk.org; h=references:in-reply-to:cc:to:from:subject:message-id:date:from:to :cc:subject:date:message-id:reply-to; bh=YrUCplKDJAr6OQqrdJ9DaJkd1sa3xeriE2nx8q8CFL4=; b=LOkjHGRGtUvEB9O315CuK9kUOXnYD9Qz9WQ4vBQGqyo/+4ccuwRWitUe6sTW8RNM48 qgGCXgSh0+AeWMVJiNenuXCSUDrnc4OYDsa71uyhWA72ao82EmZYFDS7+1V3dOI7YzZQ rswwVKBqkZnrGnEdYo+8yYsOjknVVWlZ1ITas= X-Google-DKIM-Signature: v=1; a=rsa-sha256; c=relaxed/relaxed; d=1e100.net; s=20230601; t=1746817226; x=1747422026; h=references:in-reply-to:cc:to:from:subject:message-id:date :x-gm-message-state:from:to:cc:subject:date:message-id:reply-to; bh=YrUCplKDJAr6OQqrdJ9DaJkd1sa3xeriE2nx8q8CFL4=; b=J6whb3s47qjDqPLtLvRIf9PJpQcZ6hOTtH19avwou+rZHwVUFzlRe1Il5FvWX5ndPh ZsRvVytU2gQbK5Wplvv4SxYoEwdgGueAZ9H1+VRlJv1pvecrDabl2I+5cfRC15+NIEuC nOKBNPAu5mc1c5JPbBXVDQYwn3rFyr9bHnIU7Qvc85cBU8EqISCQBG1QiGUPepL/9FIz 3bOBUzfVMvRONnXjkScuP6PzVzFKtTqGQf/HXjtmO5W1G7b4qa9+1D3WlQ0n98hed4Yv uxUGiXZ2zH2xvZyBA9fkHs2ueVLISKPKUD+U2/C2hVLmzr6SKzmPShX8zF6txkbkGY+X bf7Q== X-Gm-Message-State: AOJu0YwrOsy21L3+XGeJD+PXBvc+bkvQvO5hsExD2Cz1g34O7WBtX10T Ozoky3gvhqqQj2ornb84vgPIs3aJpyu7/gvnBB7BSFOgAyeguK/UGegKZMYF0Slp21hR2GQAKL3 /WBL6qXN7y0DD3sJ5UzVMZy8xlqo0Q11Lk3MdFVYwcEG6xglnP83f2Wz5 X-Gm-Gg: ASbGncuq8WfurmKih86w8wIZYuv00FZfDEddiROzOW+f0ufr4ZgH98MOJz33cuFBAnh GUu9CRHG9bJZbokT7m/j9tBroMTgo0RH3blkPW5KuFgpUT518ZzziuBQ64FTMv3n/ASbn8HjJLd fEROcyQrfK/dCErOdY637G+5WlpfmHnybXHDkdd69OnVu3/Gqui8VkthS+orN1twxv4MzakOwX2 Og6kJAhaLZdcqyNHdLa2yaw8/Dhe4/bD3PL5NaGefP0Ffn7Q4vnuTMNAchJ6gJ2ZFrx67QlKr8O 6GQsQ7GgNKjg9bZlQOuAjVwDLM9HhxeJW6HQ X-Google-Smtp-Source: AGHT+IGqp6o9h7TninybpNK4XNNfT8l2ayrTlehlXiKtNy1PV8osl0KNnhH2LKnrBoyhEylxjeHyK42u4IZ6 X-Received: by 2002:a17:90b:2494:b0:30c:540b:9b6 with SMTP id 98e67ed59e1d1-30c540b0a07mr3361614a91.0.1746817226540; Fri, 09 May 2025 12:00:26 -0700 (PDT) Received: from postal.iol.unh.edu (postal.iol.unh.edu. [2606:4100:3880:1234::84]) by smtp-relay.gmail.com with ESMTPS id 98e67ed59e1d1-30c39d93ee0sm153365a91.1.2025.05.09.12.00.26 (version=TLS1_2 cipher=ECDHE-ECDSA-AES128-GCM-SHA256 bits=128/128); Fri, 09 May 2025 12:00:26 -0700 (PDT) X-Relaying-Domain: iol.unh.edu Date: Fri, 09 May 2025 12:00:26 -0700 (PDT) Message-ID: <681e50ca.170a0220.2c4beb.89b3SMTPIN_ADDED_MISSING@mx.google.com> Received: from [172.17.0.2] (unknown [172.18.0.76]) by postal.iol.unh.edu (Postfix) with ESMTP id EFD8B6052471; Fri, 9 May 2025 15:00:25 -0400 (EDT) Subject: |SUCCESS| pw153386-153388 [PATCH] [v10,3/3] app/testpmd: add sleep c From: dpdklab@iol.unh.edu To: Test Report Cc: dpdk-test-reports@iol.unh.edu In-Reply-To: <2ded7147fd7db8c3cc4579e7126a1deede653828.1746801711.git.anatoly.burakov@intel.com> References: <2ded7147fd7db8c3cc4579e7126a1deede653828.1746801711.git.anatoly.burakov@intel.com> Content-Type: text/plain X-BeenThere: test-report@dpdk.org X-Mailman-Version: 2.1.29 Precedence: list List-Id: automatic DPDK test reports List-Unsubscribe: , List-Archive: List-Post: List-Help: List-Subscribe: , Errors-To: test-report-bounces@dpdk.org Test-Label: iol-sample-apps-testing Test-Status: SUCCESS http://dpdk.org/patch/153388 _Testing PASS_ Submitter: Burakov, Anatoly Date: Friday, May 09 2025 14:41:58 DPDK git baseline: Repo:dpdk Branch: master CommitID:75f179ebe347b6098cf3af26d3d3b7168fe3fe24 153386-153388 --> testing pass Upstream job id: ACVP-FIPS-testing#9769 Test environment and result as below: +--------------------+----------------------+----------------------+ | Environment | compressdev_zlib_pmd | dpdk_fips_validation | +====================+======================+======================+ | Ubuntu 22.04 (ARM) | PASS | SKIPPED | +--------------------+----------------------+----------------------+ | Ubuntu 22.04 | PASS | SKIPPED | +--------------------+----------------------+----------------------+ | Ubuntu 20.04 | SKIPPED | PASS | +--------------------+----------------------+----------------------+ Ubuntu 22.04 (ARM) Kernel: 5.15.0-97-generic Compiler: gcc gcc (Ubuntu 11.4.0-1ubuntu1~22.04) 11.4.0 Ubuntu 22.04 Kernel: 5.15.0-100-generic Compiler: gcc gcc (Ubuntu 11.4.0-1ubuntu1~22.04) 11.4.0 Ubuntu 20.04 Kernel: Depends on container host Compiler: gcc (Ubuntu 9.4.0-1ubuntu1~20.04.2) 9.4.0 To view detailed results, visit: https://lab.dpdk.org/results/dashboard/patchsets/33148/ UNH-IOL DPDK Community Lab To manage your email subscriptions, visit: https://lab.dpdk.org/results/dashboard/preferences/subscriptions/