From mboxrd@z Thu Jan 1 00:00:00 1970 Return-Path: Received: from mails.dpdk.org (mails.dpdk.org [217.70.189.124]) by inbox.dpdk.org (Postfix) with ESMTP id AE9A246703 for ; Fri, 9 May 2025 21:01:57 +0200 (CEST) Received: from mails.dpdk.org (localhost [127.0.0.1]) by mails.dpdk.org (Postfix) with ESMTP id A79F84025D; Fri, 9 May 2025 21:01:57 +0200 (CEST) Received: from mail-yw1-f225.google.com (mail-yw1-f225.google.com [209.85.128.225]) by mails.dpdk.org (Postfix) with ESMTP id EE5364025A for ; Fri, 9 May 2025 21:01:55 +0200 (CEST) Received: by mail-yw1-f225.google.com with SMTP id 00721157ae682-70a338b1ce5so21034707b3.0 for ; Fri, 09 May 2025 12:01:55 -0700 (PDT) DKIM-Signature: v=1; a=rsa-sha256; c=relaxed/relaxed; d=iol.unh.edu; s=unh-iol; t=1746817315; x=1747422115; darn=dpdk.org; h=references:in-reply-to:cc:to:from:subject:message-id:date:from:to :cc:subject:date:message-id:reply-to; bh=vSkhL7VyWS73p1dRUf0fh/Pv1ihuVcBeD/kQ1ns7k7I=; b=TladEgkX701nknXHYuUjdkl0HL666AzzKYeaSrgYAjT7t5/LvYwDlGM9lfZEVyp7D1 axxj0Un2kXiRWrRGXD8edE6q6EiEjhAxykpqHB8Sp6/8CLev9NpPR814hR01yVxETOEJ gtKV1LnfqKKCd+F8eUlBWdak2YxnhJ6DXY6/o= X-Google-DKIM-Signature: v=1; a=rsa-sha256; c=relaxed/relaxed; d=1e100.net; s=20230601; t=1746817315; x=1747422115; h=references:in-reply-to:cc:to:from:subject:message-id:date :x-gm-message-state:from:to:cc:subject:date:message-id:reply-to; bh=vSkhL7VyWS73p1dRUf0fh/Pv1ihuVcBeD/kQ1ns7k7I=; b=YjOeFJ81JOEb/XwQDNh6qzGFaRU8KNHUqCP8zSPF31ZTQSJ0dZmutoRQa7DW2ZqN0o vWs2SQ2c5KxtEOmekB4QT+5UCuPb56/OIhfVMEtVNGD9WQ839Eha9b/a5SW+ilbleZmQ Leqo4756idMnJ+3UvqkxModJb9xOrkIWxORJr1f6ZtivtLL5XV5+0pTpKUM7jWSiAJ5k KR4n7eQhWhp28F5hDf1lA648VUxBv/c0+uiiQxATBbkKhwKsypacgMO+p5x6yfiA0u8z z49Oe997RW6SlI4lKw0TaRDi1YoAHtiTDtWxMkUDPhcvIRVlwoyA1K0ZKv6as7HuNbzT DHtA== X-Gm-Message-State: AOJu0YzJSGbdnZ0Pbp9bWgBhEhOMjKo4tXgaSy+mJwB3qphosP8sKVmn XL8ndjAyXVi7D2wnRf9eIZJvte/Pd/2Fe+0DNFIVTHpHJUuQnrPLH0h8ahRcMjL8i6kmV2ERa1x lVpPy+WScYlq7fUATc0+Zti6R1WevdRMI173TIP+T4k3nf369JpnHVvsS X-Gm-Gg: ASbGncuI09rxz7SvCf/EGBKTwuPuHsM9WGYPOW82Vr/fPRDO0p04LvJL9wQMfAuzt5z cX4avbk5vW4GrGc6AV+gZ8FcdTWohPLiAyGTBlfRFbelR74L4fdMDx8bBfPb/MW8dIEs653m+UW aINetWDel+aGJTmt7oxJ5RDOFDrg2tnxSbcC56RrmMPUYf998HQ15gxfPZyTjSvOL60kmB4GaMP SUaoSmhTtU8D6B4nrkwuwVpYtzPZwEnqeQFEyef0856JDHB/pAHtrYCfOlmMj2rYRV56wBz30E7 zjsmgGrDfAfiOG5v6RBZW5PvKBiqpxBie5rR X-Google-Smtp-Source: AGHT+IG0ANilx1t4QFmfmNJZnx32zJ+JBPQWLH0l1WelejU3/j5bSuNteaE6wKijakSh0gaYauC16tLIXem7 X-Received: by 2002:a05:690c:998e:b0:706:b2fb:5ed with SMTP id 00721157ae682-70a3fb58447mr61332737b3.34.1746817315287; Fri, 09 May 2025 12:01:55 -0700 (PDT) Received: from postal.iol.unh.edu (postal.iol.unh.edu. [2606:4100:3880:1234::84]) by smtp-relay.gmail.com with ESMTPS id 00721157ae682-70a3d84cb53sm1094087b3.48.2025.05.09.12.01.55 (version=TLS1_2 cipher=ECDHE-ECDSA-AES128-GCM-SHA256 bits=128/128); Fri, 09 May 2025 12:01:55 -0700 (PDT) X-Relaying-Domain: iol.unh.edu Date: Fri, 09 May 2025 12:01:55 -0700 (PDT) Message-ID: <681e5123.050a0220.13f1ad.6b47SMTPIN_ADDED_MISSING@mx.google.com> Received: from [172.17.0.2] (unknown [172.18.0.76]) by postal.iol.unh.edu (Postfix) with ESMTP id E445B6052471; Fri, 9 May 2025 15:01:54 -0400 (EDT) Subject: |SUCCESS| pw153386-153388 [PATCH] [v10,3/3] app/testpmd: add sleep c From: dpdklab@iol.unh.edu To: Test Report Cc: dpdk-test-reports@iol.unh.edu In-Reply-To: <2ded7147fd7db8c3cc4579e7126a1deede653828.1746801711.git.anatoly.burakov@intel.com> References: <2ded7147fd7db8c3cc4579e7126a1deede653828.1746801711.git.anatoly.burakov@intel.com> Content-Type: text/plain X-BeenThere: test-report@dpdk.org X-Mailman-Version: 2.1.29 Precedence: list List-Id: automatic DPDK test reports List-Unsubscribe: , List-Archive: List-Post: List-Help: List-Subscribe: , Errors-To: test-report-bounces@dpdk.org Test-Label: iol-unit-arm64-testing Test-Status: SUCCESS http://dpdk.org/patch/153388 _Testing PASS_ Submitter: Burakov, Anatoly Date: Friday, May 09 2025 14:41:58 DPDK git baseline: Repo:dpdk Branch: master CommitID:75f179ebe347b6098cf3af26d3d3b7168fe3fe24 153386-153388 --> testing pass Upstream job id: Generic-Unit-Test-DPDK#336796 Test environment and result as below: +-----------------------------+----------------+--------------+------------------------------+---------------------------+ | Environment | dpdk_unit_test | lpm_autotest | cryptodev_sw_snow3g_autotest | cryptodev_sw_zuc_autotest | +=============================+================+==============+==============================+===========================+ | Fedora 40 (ARM Clang) | PASS | SKIPPED | SKIPPED | SKIPPED | +-----------------------------+----------------+--------------+------------------------------+---------------------------+ | Debian 12 (arm) | PASS | SKIPPED | PASS | PASS | +-----------------------------+----------------+--------------+------------------------------+---------------------------+ | Ubuntu 24.04 (ARM) | PASS | SKIPPED | SKIPPED | SKIPPED | +-----------------------------+----------------+--------------+------------------------------+---------------------------+ | RHEL9 (ARM) | PASS | SKIPPED | SKIPPED | SKIPPED | +-----------------------------+----------------+--------------+------------------------------+---------------------------+ | CentOS Stream 10 (ARM) | PASS | SKIPPED | SKIPPED | SKIPPED | +-----------------------------+----------------+--------------+------------------------------+---------------------------+ | Fedora 40 (ARM) | PASS | SKIPPED | SKIPPED | SKIPPED | +-----------------------------+----------------+--------------+------------------------------+---------------------------+ | Fedora 41 (ARM Clang) | PASS | SKIPPED | SKIPPED | SKIPPED | +-----------------------------+----------------+--------------+------------------------------+---------------------------+ | Fedora 41 (ARM) | PASS | SKIPPED | SKIPPED | SKIPPED | +-----------------------------+----------------+--------------+------------------------------+---------------------------+ | Ubuntu 20.04 (ARM) | PASS | SKIPPED | SKIPPED | SKIPPED | +-----------------------------+----------------+--------------+------------------------------+---------------------------+ | CentOS Stream 9 (ARM) | PASS | SKIPPED | SKIPPED | SKIPPED | +-----------------------------+----------------+--------------+------------------------------+---------------------------+ | Ubuntu 22.04 (ARM) | PASS | SKIPPED | SKIPPED | SKIPPED | +-----------------------------+----------------+--------------+------------------------------+---------------------------+ | 32-bit Ubuntu 22.04.4 (ARM) | PASS | SKIPPED | SKIPPED | SKIPPED | +-----------------------------+----------------+--------------+------------------------------+---------------------------+ | Ubuntu 20.04 ARM SVE | SKIPPED | PASS | SKIPPED | SKIPPED | +-----------------------------+----------------+--------------+------------------------------+---------------------------+ Fedora 40 (ARM Clang) Kernel: Depends on container host Compiler: clang 18.1.8 (Fedora 18.1.8-1.fc40) Debian 12 (arm) Kernel: Depends on container host Compiler: gcc (Debian 12.2.0-14) 12.2.0 Ubuntu 24.04 (ARM) Kernel: Depends on container host Compiler: gcc (Ubuntu 13.3.0-6ubuntu2~24.04) 13.3.0 RHEL9 (ARM) Kernel: Depends on container host Compiler: gcc 11.5.0 20240719 (Red Hat 11.5.0-2) CentOS Stream 10 (ARM) Kernel: Depends on container host Compiler: gcc 14.2.1 20241104 (Red Hat 14.2.1-6) Fedora 40 (ARM) Kernel: Depends on container host Compiler: gcc 14.2.1 20240912 (Red Hat 14.2.1-3) Fedora 41 (ARM Clang) Kernel: Depends on container host Compiler: clang 19.1.5 (Fedora 19.1.5-1.fc41) Fedora 41 (ARM) Kernel: Depends on container host Compiler: gcc 14.2.1 20240912 (Red Hat 14.2.1-3) Ubuntu 20.04 (ARM) Kernel: Depends on container host Compiler: gcc (Ubuntu 9.4.0-1ubuntu1~20.04.2) 9.4.0 CentOS Stream 9 (ARM) Kernel: Depends on container host Compiler: gcc 11.5.0 20240719 (Red Hat 11.5.0-2) Ubuntu 22.04 (ARM) Kernel: Depends on container host Compiler: gcc (Ubuntu 11.4.0-1ubuntu1~22.04) 11.4.0 32-bit Ubuntu 22.04.4 (ARM) Kernel: 5.15.83+ aarch64 Compiler: gcc (Ubuntu 11.4.0-1ubuntu1~22.04) 11.4.0 Ubuntu 20.04 ARM SVE Kernel: Depends on container host Compiler: gcc (Ubuntu 10.5.0-1ubuntu1~20.04) 10.5.0 To view detailed results, visit: https://lab.dpdk.org/results/dashboard/patchsets/33148/ UNH-IOL DPDK Community Lab To manage your email subscriptions, visit: https://lab.dpdk.org/results/dashboard/preferences/subscriptions/