From mboxrd@z Thu Jan 1 00:00:00 1970 Return-Path: Received: from mails.dpdk.org (mails.dpdk.org [217.70.189.124]) by inbox.dpdk.org (Postfix) with ESMTP id 4711946703 for ; Fri, 9 May 2025 21:06:13 +0200 (CEST) Received: from mails.dpdk.org (localhost [127.0.0.1]) by mails.dpdk.org (Postfix) with ESMTP id 0D8864025D; Fri, 9 May 2025 21:06:13 +0200 (CEST) Received: from mail-pf1-f225.google.com (mail-pf1-f225.google.com [209.85.210.225]) by mails.dpdk.org (Postfix) with ESMTP id B582F4025A for ; Fri, 9 May 2025 21:06:11 +0200 (CEST) Received: by mail-pf1-f225.google.com with SMTP id d2e1a72fcca58-736c277331eso3260573b3a.1 for ; Fri, 09 May 2025 12:06:11 -0700 (PDT) DKIM-Signature: v=1; a=rsa-sha256; c=relaxed/relaxed; d=iol.unh.edu; s=unh-iol; t=1746817570; x=1747422370; darn=dpdk.org; h=references:in-reply-to:cc:to:from:subject:message-id:date:from:to :cc:subject:date:message-id:reply-to; bh=xBGi4qX2KNJB1b55jLG1hD8E8WhRuG0HmlsVohxDVrQ=; b=Tm6jG7c5jp2C3S669S7+7iLz2HaU6kZv0uyCnTmyUQBdlROV4u7xJpgUcgfzp/cdBW YKGRqR0btBf0Gcy6iO84dRkDc5PTjYKYnRxDBYivuupq+24E3X2Tpx9uNg74bPQPwFDv wIOJUOGWzm91nbAewFGU1BOLHS0iztBgkRoIQ= X-Google-DKIM-Signature: v=1; a=rsa-sha256; c=relaxed/relaxed; d=1e100.net; s=20230601; t=1746817570; x=1747422370; h=references:in-reply-to:cc:to:from:subject:message-id:date :x-gm-message-state:from:to:cc:subject:date:message-id:reply-to; bh=xBGi4qX2KNJB1b55jLG1hD8E8WhRuG0HmlsVohxDVrQ=; b=lwBVtjJtDykIA/RxgYSlA9bb7thZNvhrc5p5U7N9Wp/ddzNvlDjAqfammBx5+MIStg fn3zl8i05eiAs0lbdL3XliMaoJt0Fm2ouAJG5BkipPx1E0UfsD703Jiyd5BdpSXa90as 4N+et9mPek120wcUw2jrLpvCJx91bfEfyu786GHEssBqU33mBySjxHCU21pj2WhOB+Uq skynhhBBW8/TihH/ZutYgM2mXPC8cCY5m12+mKLPz0o0zqMT0C7mny0L9zD2yOVujats QoFbsEFoBAighN+WTNR748YSW62tG/N3UeTnHhldq5q8Ypv5JDYPtSlb8FppA1ypA2w7 w/1g== X-Gm-Message-State: AOJu0YwEXWTRJzMINaSQSZ6E0zMflbyncQBdESoPu8dI/b07S/G5vS+2 GVzd+M2mxLf3Zfks2Wyga6RIuWoQ1546csJ9WsWsYGACek3w4N6izRFmpJUD+OABFCILnFMeuJU akr1rvPoeWibxLHDxb3NKY9+Viwvp8o8c3vKevUowjehsFhAgE/fX/az0 X-Gm-Gg: ASbGncv52Kw1P0TM0h6v9Cm2LaUHMz5vWNTtAb3CeB7zhDtuQtZ9MBIIZzDTCkSeG2G nONpFJvSGN6Yp7CT5NjPFIPPax3Qa0UjLnfroWkDqFOdpMCDu61SeE95g5wpbnq5DOw0KGMTNPA Sw+HdtwoplAP6E4GNeprEUddKljYR8es+PGVxbU17u8GvczmTHfZxyKvLOit7FaNc4TfcYvUKpx ecig1Oo7VWVvjmxWvLcNY6CvAo504Bv944YtFxpSDpk0m9jHiYNBMExMGM+UdyoCbK4jF1VOEVF VfacDuNvZIrQPLC88VWnzMB5DM6bvi9ez7bs X-Google-Smtp-Source: AGHT+IHmrdr4ABuD3/5nTAbS1/ut/Cs3H3LkTRZ1CYsySl2XfOI7kwS1IzWzSliDTdPwRMK5bMZpBUjMe7Qx X-Received: by 2002:a05:6a21:b8b:b0:1f3:1ba1:266a with SMTP id adf61e73a8af0-215ab2e72b6mr6314842637.0.1746817570589; Fri, 09 May 2025 12:06:10 -0700 (PDT) Received: from postal.iol.unh.edu (postal.iol.unh.edu. [2606:4100:3880:1234::84]) by smtp-relay.gmail.com with ESMTPS id d2e1a72fcca58-74237a375c4sm142787b3a.21.2025.05.09.12.06.10 (version=TLS1_2 cipher=ECDHE-ECDSA-AES128-GCM-SHA256 bits=128/128); Fri, 09 May 2025 12:06:10 -0700 (PDT) X-Relaying-Domain: iol.unh.edu Date: Fri, 09 May 2025 12:06:10 -0700 (PDT) Message-ID: <681e5222.620a0220.1e8738.7e27SMTPIN_ADDED_MISSING@mx.google.com> Received: from [172.17.0.2] (unknown [172.18.0.76]) by postal.iol.unh.edu (Postfix) with ESMTP id B02B06052471; Fri, 9 May 2025 15:06:09 -0400 (EDT) Subject: |SUCCESS| pw153386-153388 [PATCH] [v10,3/3] app/testpmd: add sleep c From: dpdklab@iol.unh.edu To: Test Report Cc: dpdk-test-reports@iol.unh.edu In-Reply-To: <2ded7147fd7db8c3cc4579e7126a1deede653828.1746801711.git.anatoly.burakov@intel.com> References: <2ded7147fd7db8c3cc4579e7126a1deede653828.1746801711.git.anatoly.burakov@intel.com> Content-Type: text/plain X-BeenThere: test-report@dpdk.org X-Mailman-Version: 2.1.29 Precedence: list List-Id: automatic DPDK test reports List-Unsubscribe: , List-Archive: List-Post: List-Help: List-Subscribe: , Errors-To: test-report-bounces@dpdk.org Test-Label: iol-compile-amd64-testing Test-Status: SUCCESS http://dpdk.org/patch/153388 _Testing PASS_ Submitter: Burakov, Anatoly Date: Friday, May 09 2025 14:41:58 DPDK git baseline: Repo:dpdk Branch: master CommitID:75f179ebe347b6098cf3af26d3d3b7168fe3fe24 153386-153388 --> testing pass Upstream job id: Generic-DPDK-Compile-Meson#386803 Test environment and result as below: +-----------------------------------+--------------------+-------------------+------------------+-------------------+-------------------------+----------------------+ | Environment | dpdk_meson_compile | dpdk_compile_spdk | dpdk_compile_ovs | dpdk_msvc_compile | dpdk_llvm_clang_compile | dpdk_mingw64_compile | +===================================+====================+===================+==================+===================+=========================+======================+ | openSUSE Leap 15 | PASS | SKIPPED | SKIPPED | SKIPPED | SKIPPED | SKIPPED | +-----------------------------------+--------------------+-------------------+------------------+-------------------+-------------------------+----------------------+ | Debian 12 | PASS | PASS | SKIPPED | SKIPPED | SKIPPED | SKIPPED | +-----------------------------------+--------------------+-------------------+------------------+-------------------+-------------------------+----------------------+ | CentOS Stream 9 | PASS | PASS | SKIPPED | SKIPPED | SKIPPED | SKIPPED | +-----------------------------------+--------------------+-------------------+------------------+-------------------+-------------------------+----------------------+ | CentOS Stream 10 | PASS | SKIPPED | SKIPPED | SKIPPED | SKIPPED | SKIPPED | +-----------------------------------+--------------------+-------------------+------------------+-------------------+-------------------------+----------------------+ | Fedora 40 | PASS | PASS | SKIPPED | SKIPPED | SKIPPED | SKIPPED | +-----------------------------------+--------------------+-------------------+------------------+-------------------+-------------------------+----------------------+ | Fedora 41 | PASS | PASS | PASS | SKIPPED | SKIPPED | SKIPPED | +-----------------------------------+--------------------+-------------------+------------------+-------------------+-------------------------+----------------------+ | RHEL8 | PASS | SKIPPED | SKIPPED | SKIPPED | SKIPPED | SKIPPED | +-----------------------------------+--------------------+-------------------+------------------+-------------------+-------------------------+----------------------+ | RHEL9 | PASS | SKIPPED | SKIPPED | SKIPPED | SKIPPED | SKIPPED | +-----------------------------------+--------------------+-------------------+------------------+-------------------+-------------------------+----------------------+ | Fedora 41 (Clang) | PASS | PASS | PASS | SKIPPED | SKIPPED | SKIPPED | +-----------------------------------+--------------------+-------------------+------------------+-------------------+-------------------------+----------------------+ | Ubuntu 20.04 | PASS | SKIPPED | SKIPPED | SKIPPED | SKIPPED | SKIPPED | +-----------------------------------+--------------------+-------------------+------------------+-------------------+-------------------------+----------------------+ | Ubuntu 24.04 | PASS | PASS | PASS | SKIPPED | SKIPPED | SKIPPED | +-----------------------------------+--------------------+-------------------+------------------+-------------------+-------------------------+----------------------+ | Ubuntu 22.04 | PASS | PASS | SKIPPED | SKIPPED | SKIPPED | SKIPPED | +-----------------------------------+--------------------+-------------------+------------------+-------------------+-------------------------+----------------------+ | FreeBSD 13.5 | PASS | SKIPPED | SKIPPED | SKIPPED | SKIPPED | SKIPPED | +-----------------------------------+--------------------+-------------------+------------------+-------------------+-------------------------+----------------------+ | Ubuntu 24.04 32 Bit Cross Compile | PASS | SKIPPED | SKIPPED | SKIPPED | SKIPPED | SKIPPED | +-----------------------------------+--------------------+-------------------+------------------+-------------------+-------------------------+----------------------+ | Alpine | PASS | SKIPPED | SKIPPED | SKIPPED | SKIPPED | SKIPPED | +-----------------------------------+--------------------+-------------------+------------------+-------------------+-------------------------+----------------------+ | FreeBSD 14.2 | PASS | SKIPPED | SKIPPED | SKIPPED | SKIPPED | SKIPPED | +-----------------------------------+--------------------+-------------------+------------------+-------------------+-------------------------+----------------------+ | Fedora 40 (Clang) | PASS | PASS | SKIPPED | SKIPPED | SKIPPED | SKIPPED | +-----------------------------------+--------------------+-------------------+------------------+-------------------+-------------------------+----------------------+ | Windows Server 2022 | SKIPPED | SKIPPED | SKIPPED | PASS | PASS | PASS | +-----------------------------------+--------------------+-------------------+------------------+-------------------+-------------------------+----------------------+ openSUSE Leap 15 Kernel: Depends on container host Compiler: gcc (SUSE Linux) 7.5.0 Debian 12 Kernel: Depends on container host Compiler: gcc (Debian 12.2.0-14) 12.2.0 CentOS Stream 9 Kernel: Depends on container host Compiler: gcc 11.5.0 20240719 (Red Hat 11.5.0-2) CentOS Stream 10 Kernel: Depends on container host Compiler: gcc 14.2.1 20241104 (Red Hat 14.2.1-6) Fedora 40 Kernel: Depends on container host Compiler: gcc 14.2.1 20240912 (Red Hat 14.2.1-3) Fedora 41 Kernel: Depends on container host Compiler: gcc 14.2.1 20240912 (Red Hat 14.2.1-3) RHEL8 Kernel: Depends on container host Compiler: gcc 8.5.0 20210514 (Red Hat 8.5.0-22) RHEL9 Kernel: Depends on container host Compiler: gcc 11.5.0 20240719 (Red Hat 11.5.0-2) Fedora 41 (Clang) Kernel: Depends on container host Compiler: clang 19.1.5 (Fedora 19.1.5-1.fc41) Ubuntu 20.04 Kernel: Depends on container host Compiler: gcc (Ubuntu 9.4.0-1ubuntu1~20.04.2) 9.4.0 Ubuntu 24.04 Kernel: Depends on container host Compiler: gcc (Ubuntu 13.3.0-6ubuntu2~24.04) 13.3.0 Ubuntu 22.04 Kernel: Depends on container host Compiler: gcc (Ubuntu 11.4.0-1ubuntu1~22.04) 11.4.0 FreeBSD 13.5 Kernel: 13.5-RELEASE Compiler: clang 19.1.7 Ubuntu 24.04 32 Bit Cross Compile Kernel: Depends on container host Compiler: gcc (Ubuntu 13.3.0-6ubuntu2~24.04) 13.3.0 Alpine Kernel: Depends on container host Compiler: gcc (Alpine 14.2.0) 14.2.0 FreeBSD 14.2 Kernel: 14.2-RELEASE Compiler: clang 18.1.6 Fedora 40 (Clang) Kernel: Depends on container host Compiler: clang 18.1.8 (Fedora 18.1.8-1.fc40) Windows Server 2022 Kernel: 10.0.20348.2031 Compiler: clang 15.0.7, gcc 14.1.0 (MinGW), and MSVC VS 19.39.33521 To view detailed results, visit: https://lab.dpdk.org/results/dashboard/patchsets/33148/ UNH-IOL DPDK Community Lab To manage your email subscriptions, visit: https://lab.dpdk.org/results/dashboard/preferences/subscriptions/