From mboxrd@z Thu Jan 1 00:00:00 1970 Return-Path: Received: from mails.dpdk.org (mails.dpdk.org [217.70.189.124]) by inbox.dpdk.org (Postfix) with ESMTP id 38E5146704 for ; Fri, 9 May 2025 22:08:23 +0200 (CEST) Received: from mails.dpdk.org (localhost [127.0.0.1]) by mails.dpdk.org (Postfix) with ESMTP id DD0934025D; Fri, 9 May 2025 22:08:22 +0200 (CEST) Received: from mail-qv1-f100.google.com (mail-qv1-f100.google.com [209.85.219.100]) by mails.dpdk.org (Postfix) with ESMTP id CB04F4025A for ; Fri, 9 May 2025 22:08:21 +0200 (CEST) Received: by mail-qv1-f100.google.com with SMTP id 6a1803df08f44-6f5365bdbaeso23676206d6.3 for ; Fri, 09 May 2025 13:08:21 -0700 (PDT) DKIM-Signature: v=1; a=rsa-sha256; c=relaxed/relaxed; d=iol.unh.edu; s=unh-iol; t=1746821301; x=1747426101; darn=dpdk.org; h=references:in-reply-to:cc:to:from:subject:message-id:date:from:to :cc:subject:date:message-id:reply-to; bh=tOZ5AefhCd/6DvtgQp3aGIjUbad6x01gOmdvpGA0YBU=; b=bu43uxxkde6k+2dBvXeC0srJi7ZaqSPE7vPmGR8of7L3F3DkFBhk7pXhX984xpOFLg N13MziF9Xni6l0VC2sUETSGx4SNEvKxHO/OXGd5Qo88sbeEiXVnq00T1GN8JFsKIpXX0 buanMQEDtaaBs5sg1EOhpxMu1HXEjOf1GEaZw= X-Google-DKIM-Signature: v=1; a=rsa-sha256; c=relaxed/relaxed; d=1e100.net; s=20230601; t=1746821301; x=1747426101; h=references:in-reply-to:cc:to:from:subject:message-id:date :x-gm-message-state:from:to:cc:subject:date:message-id:reply-to; bh=tOZ5AefhCd/6DvtgQp3aGIjUbad6x01gOmdvpGA0YBU=; b=ZpHkCV5N8QRezYwpxp86z7oyAZhL5oeWsNB31P1M0VN8pWyQC+0Agc0dDK8ZFfoPAb xP2gwwie+B/FgBJVUg0Qs3eHuzl7Ap90XYKFJM1MyYWdNGsgscRfpTMKrDyf66P4fu3o JTlaKcIleYy9Hxg9KEB/GYnLclW2p5Z8PIO3aumJAzVPsM0d9o4ylhR62LhL3UAgxjdX AcXLouhrszY8jt2oJWnScYLML0b6yZ3bo1fDRncqChnnSOaU5PEUrkD8bhxKcisku4MW vRdqRIxrCnEUb52m3qMBSuy5aG4fkXn/ArZXxSFz1S2ozsM+HFWvbiFd7bPn1l/jrwX+ zMdA== X-Gm-Message-State: AOJu0YwGK50lFfk9n6+sasDlgVks4j2PoLQlo2r/7x+f0peYr39Q0zo8 LIYaXcC1MFugan21JXJHHrIxLQoM3GgfL1qmQM2gcsLFvck7PDCQXKFp7izYsmcHPiGlyuHG9O7 eRRtRQMV3GRzclFYjvaAcaOSfOE1w74ynMcJY6eVSGRZMFYsp0ZCTmanH X-Gm-Gg: ASbGnctqFWA2N5q8JhkJJMwpQfAlQzK9p8B1wBZH4mKRSZEg4MX4oCh9u6AC8kLmdIh a+sLVQw/vqgfBL5iwOJdMiq0PmSNCeQV2loLYpyLCFahcI4TKK+ecAVHjXhF6Cc2WJWZw5cP+sG s6nO6FwugODUun8YALrqPlERTMFRO7MtIMkbmKRNqw/Rctu12D727We+FdY15wPzxFnQynEPWyK 22COAyWiGN7NuCn5geiUjhfGnO8OVeQtroDzFMPw9hsW3vgbEUocaoNOj6QzA78oX89H0UqvUBJ oq9Vaj9dM9Oyz7EIIGnoW59kMxWBvPL2XxGG X-Google-Smtp-Source: AGHT+IHe46X2oIoRhu1MTpEIx/a8sIz5Rz1qwAyYuvNAfwFcREp7nC4TotG+iSUe2WvTTDWGVWFafErjkCmy X-Received: by 2002:ad4:5de4:0:b0:6f5:473d:e52a with SMTP id 6a1803df08f44-6f6e47956c9mr61415436d6.4.1746821300931; Fri, 09 May 2025 13:08:20 -0700 (PDT) Received: from postal.iol.unh.edu (postal.iol.unh.edu. [2606:4100:3880:1234::84]) by smtp-relay.gmail.com with ESMTPS id 6a1803df08f44-6f6e39413cfsm1557126d6.0.2025.05.09.13.08.20 (version=TLS1_2 cipher=ECDHE-ECDSA-AES128-GCM-SHA256 bits=128/128); Fri, 09 May 2025 13:08:20 -0700 (PDT) X-Relaying-Domain: iol.unh.edu Date: Fri, 09 May 2025 13:08:20 -0700 (PDT) Message-ID: <681e60b4.d40a0220.1b7eef.8cc9SMTPIN_ADDED_MISSING@mx.google.com> Received: from [172.17.0.2] (unknown [172.18.0.76]) by postal.iol.unh.edu (Postfix) with ESMTP id 9C9516052471; Fri, 9 May 2025 16:08:20 -0400 (EDT) Subject: |SUCCESS| pw153389 [PATCH] net/ice: update log message From: dpdklab@iol.unh.edu To: Test Report Cc: dpdk-test-reports@iol.unh.edu In-Reply-To: <20250509162543.142225-1-dhanya.r.pillai@intel.com> References: <20250509162543.142225-1-dhanya.r.pillai@intel.com> Content-Type: text/plain X-BeenThere: test-report@dpdk.org X-Mailman-Version: 2.1.29 Precedence: list List-Id: automatic DPDK test reports List-Unsubscribe: , List-Archive: List-Post: List-Help: List-Subscribe: , Errors-To: test-report-bounces@dpdk.org Test-Label: iol-compile-arm64-testing Test-Status: SUCCESS http://dpdk.org/patch/153389 _Testing PASS_ Submitter: Pillai, Dhanya R Date: Friday, May 09 2025 16:25:38 DPDK git baseline: Repo:dpdk Branch: master CommitID:7cf0355db9fdab5648b05fd787356c391c510534 153389 --> testing pass Upstream job id: Generic-DPDK-Compile-Meson#386789 Test environment and result as below: +----------------------------------------+--------------------+ | Environment | dpdk_meson_compile | +========================================+====================+ | RHEL9 (ARM) | PASS | +----------------------------------------+--------------------+ | Ubuntu 20.04 ARM GCC Cross Compile | PASS | +----------------------------------------+--------------------+ | Ubuntu 20.04 ARM SVE | PASS | +----------------------------------------+--------------------+ | Fedora 40 (ARM) | PASS | +----------------------------------------+--------------------+ | Debian 12 with MUSDK | PASS | +----------------------------------------+--------------------+ | Fedora 41 (ARM Clang) | PASS | +----------------------------------------+--------------------+ | Ubuntu 20.04 (ARM) | PASS | +----------------------------------------+--------------------+ | Fedora 40 (ARM Clang) | PASS | +----------------------------------------+--------------------+ | Ubuntu 22.04 (ARM) | PASS | +----------------------------------------+--------------------+ | Fedora 41 (ARM) | PASS | +----------------------------------------+--------------------+ | Ubuntu 24.04 (ARM) | PASS | +----------------------------------------+--------------------+ | CentOS Stream 10 (ARM) | PASS | +----------------------------------------+--------------------+ | CentOS Stream 9 (ARM) | PASS | +----------------------------------------+--------------------+ | Debian 12 (arm) | PASS | +----------------------------------------+--------------------+ | Ubuntu 20.04 ARM Clang Cross Compile | PASS | +----------------------------------------+--------------------+ | Ubuntu 20.04 aarch32 GCC Cross Compile | PASS | +----------------------------------------+--------------------+ RHEL9 (ARM) Kernel: Depends on container host Compiler: gcc 11.5.0 20240719 (Red Hat 11.5.0-2) Ubuntu 20.04 ARM GCC Cross Compile Kernel: Depends on container host Compiler: aarch64-linux-gnu-gcc (Ubuntu 9.4.0-1ubuntu1~20.04.2) 9.4.0 Ubuntu 20.04 ARM SVE Kernel: Depends on container host Compiler: gcc (Ubuntu 10.5.0-1ubuntu1~20.04) 10.5.0 Fedora 40 (ARM) Kernel: Depends on container host Compiler: gcc 14.2.1 20240912 (Red Hat 14.2.1-3) Debian 12 with MUSDK Kernel: Depends on container host Compiler: gcc (Debian 12.2.0-14) 12.2.0 Fedora 41 (ARM Clang) Kernel: Depends on container host Compiler: clang 19.1.5 (Fedora 19.1.5-1.fc41) Ubuntu 20.04 (ARM) Kernel: Depends on container host Compiler: gcc (Ubuntu 9.4.0-1ubuntu1~20.04.2) 9.4.0 Fedora 40 (ARM Clang) Kernel: Depends on container host Compiler: clang 18.1.8 (Fedora 18.1.8-1.fc40) Ubuntu 22.04 (ARM) Kernel: Depends on container host Compiler: gcc (Ubuntu 11.4.0-1ubuntu1~22.04) 11.4.0 Fedora 41 (ARM) Kernel: Depends on container host Compiler: gcc 14.2.1 20240912 (Red Hat 14.2.1-3) Ubuntu 24.04 (ARM) Kernel: Depends on container host Compiler: gcc (Ubuntu 13.3.0-6ubuntu2~24.04) 13.3.0 CentOS Stream 10 (ARM) Kernel: Depends on container host Compiler: gcc 14.2.1 20241104 (Red Hat 14.2.1-6) CentOS Stream 9 (ARM) Kernel: Depends on container host Compiler: gcc 11.5.0 20240719 (Red Hat 11.5.0-2) Debian 12 (arm) Kernel: Depends on container host Compiler: gcc (Debian 12.2.0-14) 12.2.0 Ubuntu 20.04 ARM Clang Cross Compile Kernel: Depends on container host Compiler: clang 10.0.0-4ubuntu1 Ubuntu 20.04 aarch32 GCC Cross Compile Kernel: Depends on container host Compiler: gcc 9.4.0 To view detailed results, visit: https://lab.dpdk.org/results/dashboard/patchsets/33149/ UNH-IOL DPDK Community Lab To manage your email subscriptions, visit: https://lab.dpdk.org/results/dashboard/preferences/subscriptions/