From mboxrd@z Thu Jan 1 00:00:00 1970 Return-Path: Received: from mails.dpdk.org (mails.dpdk.org [217.70.189.124]) by inbox.dpdk.org (Postfix) with ESMTP id 01B8B46704 for ; Fri, 9 May 2025 22:08:37 +0200 (CEST) Received: from mails.dpdk.org (localhost [127.0.0.1]) by mails.dpdk.org (Postfix) with ESMTP id F26554025D; Fri, 9 May 2025 22:08:36 +0200 (CEST) Received: from mail-pf1-f228.google.com (mail-pf1-f228.google.com [209.85.210.228]) by mails.dpdk.org (Postfix) with ESMTP id 98EAE4025A for ; Fri, 9 May 2025 22:08:35 +0200 (CEST) Received: by mail-pf1-f228.google.com with SMTP id d2e1a72fcca58-73c17c770a7so3137976b3a.2 for ; Fri, 09 May 2025 13:08:35 -0700 (PDT) DKIM-Signature: v=1; a=rsa-sha256; c=relaxed/relaxed; d=iol.unh.edu; s=unh-iol; t=1746821314; x=1747426114; darn=dpdk.org; h=references:in-reply-to:cc:to:from:subject:message-id:date:from:to :cc:subject:date:message-id:reply-to; bh=GkN7Ogu/U+tIt8x+i8zgC80g935sDgSwGF2bc4b/vIQ=; b=SWNdgxIwmzTiso4dMY3msnCyvphecRQL08c1nVsBRKUqeqilXhpfaNlZXTwnWJqEfh eSDHXadBn2+Xdz1ha0+nsIkt9vS0OFnH4cmGQcKiQSBFG0GKzEHtnRxp17Q9cJTtI5gG 7Bbh09DYAA5RHEVnK4tluO6AKFtvQZeCoWYf0= X-Google-DKIM-Signature: v=1; a=rsa-sha256; c=relaxed/relaxed; d=1e100.net; s=20230601; t=1746821314; x=1747426114; h=references:in-reply-to:cc:to:from:subject:message-id:date :x-gm-message-state:from:to:cc:subject:date:message-id:reply-to; bh=GkN7Ogu/U+tIt8x+i8zgC80g935sDgSwGF2bc4b/vIQ=; b=uCRnwMr0D5tV8R8SdJv7fZh2Gtlu9xutfLZGEPaMUzOLbBJ3z8UuLtUjED7X7QERL5 tp/fVWqY1NlqlEJdFHH2+ewA0iF3U1edCphO6UqdZWd1uDFQScu+3xgYm6CWb36PmGCG xVIwL4I9ZCfT55vMjPJ0MVTbGMtzFDsYlAA/6Ugab2i2k/Fdz8oltKmrd3JsHZDhPCTZ +6b/3WBMSfU2booejZ0RBjjoBHXwSgRpGH/5Qn4JKjpHgRPwyWQ9/F47GKgM3/JZnqWU L/rZufcbRs+ni32aGWDlgN8qR6nPxJatcwPvqXqcuIib5QunNxdPcmxa4ZxYzHP+FzOO s/8g== X-Gm-Message-State: AOJu0YxZREysDKhpLvs0/2jRcNBCBpxXg9dvs2AQgdvL961yb4GsjkLo zFk+mzlXexb1l5DxJjybjiG4/fayOl8mVn7h27mLYH6I5ZpDl8SI9FlFwDPbAPEKtUv503jWYpg dOPzqMhN1XiktddsD8k8cF2enfLLM9sNYAz0lEbLU X-Gm-Gg: ASbGncvZOMNSmFpVjIgSet4juirVIBMKOwQ9acOrcSnymUty5W5E+IQIKWc60mztUrZ YrFi3VM0czURWxQjOIKDp7+kJLSE0AeMyjHRumITi5tJt7oz34ROmHp9mNvAOsnqObuHGT7oGOA M2fA++kpI5yJ2lsVAEpi8XSXE22v7t3B0Sobx0PPXKqp03QAgbVxsJS4U3mFJ3RENQ4SN6dSKJt Y/jBay/8iYYpzLbV1/MHC8MxocVZQNK8M+vmfAd6r5qoEdBV5RC5WEK31mJBI8oxnD2jQD91x/Z wM5US+kM2NJgK+i2uVRtpFVvP+eb5VzTu5bOeTyQ/qSqjOUXRCDAHELKUns= X-Google-Smtp-Source: AGHT+IGHzG7QILEuypoj87x1PSTWqjPiCEQ8mb93Scp3L6cqdX/3PcnDnyhPz2bfHj53OG3tTvQRGDd+iPxT X-Received: by 2002:a05:6a20:958e:b0:1fa:9819:c0a5 with SMTP id adf61e73a8af0-215abbbba99mr5863685637.11.1746821314509; Fri, 09 May 2025 13:08:34 -0700 (PDT) Received: from postal.iol.unh.edu (postal.iol.unh.edu. [132.177.123.84]) by smtp-relay.gmail.com with ESMTPS id d2e1a72fcca58-74237a0c2besm146413b3a.17.2025.05.09.13.08.34 (version=TLS1_2 cipher=ECDHE-ECDSA-AES128-GCM-SHA256 bits=128/128); Fri, 09 May 2025 13:08:34 -0700 (PDT) X-Relaying-Domain: iol.unh.edu Date: Fri, 09 May 2025 13:08:34 -0700 (PDT) Message-ID: <681e60c2.050a0220.b0d9b.80a0SMTPIN_ADDED_MISSING@mx.google.com> Received: from [172.17.0.2] (unknown [172.18.0.74]) by postal.iol.unh.edu (Postfix) with ESMTP id 3679D6052471; Fri, 9 May 2025 16:08:33 -0400 (EDT) Subject: |SUCCESS| pw153389 [PATCH] net/ice: update log message From: dpdklab@iol.unh.edu To: Test Report Cc: dpdk-test-reports@iol.unh.edu In-Reply-To: <20250509162543.142225-1-dhanya.r.pillai@intel.com> References: <20250509162543.142225-1-dhanya.r.pillai@intel.com> Content-Type: text/plain X-BeenThere: test-report@dpdk.org X-Mailman-Version: 2.1.29 Precedence: list List-Id: automatic DPDK test reports List-Unsubscribe: , List-Archive: List-Post: List-Help: List-Subscribe: , Errors-To: test-report-bounces@dpdk.org Test-Label: iol-compile-arm64-testing Test-Status: SUCCESS http://dpdk.org/patch/153389 _Testing PASS_ Submitter: Pillai, Dhanya R Date: Friday, May 09 2025 16:25:38 DPDK git baseline: Repo:dpdk Branch: master CommitID:7cf0355db9fdab5648b05fd787356c391c510534 153389 --> testing pass Upstream job id: Generic-DPDK-Compile-Meson#386791 Test environment and result as below: +----------------------------------------+--------------------+ | Environment | dpdk_meson_compile | +========================================+====================+ | RHEL9 (ARM) | PASS | +----------------------------------------+--------------------+ | Ubuntu 20.04 ARM GCC Cross Compile | PASS | +----------------------------------------+--------------------+ | Ubuntu 20.04 ARM SVE | PASS | +----------------------------------------+--------------------+ | Fedora 40 (ARM) | PASS | +----------------------------------------+--------------------+ | Debian 12 with MUSDK | PASS | +----------------------------------------+--------------------+ | Fedora 41 (ARM Clang) | PASS | +----------------------------------------+--------------------+ | Ubuntu 20.04 (ARM) | PASS | +----------------------------------------+--------------------+ | Fedora 40 (ARM Clang) | PASS | +----------------------------------------+--------------------+ | Ubuntu 22.04 (ARM) | PASS | +----------------------------------------+--------------------+ | Fedora 41 (ARM) | PASS | +----------------------------------------+--------------------+ | Ubuntu 24.04 (ARM) | PASS | +----------------------------------------+--------------------+ | CentOS Stream 10 (ARM) | PASS | +----------------------------------------+--------------------+ | CentOS Stream 9 (ARM) | PASS | +----------------------------------------+--------------------+ | Debian 12 (arm) | PASS | +----------------------------------------+--------------------+ | Ubuntu 20.04 ARM Clang Cross Compile | PASS | +----------------------------------------+--------------------+ | Ubuntu 20.04 aarch32 GCC Cross Compile | PASS | +----------------------------------------+--------------------+ RHEL9 (ARM) Kernel: Depends on container host Compiler: gcc 11.5.0 20240719 (Red Hat 11.5.0-2) Ubuntu 20.04 ARM GCC Cross Compile Kernel: Depends on container host Compiler: aarch64-linux-gnu-gcc (Ubuntu 9.4.0-1ubuntu1~20.04.2) 9.4.0 Ubuntu 20.04 ARM SVE Kernel: Depends on container host Compiler: gcc (Ubuntu 10.5.0-1ubuntu1~20.04) 10.5.0 Fedora 40 (ARM) Kernel: Depends on container host Compiler: gcc 14.2.1 20240912 (Red Hat 14.2.1-3) Debian 12 with MUSDK Kernel: Depends on container host Compiler: gcc (Debian 12.2.0-14) 12.2.0 Fedora 41 (ARM Clang) Kernel: Depends on container host Compiler: clang 19.1.5 (Fedora 19.1.5-1.fc41) Ubuntu 20.04 (ARM) Kernel: Depends on container host Compiler: gcc (Ubuntu 9.4.0-1ubuntu1~20.04.2) 9.4.0 Fedora 40 (ARM Clang) Kernel: Depends on container host Compiler: clang 18.1.8 (Fedora 18.1.8-1.fc40) Ubuntu 22.04 (ARM) Kernel: Depends on container host Compiler: gcc (Ubuntu 11.4.0-1ubuntu1~22.04) 11.4.0 Fedora 41 (ARM) Kernel: Depends on container host Compiler: gcc 14.2.1 20240912 (Red Hat 14.2.1-3) Ubuntu 24.04 (ARM) Kernel: Depends on container host Compiler: gcc (Ubuntu 13.3.0-6ubuntu2~24.04) 13.3.0 CentOS Stream 10 (ARM) Kernel: Depends on container host Compiler: gcc 14.2.1 20241104 (Red Hat 14.2.1-6) CentOS Stream 9 (ARM) Kernel: Depends on container host Compiler: gcc 11.5.0 20240719 (Red Hat 11.5.0-2) Debian 12 (arm) Kernel: Depends on container host Compiler: gcc (Debian 12.2.0-14) 12.2.0 Ubuntu 20.04 ARM Clang Cross Compile Kernel: Depends on container host Compiler: clang 10.0.0-4ubuntu1 Ubuntu 20.04 aarch32 GCC Cross Compile Kernel: Depends on container host Compiler: gcc 9.4.0 To view detailed results, visit: https://lab.dpdk.org/results/dashboard/patchsets/33149/ UNH-IOL DPDK Community Lab To manage your email subscriptions, visit: https://lab.dpdk.org/results/dashboard/preferences/subscriptions/