From mboxrd@z Thu Jan 1 00:00:00 1970 Return-Path: Received: from mails.dpdk.org (mails.dpdk.org [217.70.189.124]) by inbox.dpdk.org (Postfix) with ESMTP id 74A7046704 for ; Fri, 9 May 2025 22:52:35 +0200 (CEST) Received: from mails.dpdk.org (localhost [127.0.0.1]) by mails.dpdk.org (Postfix) with ESMTP id 569E04025D; Fri, 9 May 2025 22:52:35 +0200 (CEST) Received: from mail-qv1-f100.google.com (mail-qv1-f100.google.com [209.85.219.100]) by mails.dpdk.org (Postfix) with ESMTP id C71A44025A for ; Fri, 9 May 2025 22:52:33 +0200 (CEST) Received: by mail-qv1-f100.google.com with SMTP id 6a1803df08f44-6f6e398767eso20318926d6.1 for ; Fri, 09 May 2025 13:52:33 -0700 (PDT) DKIM-Signature: v=1; a=rsa-sha256; c=relaxed/relaxed; d=iol.unh.edu; s=unh-iol; t=1746823953; x=1747428753; darn=dpdk.org; h=references:in-reply-to:cc:to:from:subject:message-id:date:from:to :cc:subject:date:message-id:reply-to; bh=eLcWMASLYhwb1043qUkDMoF34QV8+Xt15CvQ4UIgRgg=; b=MitwjzApBH4OwGMyH+77CGEc44jWrVoyBKLsvASaqV+x8pxsj9u6K6xHx2aMMW/UUq 8OAMu7nZnjdsKsNP/eyCLM3y18YOOw7UVWVb8Br4jlNkBZl++voDfiLB2Ju9EZAQSH5f kXazIDc4lwH148NbmxF4fiitZT79JHumc0DA4= X-Google-DKIM-Signature: v=1; a=rsa-sha256; c=relaxed/relaxed; d=1e100.net; s=20230601; t=1746823953; x=1747428753; h=references:in-reply-to:cc:to:from:subject:message-id:date :x-gm-message-state:from:to:cc:subject:date:message-id:reply-to; bh=eLcWMASLYhwb1043qUkDMoF34QV8+Xt15CvQ4UIgRgg=; b=GMraWlwBTiDMIs/ioSBiKY3SaC4wxmqbz7A7MY+hNU4iWzwh7Frv/V2ehLS/a3ayrp v+H2qWobbNM9gl5mNeu5x5L15WdakUhx6bzivbR/scDfBqktkirwaqV7WqYAtbju33lr hNxOFvVEamiYER9BzZVGVCBgs5Q69N7aSPz+TFyPE/Cs9WoY8g+B0J6x40jyy56fJvRq fReAnc+NuKkntUlvoXCybAKQo/t27MEvl6/tokL/LBCEIMUGWskhvLXuh45polZU4drf A8qqf+TpRi7dZxXef9E6FtwQ4t5w2fNaR7MCpm7wPE3vS4o05fwZmAziCYmtCE/SzgVu PM7w== X-Gm-Message-State: AOJu0YwSDxVDcN5Ajg9R5EBbymQj0mAA/mHZN3sKxZczWM1+ddZ3kOUy G0xQkiBfDdMvRWS9ivhwu+V1KMiHaDZETniUtB+kCxH9Rko/uM10S5hEoy1SUr+Nk2WT1j3bf4T DdZtHrZ5pYXH+W6NAfjOiboV4+cDkrKNuW6uyPOpC X-Gm-Gg: ASbGncsOi0dWs5ZZ/LK5lO5PjQYFwRw+I2ogelc7HkWUJvyx2R+ZqoeZfdbDVY5uyoF DfKclnunDtL3DkJyR/U2nTSugBnNYvLSh4tMRtOlJn42eZ7yqZAzn0u2G8L3W2kP0gvmjcRX1U/ OaRAy3RLLTjr9rd5X+8DiSTQe+jNF07HOr4ulLFWT0ATWBjqZxtVe56u2mbwPzYeOH0Fmyr+y/+ BhgPBe8IvEWl/sT0xfUucVwsi+gPQri6BobLtM1362a5o2+o0uD6y5cSRspconssMuxPTQDLcTN Iy8VNOlSeM60VatxdO/MmFbUsW01naKkhYmgtiqHcBr1UesOd0A6enl+KK8= X-Google-Smtp-Source: AGHT+IGo/S7zb1hKmRDOarJXaxIRBpCY/F3djmDCVc+9crGBqviI49NgEBI1Ulrvqh28EtuIsAZkZ1O4GxsQ X-Received: by 2002:ad4:5cc3:0:b0:6f4:f157:40ad with SMTP id 6a1803df08f44-6f6e472aeefmr67482366d6.2.1746823953107; Fri, 09 May 2025 13:52:33 -0700 (PDT) Received: from postal.iol.unh.edu (postal.iol.unh.edu. [132.177.123.84]) by smtp-relay.gmail.com with ESMTPS id 6a1803df08f44-6f6e39f878asm1553336d6.22.2025.05.09.13.52.33 (version=TLS1_2 cipher=ECDHE-ECDSA-AES128-GCM-SHA256 bits=128/128); Fri, 09 May 2025 13:52:33 -0700 (PDT) X-Relaying-Domain: iol.unh.edu Date: Fri, 09 May 2025 13:52:33 -0700 (PDT) Message-ID: <681e6b11.050a0220.80bd3.926eSMTPIN_ADDED_MISSING@mx.google.com> Received: from [172.17.0.2] (unknown [172.18.0.74]) by postal.iol.unh.edu (Postfix) with ESMTP id BEE196052471; Fri, 9 May 2025 16:52:32 -0400 (EDT) Subject: |SUCCESS| pw153386-153388 [PATCH] [v10,3/3] app/testpmd: add sleep c From: dpdklab@iol.unh.edu To: Test Report Cc: dpdk-test-reports@iol.unh.edu In-Reply-To: <2ded7147fd7db8c3cc4579e7126a1deede653828.1746801711.git.anatoly.burakov@intel.com> References: <2ded7147fd7db8c3cc4579e7126a1deede653828.1746801711.git.anatoly.burakov@intel.com> Content-Type: text/plain X-BeenThere: test-report@dpdk.org X-Mailman-Version: 2.1.29 Precedence: list List-Id: automatic DPDK test reports List-Unsubscribe: , List-Archive: List-Post: List-Help: List-Subscribe: , Errors-To: test-report-bounces@dpdk.org Test-Label: iol-compile-arm64-testing Test-Status: SUCCESS http://dpdk.org/patch/153388 _Testing PASS_ Submitter: Burakov, Anatoly Date: Friday, May 09 2025 14:41:58 DPDK git baseline: Repo:dpdk Branch: master CommitID:75f179ebe347b6098cf3af26d3d3b7168fe3fe24 153386-153388 --> testing pass Upstream job id: Generic-DPDK-Compile-Meson#386822 Test environment and result as below: +----------------------------------------+--------------------+ | Environment | dpdk_meson_compile | +========================================+====================+ | RHEL9 (ARM) | PASS | +----------------------------------------+--------------------+ | Ubuntu 20.04 ARM GCC Cross Compile | PASS | +----------------------------------------+--------------------+ | Fedora 41 (ARM) | PASS | +----------------------------------------+--------------------+ | Fedora 41 (ARM Clang) | PASS | +----------------------------------------+--------------------+ | Ubuntu 22.04 (ARM) | PASS | +----------------------------------------+--------------------+ | Ubuntu 20.04 ARM SVE | PASS | +----------------------------------------+--------------------+ | Fedora 40 (ARM Clang) | PASS | +----------------------------------------+--------------------+ | Ubuntu 24.04 (ARM) | PASS | +----------------------------------------+--------------------+ | Fedora 40 (ARM) | PASS | +----------------------------------------+--------------------+ | Debian 12 with MUSDK | PASS | +----------------------------------------+--------------------+ | Ubuntu 20.04 (ARM) | PASS | +----------------------------------------+--------------------+ | CentOS Stream 9 (ARM) | PASS | +----------------------------------------+--------------------+ | Ubuntu 20.04 aarch32 GCC Cross Compile | PASS | +----------------------------------------+--------------------+ | Debian 12 (arm) | PASS | +----------------------------------------+--------------------+ | Ubuntu 20.04 ARM Clang Cross Compile | PASS | +----------------------------------------+--------------------+ | CentOS Stream 10 (ARM) | PASS | +----------------------------------------+--------------------+ RHEL9 (ARM) Kernel: Depends on container host Compiler: gcc 11.5.0 20240719 (Red Hat 11.5.0-2) Ubuntu 20.04 ARM GCC Cross Compile Kernel: Depends on container host Compiler: aarch64-linux-gnu-gcc (Ubuntu 9.4.0-1ubuntu1~20.04.2) 9.4.0 Fedora 41 (ARM) Kernel: Depends on container host Compiler: gcc 14.2.1 20240912 (Red Hat 14.2.1-3) Fedora 41 (ARM Clang) Kernel: Depends on container host Compiler: clang 19.1.5 (Fedora 19.1.5-1.fc41) Ubuntu 22.04 (ARM) Kernel: Depends on container host Compiler: gcc (Ubuntu 11.4.0-1ubuntu1~22.04) 11.4.0 Ubuntu 20.04 ARM SVE Kernel: Depends on container host Compiler: gcc (Ubuntu 10.5.0-1ubuntu1~20.04) 10.5.0 Fedora 40 (ARM Clang) Kernel: Depends on container host Compiler: clang 18.1.8 (Fedora 18.1.8-1.fc40) Ubuntu 24.04 (ARM) Kernel: Depends on container host Compiler: gcc (Ubuntu 13.3.0-6ubuntu2~24.04) 13.3.0 Fedora 40 (ARM) Kernel: Depends on container host Compiler: gcc 14.2.1 20240912 (Red Hat 14.2.1-3) Debian 12 with MUSDK Kernel: Depends on container host Compiler: gcc (Debian 12.2.0-14) 12.2.0 Ubuntu 20.04 (ARM) Kernel: Depends on container host Compiler: gcc (Ubuntu 9.4.0-1ubuntu1~20.04.2) 9.4.0 CentOS Stream 9 (ARM) Kernel: Depends on container host Compiler: gcc 11.5.0 20240719 (Red Hat 11.5.0-2) Ubuntu 20.04 aarch32 GCC Cross Compile Kernel: Depends on container host Compiler: gcc 9.4.0 Debian 12 (arm) Kernel: Depends on container host Compiler: gcc (Debian 12.2.0-14) 12.2.0 Ubuntu 20.04 ARM Clang Cross Compile Kernel: Depends on container host Compiler: clang 10.0.0-4ubuntu1 CentOS Stream 10 (ARM) Kernel: Depends on container host Compiler: gcc 14.2.1 20241104 (Red Hat 14.2.1-6) To view detailed results, visit: https://lab.dpdk.org/results/dashboard/patchsets/33148/ UNH-IOL DPDK Community Lab To manage your email subscriptions, visit: https://lab.dpdk.org/results/dashboard/preferences/subscriptions/