From mboxrd@z Thu Jan 1 00:00:00 1970 Return-Path: Received: from mails.dpdk.org (mails.dpdk.org [217.70.189.124]) by inbox.dpdk.org (Postfix) with ESMTP id F145746704 for ; Sat, 10 May 2025 01:23:35 +0200 (CEST) Received: from mails.dpdk.org (localhost [127.0.0.1]) by mails.dpdk.org (Postfix) with ESMTP id E99494025D; Sat, 10 May 2025 01:23:35 +0200 (CEST) Received: from mail-pg1-f226.google.com (mail-pg1-f226.google.com [209.85.215.226]) by mails.dpdk.org (Postfix) with ESMTP id 2B1CF4025A for ; Sat, 10 May 2025 01:23:34 +0200 (CEST) Received: by mail-pg1-f226.google.com with SMTP id 41be03b00d2f7-7fd35b301bdso2978044a12.2 for ; Fri, 09 May 2025 16:23:34 -0700 (PDT) DKIM-Signature: v=1; a=rsa-sha256; c=relaxed/relaxed; d=iol.unh.edu; s=unh-iol; t=1746833013; x=1747437813; darn=dpdk.org; h=references:in-reply-to:cc:to:from:subject:message-id:date:from:to :cc:subject:date:message-id:reply-to; bh=7vJ0FpkMUXsUGG0a9hqSmEca8XUc6XJtG9xztr81rZ8=; b=SJ1nbWedrOqMJeTmRRzXTZN8Wizgd/EqWiLM7JEw5EJzh1473kdbv/y7MNm0TzoeNU ND5L8GuIaBjm5exef8XQU2EmFfvKFTh1KY2Ir/apJoBerHzUQHhplGFYC9/mbNIMVKnb 8vjo2QjBlSqVmRnzXf6xgM8JRnbvepZXHJaVc= X-Google-DKIM-Signature: v=1; a=rsa-sha256; c=relaxed/relaxed; d=1e100.net; s=20230601; t=1746833013; x=1747437813; h=references:in-reply-to:cc:to:from:subject:message-id:date :x-gm-message-state:from:to:cc:subject:date:message-id:reply-to; bh=7vJ0FpkMUXsUGG0a9hqSmEca8XUc6XJtG9xztr81rZ8=; b=RCkjq/QB2WQT6t0ZCgpEcvOt+5JWoCUSqMmSmNsWmUpPD58jUXHD38ijllwf61dZyZ 2S1z3yRODvySuDb/uod0niqWMRPqbSn7XV7QpgyDiMvI4qEgJGvOgQ3QWQoS0zI4cJ8z 0hW2XpobmqOY5xyBW/dY/jLFIXJbHwvOisuHdlaK0mUjS5d0Uy/1vlq9eHv49riKm55p wqSuuy9FmtC22cUJuKiaxwFocbFp3zwRwlJWBA03jkiuNqrj7EmJ2PyuRgB4F/6x45Ig p6bRXxeJGGqYywNz3vX8JJ66Q/NLXRR+ufBcAQoM+wPjYfk9zS7FgzDVtzDgqdTZg3eN JMMA== X-Gm-Message-State: AOJu0YymLhlU8GsnEJeq3iOkfDn+OjLbx2PrSmYGZcesGXxcf9WoDNYI Oom9ZqH6Nl/yXzZ5FVQIizt9f0Hbqp7wnwuULFX65gn/aoJMeXCAJbnpE0v5Xbhl5tKXdFRo5R4 HAHlWng9Y78FC07LC2MAfiQfv7usE+w1X7fF5l1gKbyRtp1K3x2izNcQM X-Gm-Gg: ASbGncvxXko9jwUkmyKeyPW420YhHaM0j9SWUBNwP+IzMjxomDG2Spp3EmgaMuL3Cug ZsuzJEMVCZJ8abZP1GUxmrDZxqyLg3shWCS3gY/anzsG4iprGqF8YyW47/Tu/NSNypfjikRiVR/ HVIxHRHo5JpPPfufsw7k06JVptqY3ozQMZUMsSfystebxsOCorRVJUwdI5z1j8As0zsVkhW5yRt gfVg5oGleYYf7JGeJ6ubcFqdoHsID9jLa8Z6qnWlNR2COIV2xfzFznswebuvQ8Nrnv48+WWU5x+ 6qPJyXMAK7uqGKX1H5dYGtSMQfQYiQelCPpL X-Google-Smtp-Source: AGHT+IF5BlxF/TSgWdndyPQismaHOXTMpYUqfyDM8jIrnfc2KF9IRhA1HHBKVlK+CeS1FWGd16PnBbWV202A X-Received: by 2002:a17:903:41c7:b0:220:be86:a421 with SMTP id d9443c01a7336-22fc9185f46mr75279735ad.38.1746833012991; Fri, 09 May 2025 16:23:32 -0700 (PDT) Received: from postal.iol.unh.edu (postal.iol.unh.edu. [2606:4100:3880:1234::84]) by smtp-relay.gmail.com with ESMTPS id d9443c01a7336-22fc6f11192sm1552695ad.83.2025.05.09.16.23.32 (version=TLS1_2 cipher=ECDHE-ECDSA-AES128-GCM-SHA256 bits=128/128); Fri, 09 May 2025 16:23:32 -0700 (PDT) X-Relaying-Domain: iol.unh.edu Date: Fri, 09 May 2025 16:23:32 -0700 (PDT) Message-ID: <681e8e74.170a0220.1f814b.8a13SMTPIN_ADDED_MISSING@mx.google.com> Received: from [172.17.0.2] (unknown [172.18.0.74]) by postal.iol.unh.edu (Postfix) with ESMTP id 622006052471; Fri, 9 May 2025 19:23:32 -0400 (EDT) Subject: |SUCCESS| pw153390 [PATCH] regexdev: enable to be compiled on Window From: dpdklab@iol.unh.edu To: Test Report Cc: dpdk-test-reports@iol.unh.edu In-Reply-To: <1746827534-19881-1-git-send-email-andremue@linux.microsoft.com> References: <1746827534-19881-1-git-send-email-andremue@linux.microsoft.com> Content-Type: text/plain X-BeenThere: test-report@dpdk.org X-Mailman-Version: 2.1.29 Precedence: list List-Id: automatic DPDK test reports List-Unsubscribe: , List-Archive: List-Post: List-Help: List-Subscribe: , Errors-To: test-report-bounces@dpdk.org Test-Label: iol-compile-amd64-testing Test-Status: SUCCESS http://dpdk.org/patch/153390 _Testing PASS_ Submitter: Andre Muezerie Date: Friday, May 09 2025 21:52:14 DPDK git baseline: Repo:dpdk Branch: master CommitID:75f179ebe347b6098cf3af26d3d3b7168fe3fe24 153390 --> testing pass Upstream job id: Generic-DPDK-Compile-Meson#386836 Test environment and result as below: +-----------------------------------+--------------------+-------------------+------------------+-------------------------+-------------------+----------------------+ | Environment | dpdk_meson_compile | dpdk_compile_spdk | dpdk_compile_ovs | dpdk_llvm_clang_compile | dpdk_msvc_compile | dpdk_mingw64_compile | +===================================+====================+===================+==================+=========================+===================+======================+ | CentOS Stream 10 | PASS | SKIPPED | SKIPPED | SKIPPED | SKIPPED | SKIPPED | +-----------------------------------+--------------------+-------------------+------------------+-------------------------+-------------------+----------------------+ | Debian 12 | PASS | PASS | SKIPPED | SKIPPED | SKIPPED | SKIPPED | +-----------------------------------+--------------------+-------------------+------------------+-------------------------+-------------------+----------------------+ | CentOS Stream 9 | PASS | PASS | SKIPPED | SKIPPED | SKIPPED | SKIPPED | +-----------------------------------+--------------------+-------------------+------------------+-------------------------+-------------------+----------------------+ | Fedora 41 | PASS | PASS | PASS | SKIPPED | SKIPPED | SKIPPED | +-----------------------------------+--------------------+-------------------+------------------+-------------------------+-------------------+----------------------+ | Fedora 41 (Clang) | PASS | PASS | PASS | SKIPPED | SKIPPED | SKIPPED | +-----------------------------------+--------------------+-------------------+------------------+-------------------------+-------------------+----------------------+ | Fedora 40 (Clang) | PASS | PASS | SKIPPED | SKIPPED | SKIPPED | SKIPPED | +-----------------------------------+--------------------+-------------------+------------------+-------------------------+-------------------+----------------------+ | Fedora 40 | PASS | PASS | SKIPPED | SKIPPED | SKIPPED | SKIPPED | +-----------------------------------+--------------------+-------------------+------------------+-------------------------+-------------------+----------------------+ | RHEL8 | PASS | SKIPPED | SKIPPED | SKIPPED | SKIPPED | SKIPPED | +-----------------------------------+--------------------+-------------------+------------------+-------------------------+-------------------+----------------------+ | Ubuntu 20.04 | PASS | SKIPPED | SKIPPED | SKIPPED | SKIPPED | SKIPPED | +-----------------------------------+--------------------+-------------------+------------------+-------------------------+-------------------+----------------------+ | RHEL9 | PASS | SKIPPED | SKIPPED | SKIPPED | SKIPPED | SKIPPED | +-----------------------------------+--------------------+-------------------+------------------+-------------------------+-------------------+----------------------+ | openSUSE Leap 15 | PASS | SKIPPED | SKIPPED | SKIPPED | SKIPPED | SKIPPED | +-----------------------------------+--------------------+-------------------+------------------+-------------------------+-------------------+----------------------+ | Ubuntu 22.04 | PASS | PASS | SKIPPED | SKIPPED | SKIPPED | SKIPPED | +-----------------------------------+--------------------+-------------------+------------------+-------------------------+-------------------+----------------------+ | Ubuntu 24.04 | PASS | PASS | PASS | SKIPPED | SKIPPED | SKIPPED | +-----------------------------------+--------------------+-------------------+------------------+-------------------------+-------------------+----------------------+ | Ubuntu 24.04 32 Bit Cross Compile | PASS | SKIPPED | SKIPPED | SKIPPED | SKIPPED | SKIPPED | +-----------------------------------+--------------------+-------------------+------------------+-------------------------+-------------------+----------------------+ | Alpine | PASS | SKIPPED | SKIPPED | SKIPPED | SKIPPED | SKIPPED | +-----------------------------------+--------------------+-------------------+------------------+-------------------------+-------------------+----------------------+ | FreeBSD 13.5 | PASS | SKIPPED | SKIPPED | SKIPPED | SKIPPED | SKIPPED | +-----------------------------------+--------------------+-------------------+------------------+-------------------------+-------------------+----------------------+ | FreeBSD 14.2 | PASS | SKIPPED | SKIPPED | SKIPPED | SKIPPED | SKIPPED | +-----------------------------------+--------------------+-------------------+------------------+-------------------------+-------------------+----------------------+ | Windows Server 2022 | SKIPPED | SKIPPED | SKIPPED | PASS | PASS | PASS | +-----------------------------------+--------------------+-------------------+------------------+-------------------------+-------------------+----------------------+ CentOS Stream 10 Kernel: Depends on container host Compiler: gcc 14.2.1 20241104 (Red Hat 14.2.1-6) Debian 12 Kernel: Depends on container host Compiler: gcc (Debian 12.2.0-14) 12.2.0 CentOS Stream 9 Kernel: Depends on container host Compiler: gcc 11.5.0 20240719 (Red Hat 11.5.0-2) Fedora 41 Kernel: Depends on container host Compiler: gcc 14.2.1 20240912 (Red Hat 14.2.1-3) Fedora 41 (Clang) Kernel: Depends on container host Compiler: clang 19.1.5 (Fedora 19.1.5-1.fc41) Fedora 40 (Clang) Kernel: Depends on container host Compiler: clang 18.1.8 (Fedora 18.1.8-1.fc40) Fedora 40 Kernel: Depends on container host Compiler: gcc 14.2.1 20240912 (Red Hat 14.2.1-3) RHEL8 Kernel: Depends on container host Compiler: gcc 8.5.0 20210514 (Red Hat 8.5.0-22) Ubuntu 20.04 Kernel: Depends on container host Compiler: gcc (Ubuntu 9.4.0-1ubuntu1~20.04.2) 9.4.0 RHEL9 Kernel: Depends on container host Compiler: gcc 11.5.0 20240719 (Red Hat 11.5.0-2) openSUSE Leap 15 Kernel: Depends on container host Compiler: gcc (SUSE Linux) 7.5.0 Ubuntu 22.04 Kernel: Depends on container host Compiler: gcc (Ubuntu 11.4.0-1ubuntu1~22.04) 11.4.0 Ubuntu 24.04 Kernel: Depends on container host Compiler: gcc (Ubuntu 13.3.0-6ubuntu2~24.04) 13.3.0 Ubuntu 24.04 32 Bit Cross Compile Kernel: Depends on container host Compiler: gcc (Ubuntu 13.3.0-6ubuntu2~24.04) 13.3.0 Alpine Kernel: Depends on container host Compiler: gcc (Alpine 14.2.0) 14.2.0 FreeBSD 13.5 Kernel: 13.5-RELEASE Compiler: clang 19.1.7 FreeBSD 14.2 Kernel: 14.2-RELEASE Compiler: clang 18.1.6 Windows Server 2022 Kernel: 10.0.20348.2031 Compiler: clang 15.0.7, gcc 14.1.0 (MinGW), and MSVC VS 19.39.33521 To view detailed results, visit: https://lab.dpdk.org/results/dashboard/patchsets/33150/ UNH-IOL DPDK Community Lab To manage your email subscriptions, visit: https://lab.dpdk.org/results/dashboard/preferences/subscriptions/