From mboxrd@z Thu Jan 1 00:00:00 1970 Return-Path: Received: from mails.dpdk.org (mails.dpdk.org [217.70.189.124]) by inbox.dpdk.org (Postfix) with ESMTP id 1380446704 for ; Sat, 10 May 2025 01:32:49 +0200 (CEST) Received: from mails.dpdk.org (localhost [127.0.0.1]) by mails.dpdk.org (Postfix) with ESMTP id 0F6AB4025D; Sat, 10 May 2025 01:32:49 +0200 (CEST) Received: from mail-il1-f228.google.com (mail-il1-f228.google.com [209.85.166.228]) by mails.dpdk.org (Postfix) with ESMTP id 1AF974025A for ; Sat, 10 May 2025 01:32:47 +0200 (CEST) Received: by mail-il1-f228.google.com with SMTP id e9e14a558f8ab-3d948ce7d9dso10620655ab.2 for ; Fri, 09 May 2025 16:32:47 -0700 (PDT) DKIM-Signature: v=1; a=rsa-sha256; c=relaxed/relaxed; d=iol.unh.edu; s=unh-iol; t=1746833566; x=1747438366; darn=dpdk.org; h=references:in-reply-to:cc:to:from:subject:message-id:date:from:to :cc:subject:date:message-id:reply-to; bh=D/VfcQJvTXD/yrFS2ALRY6n+nwLqH1eVs4P/JbsFkGc=; b=TLUmrLt5zNesr+GDaLjuaotUlXi2OblmrOjd2hHwxXSwMU0x8Ft57z3AjP9iP6YRdU MM/v7egs8PlYnLNpY5KrD0t7mY2KnEPpvEMIkfMyBU3Jpux48i8I6vM1p2lM7rXqhQoS 6OaEWg7p9gsJ5q6WORNcsuUtySuIUwHb4W2Rg= X-Google-DKIM-Signature: v=1; a=rsa-sha256; c=relaxed/relaxed; d=1e100.net; s=20230601; t=1746833566; x=1747438366; h=references:in-reply-to:cc:to:from:subject:message-id:date :x-gm-message-state:from:to:cc:subject:date:message-id:reply-to; bh=D/VfcQJvTXD/yrFS2ALRY6n+nwLqH1eVs4P/JbsFkGc=; b=Z9Jv0CAEEkl8AerOH7LdUcXijgBHkrXnWVhQECxiQljz/4tWZp2iQ+YeYrJER8V5wo KnIPsWWBI7Egw/dcb4cIU1mjbjnjl90+YMHxowAHib2OHnVq0JcvCNLwPtJ5ab4abo8M PGdpUX8EYPSLQ3A2mXCIRqJsQOp2s9cuPR00rLc7rH7fzpwDj37UrpoJkIliUBdSkQQ5 K2LU2xNP16xHUlCDYwQIIhWf9Px2gkiPnu5guwnR8BnjI4s2OxLLuOmVble7mb0ikYeY phb/zn8bTZJ+lVxjXQRV4cSI+hm6C7x5A6993czCTjlEg1qcvNUcBz5KvyjfnnycACuq KJUg== X-Gm-Message-State: AOJu0Yy+QZvfwu0it9RH2EO+SEFDJkspddEcny5+eLj1wctIaIew38GH CXvjiua+JP+2zv4jxWm0Q+9BpX5nj8yNUGRKyYrBdNQ2lzsTy5tHgFQaVoVKYWFWedz8VvjbWHy 3ffS5wOQhj3xAEAn2c4O5+8rDgitqj6ODaRP4ewa0 X-Gm-Gg: ASbGncvC9ufRtlFR3o6LUCLdFQJI+6ta1Nq+EWUrlDnrTu7ejNpHUjA4+EDqjZa3r8E 8FDMEAG2iHPb6Ky3vUl/FIy4lhj05+zzSAC9prJbMMJj4XJS46JenKFjcYoodYH0Wa8sECYLMAh acN4AeWXndwfa5p+hwNdUt3EaWIzD1m47qjgAP5b1bDSfUm56caqajvLj027gUfQF3OLIBFiRJi 1KyUHPXzfXg/l3eGib3vXomVoWP4Lw/DcwrVafhDB8WtUEERuXlHa4EfbB/BIbAaUp402sg1ECF +tFTDsjjzCkyjRLtm3jfy2jKtbCytQCdv0j3VYQ6nXPvTeZ4dQCII8rDN6A= X-Google-Smtp-Source: AGHT+IHZUn1s0K3m88JeNK8RUa7V+BXSlVPMs7RKLUQ0Q0prwHO9mFlHYQNT5nPgpHAFbsT7tTnJAShe3Sgz X-Received: by 2002:a05:6e02:1a02:b0:3d3:fbf9:194b with SMTP id e9e14a558f8ab-3da7e1645dfmr72741245ab.0.1746833566406; Fri, 09 May 2025 16:32:46 -0700 (PDT) Received: from postal.iol.unh.edu (postal.iol.unh.edu. [132.177.123.84]) by smtp-relay.gmail.com with ESMTPS id 8926c6da1cb9f-4fa2242e901sm59322173.8.2025.05.09.16.32.46 (version=TLS1_2 cipher=ECDHE-ECDSA-AES128-GCM-SHA256 bits=128/128); Fri, 09 May 2025 16:32:46 -0700 (PDT) X-Relaying-Domain: iol.unh.edu Date: Fri, 09 May 2025 16:32:46 -0700 (PDT) Message-ID: <681e909e.050a0220.203a17.33e9SMTPIN_ADDED_MISSING@mx.google.com> Received: from [172.17.0.2] (unknown [172.18.0.74]) by postal.iol.unh.edu (Postfix) with ESMTP id D6BED6052471; Fri, 9 May 2025 19:32:45 -0400 (EDT) Subject: |SUCCESS| pw153390 [PATCH] regexdev: enable to be compiled on Window From: dpdklab@iol.unh.edu To: Test Report Cc: dpdk-test-reports@iol.unh.edu In-Reply-To: <1746827534-19881-1-git-send-email-andremue@linux.microsoft.com> References: <1746827534-19881-1-git-send-email-andremue@linux.microsoft.com> Content-Type: text/plain X-BeenThere: test-report@dpdk.org X-Mailman-Version: 2.1.29 Precedence: list List-Id: automatic DPDK test reports List-Unsubscribe: , List-Archive: List-Post: List-Help: List-Subscribe: , Errors-To: test-report-bounces@dpdk.org Test-Label: iol-sample-apps-testing Test-Status: SUCCESS http://dpdk.org/patch/153390 _Testing PASS_ Submitter: Andre Muezerie Date: Friday, May 09 2025 21:52:14 DPDK git baseline: Repo:dpdk Branch: master CommitID:75f179ebe347b6098cf3af26d3d3b7168fe3fe24 153390 --> testing pass Upstream job id: ACVP-FIPS-testing#9770 Test environment and result as below: +--------------------+----------------------+----------------------+ | Environment | dpdk_fips_validation | compressdev_zlib_pmd | +====================+======================+======================+ | Ubuntu 20.04 | PASS | SKIPPED | +--------------------+----------------------+----------------------+ | Ubuntu 22.04 (ARM) | SKIPPED | PASS | +--------------------+----------------------+----------------------+ | Ubuntu 22.04 | SKIPPED | PASS | +--------------------+----------------------+----------------------+ Ubuntu 20.04 Kernel: Depends on container host Compiler: gcc (Ubuntu 9.4.0-1ubuntu1~20.04.2) 9.4.0 Ubuntu 22.04 (ARM) Kernel: 5.15.0-97-generic Compiler: gcc gcc (Ubuntu 11.4.0-1ubuntu1~22.04) 11.4.0 Ubuntu 22.04 Kernel: 5.15.0-100-generic Compiler: gcc gcc (Ubuntu 11.4.0-1ubuntu1~22.04) 11.4.0 To view detailed results, visit: https://lab.dpdk.org/results/dashboard/patchsets/33150/ UNH-IOL DPDK Community Lab To manage your email subscriptions, visit: https://lab.dpdk.org/results/dashboard/preferences/subscriptions/