From mboxrd@z Thu Jan 1 00:00:00 1970 Return-Path: Received: from mails.dpdk.org (mails.dpdk.org [217.70.189.124]) by inbox.dpdk.org (Postfix) with ESMTP id 8FD6346704 for ; Sat, 10 May 2025 01:35:57 +0200 (CEST) Received: from mails.dpdk.org (localhost [127.0.0.1]) by mails.dpdk.org (Postfix) with ESMTP id 64CAE4025D; Sat, 10 May 2025 01:35:57 +0200 (CEST) Received: from mail-pl1-f226.google.com (mail-pl1-f226.google.com [209.85.214.226]) by mails.dpdk.org (Postfix) with ESMTP id 929C14025A for ; Sat, 10 May 2025 01:35:55 +0200 (CEST) Received: by mail-pl1-f226.google.com with SMTP id d9443c01a7336-22e6880d106so20039975ad.1 for ; Fri, 09 May 2025 16:35:55 -0700 (PDT) DKIM-Signature: v=1; a=rsa-sha256; c=relaxed/relaxed; d=iol.unh.edu; s=unh-iol; t=1746833754; x=1747438554; darn=dpdk.org; h=references:in-reply-to:cc:to:from:subject:message-id:date:from:to :cc:subject:date:message-id:reply-to; bh=md+D59J+5I3ne040jM3AoNUgvejIHcYOJ2UzPs1ptDc=; b=AQDJYhkMgLDjldPKygTcMxtkCx9OHrawva2aBpJ7qTZmW8P49vwFnvZ3Lr+6ztrKqF g1bZbQCH1H+T6BjRvenLgz6W2EJC80jdrC/bLnopu+r4mOog/+0wPwYOXkZMjQwIiyBe WQtFfbzMjGBD0Kuwp6fCvvYbp1SjRUJ5y2Mjo= X-Google-DKIM-Signature: v=1; a=rsa-sha256; c=relaxed/relaxed; d=1e100.net; s=20230601; t=1746833754; x=1747438554; h=references:in-reply-to:cc:to:from:subject:message-id:date :x-gm-message-state:from:to:cc:subject:date:message-id:reply-to; bh=md+D59J+5I3ne040jM3AoNUgvejIHcYOJ2UzPs1ptDc=; b=S3dZnswkdqu9UCQwHOwfV3wJXLQSsai6qktf+aG/0h8x7eT5WdOcZO1KeDMrcCp3cc sEkb1PerP1xracCUZNVHX6fPFIlaxIzu9MXh9Ccy15bMs08NF9OlkJ4jPw4zOkDGbaok rl18DbcRIcgQKgzdSfkKzjbvckk/G0gwUrOYCn5VS30Mfl9PVXuvSkL0sExP1NFplCRw Dp3xLlMMpHVWekwcf/3Tc0TV+jPfGDdtAyQgjoEbpwwEW/ov5Fx0c7NiCAwVrLvkFFnD qyOyUFG9NEVsDOX88USYLN7knSou5hJnWZ42oMlNS8AWSJoWgOgzptXpTdQmLnJFEgHo mhZg== X-Gm-Message-State: AOJu0YwHVYp9fiVBUXnPhSpJHhiSkfi00qnlpXmixDddNSFCBEw3WigY fZ0XwZxYHF+bDw4BqF4SVH6BGGUHRRaXXuuFbi51EACR5bGjBF01vwywQ0YP0gZayoAAK5Fi47I rf7Oa2g6URftfre26/RVKR9zxgfqIu7Z+XjN3+4wIYuocluKH2d/l3/xG X-Gm-Gg: ASbGncskEH4gFxJ/PRJX9dZuZFXNG1dT9iXFDmcT66WYNv6Cc0q91e1Cd1GeSvRvsMM DJatLEv5PvUoXDDYndZ8Nmky52pPMOo2sCf7w4GNA6x3tHWgcJkcEXeS6UmuIhnQhP6iUM3wYf+ uGJl1u4L1AxZyH/CI3/UyPgCF0cHHX7HNkXpqmEJUjZ44OeCQ23OUXNwf1YVqBl1BVNh/ABVnq4 sm914nxSQrwbx7XGKyQD+n7K9Wsxm2SY1V3S9zpcduC9akDYa9kGTaGO7u4x0DUfMUUQwWCoEIs 5BSTzIdR9nLDFEX+jc66DHZVa8HnA7eU7Sde X-Google-Smtp-Source: AGHT+IHwV6Il7sx7oflAQUqQbI4bTerlATodkNrXW+w7HHLPIZ02U3cyIdW0GiBWr1VX37U9b1i0fJFYNiWQ X-Received: by 2002:a17:903:3baf:b0:224:18bb:44c2 with SMTP id d9443c01a7336-22fc8b0faeamr62062985ad.6.1746833754185; Fri, 09 May 2025 16:35:54 -0700 (PDT) Received: from postal.iol.unh.edu (postal.iol.unh.edu. [2606:4100:3880:1234::84]) by smtp-relay.gmail.com with ESMTPS id d9443c01a7336-22fc6f2f683sm1527255ad.119.2025.05.09.16.35.54 (version=TLS1_2 cipher=ECDHE-ECDSA-AES128-GCM-SHA256 bits=128/128); Fri, 09 May 2025 16:35:54 -0700 (PDT) X-Relaying-Domain: iol.unh.edu Date: Fri, 09 May 2025 16:35:54 -0700 (PDT) Message-ID: <681e915a.170a0220.334b49.85beSMTPIN_ADDED_MISSING@mx.google.com> Received: from [172.17.0.2] (unknown [172.18.0.74]) by postal.iol.unh.edu (Postfix) with ESMTP id 9B11C6052471; Fri, 9 May 2025 19:35:53 -0400 (EDT) Subject: |SUCCESS| pw153390 [PATCH] regexdev: enable to be compiled on Window From: dpdklab@iol.unh.edu To: Test Report Cc: dpdk-test-reports@iol.unh.edu In-Reply-To: <1746827534-19881-1-git-send-email-andremue@linux.microsoft.com> References: <1746827534-19881-1-git-send-email-andremue@linux.microsoft.com> Content-Type: text/plain X-BeenThere: test-report@dpdk.org X-Mailman-Version: 2.1.29 Precedence: list List-Id: automatic DPDK test reports List-Unsubscribe: , List-Archive: List-Post: List-Help: List-Subscribe: , Errors-To: test-report-bounces@dpdk.org Test-Label: iol-unit-arm64-testing Test-Status: SUCCESS http://dpdk.org/patch/153390 _Testing PASS_ Submitter: Andre Muezerie Date: Friday, May 09 2025 21:52:14 DPDK git baseline: Repo:dpdk Branch: master CommitID:75f179ebe347b6098cf3af26d3d3b7168fe3fe24 153390 --> testing pass Upstream job id: Generic-Unit-Test-DPDK#336825 Test environment and result as below: +-----------------------------+----------------+---------------------------+------------------------------+--------------+ | Environment | dpdk_unit_test | cryptodev_sw_zuc_autotest | cryptodev_sw_snow3g_autotest | lpm_autotest | +=============================+================+===========================+==============================+==============+ | CentOS Stream 9 (ARM) | PASS | SKIPPED | SKIPPED | SKIPPED | +-----------------------------+----------------+---------------------------+------------------------------+--------------+ | CentOS Stream 10 (ARM) | PASS | SKIPPED | SKIPPED | SKIPPED | +-----------------------------+----------------+---------------------------+------------------------------+--------------+ | Fedora 40 (ARM) | PASS | SKIPPED | SKIPPED | SKIPPED | +-----------------------------+----------------+---------------------------+------------------------------+--------------+ | Debian 12 (arm) | PASS | PASS | PASS | SKIPPED | +-----------------------------+----------------+---------------------------+------------------------------+--------------+ | Fedora 40 (ARM Clang) | PASS | SKIPPED | SKIPPED | SKIPPED | +-----------------------------+----------------+---------------------------+------------------------------+--------------+ | Fedora 41 (ARM Clang) | PASS | SKIPPED | SKIPPED | SKIPPED | +-----------------------------+----------------+---------------------------+------------------------------+--------------+ | Fedora 41 (ARM) | PASS | SKIPPED | SKIPPED | SKIPPED | +-----------------------------+----------------+---------------------------+------------------------------+--------------+ | Ubuntu 20.04 (ARM) | PASS | SKIPPED | SKIPPED | SKIPPED | +-----------------------------+----------------+---------------------------+------------------------------+--------------+ | Ubuntu 22.04 (ARM) | PASS | SKIPPED | SKIPPED | SKIPPED | +-----------------------------+----------------+---------------------------+------------------------------+--------------+ | RHEL9 (ARM) | PASS | SKIPPED | SKIPPED | SKIPPED | +-----------------------------+----------------+---------------------------+------------------------------+--------------+ | Ubuntu 24.04 (ARM) | PASS | SKIPPED | SKIPPED | SKIPPED | +-----------------------------+----------------+---------------------------+------------------------------+--------------+ | 32-bit Ubuntu 22.04.4 (ARM) | PASS | SKIPPED | SKIPPED | SKIPPED | +-----------------------------+----------------+---------------------------+------------------------------+--------------+ | Ubuntu 20.04 ARM SVE | SKIPPED | SKIPPED | SKIPPED | PASS | +-----------------------------+----------------+---------------------------+------------------------------+--------------+ CentOS Stream 9 (ARM) Kernel: Depends on container host Compiler: gcc 11.5.0 20240719 (Red Hat 11.5.0-2) CentOS Stream 10 (ARM) Kernel: Depends on container host Compiler: gcc 14.2.1 20241104 (Red Hat 14.2.1-6) Fedora 40 (ARM) Kernel: Depends on container host Compiler: gcc 14.2.1 20240912 (Red Hat 14.2.1-3) Debian 12 (arm) Kernel: Depends on container host Compiler: gcc (Debian 12.2.0-14) 12.2.0 Fedora 40 (ARM Clang) Kernel: Depends on container host Compiler: clang 18.1.8 (Fedora 18.1.8-1.fc40) Fedora 41 (ARM Clang) Kernel: Depends on container host Compiler: clang 19.1.5 (Fedora 19.1.5-1.fc41) Fedora 41 (ARM) Kernel: Depends on container host Compiler: gcc 14.2.1 20240912 (Red Hat 14.2.1-3) Ubuntu 20.04 (ARM) Kernel: Depends on container host Compiler: gcc (Ubuntu 9.4.0-1ubuntu1~20.04.2) 9.4.0 Ubuntu 22.04 (ARM) Kernel: Depends on container host Compiler: gcc (Ubuntu 11.4.0-1ubuntu1~22.04) 11.4.0 RHEL9 (ARM) Kernel: Depends on container host Compiler: gcc 11.5.0 20240719 (Red Hat 11.5.0-2) Ubuntu 24.04 (ARM) Kernel: Depends on container host Compiler: gcc (Ubuntu 13.3.0-6ubuntu2~24.04) 13.3.0 32-bit Ubuntu 22.04.4 (ARM) Kernel: 5.15.83+ aarch64 Compiler: gcc (Ubuntu 11.4.0-1ubuntu1~22.04) 11.4.0 Ubuntu 20.04 ARM SVE Kernel: Depends on container host Compiler: gcc (Ubuntu 10.5.0-1ubuntu1~20.04) 10.5.0 To view detailed results, visit: https://lab.dpdk.org/results/dashboard/patchsets/33150/ UNH-IOL DPDK Community Lab To manage your email subscriptions, visit: https://lab.dpdk.org/results/dashboard/preferences/subscriptions/