From mboxrd@z Thu Jan 1 00:00:00 1970 Return-Path: Received: from mails.dpdk.org (mails.dpdk.org [217.70.189.124]) by inbox.dpdk.org (Postfix) with ESMTP id 3CA6846705 for ; Sat, 10 May 2025 02:55:34 +0200 (CEST) Received: from mails.dpdk.org (localhost [127.0.0.1]) by mails.dpdk.org (Postfix) with ESMTP id 1B1024025D; Sat, 10 May 2025 02:55:34 +0200 (CEST) Received: from mail-qv1-f100.google.com (mail-qv1-f100.google.com [209.85.219.100]) by mails.dpdk.org (Postfix) with ESMTP id A480C4025A for ; Sat, 10 May 2025 02:55:32 +0200 (CEST) Received: by mail-qv1-f100.google.com with SMTP id 6a1803df08f44-6f54e4f2989so45051646d6.1 for ; Fri, 09 May 2025 17:55:32 -0700 (PDT) DKIM-Signature: v=1; a=rsa-sha256; c=relaxed/relaxed; d=iol.unh.edu; s=unh-iol; t=1746838532; x=1747443332; darn=dpdk.org; h=cc:to:from:subject:message-id:date:from:to:cc:subject:date :message-id:reply-to; bh=3PY/LowxIrGnCSgdvc8pKx4xBxCrTV7rj8wmQEroEzs=; b=h7NO7olUbYpj4Ot6vZCOpZwD5mnXSRX1Z8a22402tt1FBm2oPwCLMKIrSnsJ8gr0Bm XgTTIYgZrcP5bep/rgLPu1LG2hB3od6ja1BDtFtTvpE6KnvadHC0awHl/ana1pTESUR0 INv9L2erXPCZ7L93czcLt78MGm/5rRWI/dVqk= X-Google-DKIM-Signature: v=1; a=rsa-sha256; c=relaxed/relaxed; d=1e100.net; s=20230601; t=1746838532; x=1747443332; h=cc:to:from:subject:message-id:date:x-gm-message-state:from:to:cc :subject:date:message-id:reply-to; bh=3PY/LowxIrGnCSgdvc8pKx4xBxCrTV7rj8wmQEroEzs=; b=vqYdHBmG30pnqsHTiMyRu/B7Q1qalKLxPhXignZbh1Or65DZu/9vFwxRBVm2zzTdK3 tJZO9l0/NWYVgi5u8YIYkhbLZnfOhbccGnnMjS8PrXWrz2GcthSqyeqyC3TB09/EUcwC 9Xot8Qce3LWagZggSDuxwuXObvmo8xLYIGWLBhRaLQDV3huBW925KYkSzXfR2AHWApWO 2mJZGzSOay3PoOlTDE1xzSzE/U2LfUZVVM702J9zEiUzz7Is7A/IdNuqtFCCbEOAnN+H 3mzaaKYBl5+uTXjm2XOxB00IeNEtvf2yRINaVrJDW9GQYGFUbjOdlMpYERzEPpZazawr +L3g== X-Gm-Message-State: AOJu0YxtRkC9n0pWIJ2dSIhzOJGLKUbPK61mTRRU/jc2SFPoiNEdQwN5 KO352f05V+cHXZdhC5KWCtIR653UvZkU314dqH8YHUR/jLpZiJptJp2MZ2665x4mKuREEApiPAE Aj5bdmuL7uGU67Er4R1E+Pe6g6iH960V5XeCtQB0Bgal1WTLgBJSumdkr X-Gm-Gg: ASbGncu/FwScgaxhhC66ur+DIQuT2IIlvnm9VQSr/HDl6gjcpbKBj4DBPwqrbg8l657 ugPk1a3ZZNLt8+7CDbLKgu87eBRokudD3YXw6dp+6hKX2iDp4wP+n6IpynFR5MsolQQ4YOQ0LGl 8/VIUHAqZNuTqKK8Cfq1v6UtJeFoHKfiJ6yOgMMhlfw0a4FRSYbdnzDrB5xAOG9zWCnfAR4uLXF vTGPxCgNLYIZVyPHZgZZOTlUH92T3ib3zVM0XX3ULVUfQs5ZH6Hm5Jv32MzHtsW9OSLvZcGj96r vUPy+Sv6ShfCReqW9/2qN7LhRlqjydDuIjv4 X-Google-Smtp-Source: AGHT+IGdbmEN6zCA39Lpe6/diB3M89JV/TsIpe1SvkdQBs185mGnVFPrxFs1u4HNljxJHR0tdQwxQwByh/cU X-Received: by 2002:ad4:5f0c:0:b0:6f2:d25e:8f60 with SMTP id 6a1803df08f44-6f6e47fb31amr90897386d6.22.1746838531964; Fri, 09 May 2025 17:55:31 -0700 (PDT) Received: from postal.iol.unh.edu (postal.iol.unh.edu. [2606:4100:3880:1234::84]) by smtp-relay.gmail.com with ESMTPS id 6a1803df08f44-6f6e3a0e8a1sm1655876d6.37.2025.05.09.17.55.31 (version=TLS1_2 cipher=ECDHE-ECDSA-AES128-GCM-SHA256 bits=128/128); Fri, 09 May 2025 17:55:31 -0700 (PDT) X-Relaying-Domain: iol.unh.edu Date: Fri, 09 May 2025 17:55:31 -0700 (PDT) Message-ID: <681ea403.050a0220.a8979.9f4eSMTPIN_ADDED_MISSING@mx.google.com> Received: from [172.21.0.5] (unknown [172.18.0.240]) by postal.iol.unh.edu (Postfix) with ESMTP id A48C16052471; Fri, 9 May 2025 20:55:31 -0400 (EDT) Subject: |SUCCESS| [GIT MASTER] 75f179ebe347b6098cf3af26d3d3b7168fe3fe24 From: dpdklab@iol.unh.edu To: Test Report Cc: dpdk-test-reports@iol.unh.edu Content-Type: text/plain X-BeenThere: test-report@dpdk.org X-Mailman-Version: 2.1.29 Precedence: list List-Id: automatic DPDK test reports List-Unsubscribe: , List-Archive: List-Post: List-Help: List-Subscribe: , Errors-To: test-report-bounces@dpdk.org _Testing PASS_ Branch: dpdk 75f179ebe347b6098cf3af26d3d3b7168fe3fe24 --> testing pass Upstream job id: Generic-Unit-Test-DPDK#336844 Test environment and result as below: +---------------------+----------------+ | Environment | dpdk_unit_test | +=====================+================+ | Debian 12 | PASS | +---------------------+----------------+ | Arch Linux | PASS | +---------------------+----------------+ | CentOS Stream 9 | PASS | +---------------------+----------------+ | CentOS Stream 10 | PASS | +---------------------+----------------+ | Fedora 40 | PASS | +---------------------+----------------+ | Fedora 40 (Clang) | PASS | +---------------------+----------------+ | Fedora 41 (Clang) | PASS | +---------------------+----------------+ | RHEL8 | PASS | +---------------------+----------------+ | Fedora 41 | PASS | +---------------------+----------------+ | Ubuntu 24.04 | PASS | +---------------------+----------------+ | Ubuntu 20.04 | PASS | +---------------------+----------------+ | RHEL9 | PASS | +---------------------+----------------+ | Ubuntu 22.04 | PASS | +---------------------+----------------+ | Windows Server 2022 | PASS | +---------------------+----------------+ Debian 12 Kernel: Depends on container host Compiler: gcc (Debian 12.2.0-14) 12.2.0 Arch Linux Kernel: Depends on container host Compiler: gcc 14.2.1 20240910 CentOS Stream 9 Kernel: Depends on container host Compiler: gcc 11.5.0 20240719 (Red Hat 11.5.0-2) CentOS Stream 10 Kernel: Depends on container host Compiler: gcc 14.2.1 20241104 (Red Hat 14.2.1-6) Fedora 40 Kernel: Depends on container host Compiler: gcc 14.2.1 20240912 (Red Hat 14.2.1-3) Fedora 40 (Clang) Kernel: Depends on container host Compiler: clang 18.1.8 (Fedora 18.1.8-1.fc40) Fedora 41 (Clang) Kernel: Depends on container host Compiler: clang 19.1.5 (Fedora 19.1.5-1.fc41) RHEL8 Kernel: Depends on container host Compiler: gcc 8.5.0 20210514 (Red Hat 8.5.0-22) Fedora 41 Kernel: Depends on container host Compiler: gcc 14.2.1 20240912 (Red Hat 14.2.1-3) Ubuntu 24.04 Kernel: Depends on container host Compiler: gcc (Ubuntu 13.3.0-6ubuntu2~24.04) 13.3.0 Ubuntu 20.04 Kernel: Depends on container host Compiler: gcc (Ubuntu 9.4.0-1ubuntu1~20.04.2) 9.4.0 RHEL9 Kernel: Depends on container host Compiler: gcc 11.5.0 20240719 (Red Hat 11.5.0-2) Ubuntu 22.04 Kernel: Depends on container host Compiler: gcc (Ubuntu 11.4.0-1ubuntu1~22.04) 11.4.0 Windows Server 2022 Kernel: 10.0.20348.2031 Compiler: clang 15.0.7, gcc 14.1.0 (MinGW), and MSVC VS 19.39.33521 To view detailed results, visit: https://lab.dpdk.org/results/dashboard/tarballs/33491/ UNH-IOL DPDK Community Lab To manage your email subscriptions, visit: https://lab.dpdk.org/results/dashboard/preferences/subscriptions/