From mboxrd@z Thu Jan 1 00:00:00 1970 Return-Path: Received: from mails.dpdk.org (mails.dpdk.org [217.70.189.124]) by inbox.dpdk.org (Postfix) with ESMTP id 97D7C46705 for ; Sat, 10 May 2025 03:11:06 +0200 (CEST) Received: from mails.dpdk.org (localhost [127.0.0.1]) by mails.dpdk.org (Postfix) with ESMTP id 703BF4025D; Sat, 10 May 2025 03:11:06 +0200 (CEST) Received: from mail-io1-f97.google.com (mail-io1-f97.google.com [209.85.166.97]) by mails.dpdk.org (Postfix) with ESMTP id 3A6954025A for ; Sat, 10 May 2025 03:11:05 +0200 (CEST) Received: by mail-io1-f97.google.com with SMTP id ca18e2360f4ac-85db3475637so123114439f.1 for ; Fri, 09 May 2025 18:11:05 -0700 (PDT) DKIM-Signature: v=1; a=rsa-sha256; c=relaxed/relaxed; d=iol.unh.edu; s=unh-iol; t=1746839464; x=1747444264; darn=dpdk.org; h=cc:to:from:subject:message-id:date:from:to:cc:subject:date :message-id:reply-to; bh=5We4vYVRnBNZb6zFdYlsxW1Nx5G5ROftRHqOw0xsFRc=; b=RMzdy5v3+Pxh3pFvx4L4zjmgQYSIe1SsFNDpwmaavVvLJOuV/kWNrSL0L6SbYnRMNj Rr2+CsB/hn40CaP0sh1XG+n09E3sozZL2InV5H16U1yu7Y+ZyrqUIKaho0xTxxEt++ns BVQeySglSRrWyceoXX6tVfGYI4toRCSur3qqM= X-Google-DKIM-Signature: v=1; a=rsa-sha256; c=relaxed/relaxed; d=1e100.net; s=20230601; t=1746839464; x=1747444264; h=cc:to:from:subject:message-id:date:x-gm-message-state:from:to:cc :subject:date:message-id:reply-to; bh=5We4vYVRnBNZb6zFdYlsxW1Nx5G5ROftRHqOw0xsFRc=; b=i9cmlI3FE0KIP0tJnnFncJRet2xwvPuFsDHa3PCJ6E6KK+aOQX20XNzWsWgzZkLzN0 fuE9v1nm8pyzCjmXrpDRBHYMkw0HUMweG5L76SEJRebfVSXzniLUeeC7kyoVEKRFMUH8 mMh8rNcK6bwPhoM+C5N8o4dhqSM8R/GVGBGNzKHY9xwd4aBCb/2N4uaBQ+Vld5FO1JAZ mYzaaRihGwG6VajN2bKQxf/izEdZu/h4Fzq43GMXZUsthYs7h88a065JHFqwgJI5OJAv aA46lYd1FlWQzWuVNGhWYinLPN8yyrMUV9dR9uXGyx9XOcDgeci2eD0bF/41K6yvUiIV oKjg== X-Gm-Message-State: AOJu0YwwVnjCwQUJvqurRrY0bbLVKApY3mTK5/x+TaqGvfuaWj0KU4zN P9dIYoGswrBNwuv0dFeKUi4roaIi69YxC7T9zLSrT0Y+D4vhM+ilD/KsSgEuidM/UHdrIeXSDJB 4SlmHBZrm0zaUnIVfhjy9AwFmBQ09JAB0ResHX7Wm X-Gm-Gg: ASbGncsLEFK1llPPuJTmGwiBfYmZmWazYVamkeoa7XUAbNxFX+BGogIj+OLgxKz09+s c02MX+F8SrkucKpRk/9IBPZTlV4nhW3IlPL+l57vqNTQnQtbdf1BPwwP5R40bccjHjEyr95CaJ2 u+r4aYHBNK26rG977ADed2Yj+3gmNuTzm4qn25nRSyYqCE8G6a2eDLlHb6I6tfQRw/d4OUkw9O6 u34V49bWLXUVpTzWIOTiA0UXA6OpBjNYewuxbc9LxyFg5MDDPYb2b9gaCGojToFt3g5h331+x4R nKsbOK7kEk54NkZcN+ZfDKNf93FIM13OuEYReeitOdqOEoNRiIhpaQmOpK4= X-Google-Smtp-Source: AGHT+IFbrPHC9fuggy9puBlQUKZsBi8ifSe7vD0eYXUd4tF5ZXoehTfwY+/QrmkPTcg7ApMkejOlVVy7FmGb X-Received: by 2002:a05:6602:1d2:b0:85e:73da:c56a with SMTP id ca18e2360f4ac-867550877eemr956983139f.3.1746839464429; Fri, 09 May 2025 18:11:04 -0700 (PDT) Received: from postal.iol.unh.edu (postal.iol.unh.edu. [132.177.123.84]) by smtp-relay.gmail.com with ESMTPS id 8926c6da1cb9f-4fa225f521dsm65337173.46.2025.05.09.18.11.04 (version=TLS1_2 cipher=ECDHE-ECDSA-AES128-GCM-SHA256 bits=128/128); Fri, 09 May 2025 18:11:04 -0700 (PDT) X-Relaying-Domain: iol.unh.edu Date: Fri, 09 May 2025 18:11:04 -0700 (PDT) Message-ID: <681ea7a8.020a0220.2c407.4363SMTPIN_ADDED_MISSING@mx.google.com> Received: from [172.17.0.2] (unknown [172.18.0.74]) by postal.iol.unh.edu (Postfix) with ESMTP id D8FA26052471; Fri, 9 May 2025 21:11:03 -0400 (EDT) Subject: |SUCCESS| [GIT MASTER] 75f179ebe347b6098cf3af26d3d3b7168fe3fe24 From: dpdklab@iol.unh.edu To: Test Report Cc: dpdk-test-reports@iol.unh.edu Content-Type: text/plain X-BeenThere: test-report@dpdk.org X-Mailman-Version: 2.1.29 Precedence: list List-Id: automatic DPDK test reports List-Unsubscribe: , List-Archive: List-Post: List-Help: List-Subscribe: , Errors-To: test-report-bounces@dpdk.org _Testing PASS_ Branch: dpdk 75f179ebe347b6098cf3af26d3d3b7168fe3fe24 --> testing pass Upstream job id: Generic-DPDK-Compile-ABI#125929 Test environment and result as below: +-------------------+----------+ | Environment | abi_test | +===================+==========+ | CentOS Stream 9 | PASS | +-------------------+----------+ | CentOS Stream 10 | PASS | +-------------------+----------+ | Debian 12 | PASS | +-------------------+----------+ | Fedora 40 | PASS | +-------------------+----------+ | Fedora 40 (Clang) | PASS | +-------------------+----------+ | Fedora 41 | PASS | +-------------------+----------+ | Fedora 41 (Clang) | PASS | +-------------------+----------+ | openSUSE Leap 15 | PASS | +-------------------+----------+ | RHEL8 | PASS | +-------------------+----------+ | RHEL9 | PASS | +-------------------+----------+ | Ubuntu 22.04 | PASS | +-------------------+----------+ | Ubuntu 24.04 | PASS | +-------------------+----------+ | Arch Linux | PASS | +-------------------+----------+ CentOS Stream 9 Kernel: Depends on container host Compiler: gcc 11.5.0 20240719 (Red Hat 11.5.0-2) CentOS Stream 10 Kernel: Depends on container host Compiler: gcc 14.2.1 20241104 (Red Hat 14.2.1-6) Debian 12 Kernel: Depends on container host Compiler: gcc (Debian 12.2.0-14) 12.2.0 Fedora 40 Kernel: Depends on container host Compiler: gcc 14.2.1 20240912 (Red Hat 14.2.1-3) Fedora 40 (Clang) Kernel: Depends on container host Compiler: clang 18.1.8 (Fedora 18.1.8-1.fc40) Fedora 41 Kernel: Depends on container host Compiler: gcc 14.2.1 20240912 (Red Hat 14.2.1-3) Fedora 41 (Clang) Kernel: Depends on container host Compiler: clang 19.1.5 (Fedora 19.1.5-1.fc41) openSUSE Leap 15 Kernel: Depends on container host Compiler: gcc (SUSE Linux) 7.5.0 RHEL8 Kernel: Depends on container host Compiler: gcc 8.5.0 20210514 (Red Hat 8.5.0-22) RHEL9 Kernel: Depends on container host Compiler: gcc 11.5.0 20240719 (Red Hat 11.5.0-2) Ubuntu 22.04 Kernel: Depends on container host Compiler: gcc (Ubuntu 11.4.0-1ubuntu1~22.04) 11.4.0 Ubuntu 24.04 Kernel: Depends on container host Compiler: gcc (Ubuntu 13.3.0-6ubuntu2~24.04) 13.3.0 Arch Linux Kernel: Depends on container host Compiler: gcc 14.2.1 20240910 To view detailed results, visit: https://lab.dpdk.org/results/dashboard/tarballs/33491/ UNH-IOL DPDK Community Lab To manage your email subscriptions, visit: https://lab.dpdk.org/results/dashboard/preferences/subscriptions/