From mboxrd@z Thu Jan 1 00:00:00 1970 Return-Path: Received: from mails.dpdk.org (mails.dpdk.org [217.70.189.124]) by inbox.dpdk.org (Postfix) with ESMTP id ABAC446705 for ; Sat, 10 May 2025 03:12:46 +0200 (CEST) Received: from mails.dpdk.org (localhost [127.0.0.1]) by mails.dpdk.org (Postfix) with ESMTP id 9B7D64025D; Sat, 10 May 2025 03:12:46 +0200 (CEST) Received: from mail-io1-f99.google.com (mail-io1-f99.google.com [209.85.166.99]) by mails.dpdk.org (Postfix) with ESMTP id 154CE4025A for ; Sat, 10 May 2025 03:12:45 +0200 (CEST) Received: by mail-io1-f99.google.com with SMTP id ca18e2360f4ac-86135d11760so204690139f.2 for ; Fri, 09 May 2025 18:12:45 -0700 (PDT) DKIM-Signature: v=1; a=rsa-sha256; c=relaxed/relaxed; d=iol.unh.edu; s=unh-iol; t=1746839564; x=1747444364; darn=dpdk.org; h=cc:to:from:subject:message-id:date:from:to:cc:subject:date :message-id:reply-to; bh=ZBD/cnFj1bhfzwjcGppbuzn7KXL73N3NJ/6R9VRLJjY=; b=bFcy0M3zA/nspji9bk6lA/S2qYnDBuiBouIcCmSX94ChMrjkGfqRyBYWk+HUphUylo old4lp+SPsI8eoWKM2mARWnLVpHhKWQjY0JhBJv30jQNxXgYTqhiwQorpCrcQqlh/S7D mNAUh3nUKAHWeXW9s1I2vFCU0V5lVSK4tIYBs= X-Google-DKIM-Signature: v=1; a=rsa-sha256; c=relaxed/relaxed; d=1e100.net; s=20230601; t=1746839564; x=1747444364; h=cc:to:from:subject:message-id:date:x-gm-message-state:from:to:cc :subject:date:message-id:reply-to; bh=ZBD/cnFj1bhfzwjcGppbuzn7KXL73N3NJ/6R9VRLJjY=; b=KA+jS/0n13g+j66bJGBQfm6wEvULZAfoKK6fhW7BVCxFpi7ATnlf7SGmjRna9yuT4M 9FfsDkNn7t/wXDY7EIfqAQDh9+OL8sLepDg/MuYFUbS6dkT5Jg2nETumZToTHI480nfo 3V96mpx/90DOTMccrlr00KPU6x/1NTZJ6D0jqJS0JV4xFH3dDhEfGsG6biXh7heOSHfu lq8yTL+az4SrJab2LYEHSF13Z7t9rfw7qXZgGkapyp/+RvpdZH2DxIrzP0ezq6tu285L Xqkj5U/5H4KSzAFFCkAwZfa09JHTGG0dWoS7vPize6YgNvMOGGK25DOCEWawSACjPjur xj8A== X-Gm-Message-State: AOJu0Yy0N8Cuh+K6fhUdzMISvAyAXssGma6GIXP0nKclQGP0lDwdBP/6 XPIt6ou61dNdPRGSKUnN1fDRXg8Q8wpB9FpBDbeRDafIWDvlhCAt/8fO56cw03Vlni678BC+vmq DiIlF7AH/UJ4jRXzyRICyRWULKtLhV+XXb4SKvjFDqWlJmZN8xbR5jQk0 X-Gm-Gg: ASbGncvaOc1wWMIuxmey+P1dr9+mv7m6nwfYNHEY99FvMfFjQTUHFegYM+lY+cHLrQY tOvl/7+9/IzUrEJL3qSU1xjYvwChcRwaSgx6B6zabQrJ4ejG52kdmAtbS7a0hv7+QDFs48lwNBI e8AjB9l31qIFYF9MWZTUU72sujPv1DBTunkXjWiknPGx9FrqGEuPgl1z5ptPurDx7Oofh2eii7+ 7pSsGgUWXzqs8Bi+D5z0jFVuQC7oiZ8QVb6VaV0Dc/DdZqNq9uUes9+V/IlasH6qETF1iJSWoce 4+zKmJF3jeWxMYl3Bd9iEw48y5Wt5tVY4q47 X-Google-Smtp-Source: AGHT+IF7RRSd3ZKlGZ5EvW5kIvRbBo7ZG/E88lB5z/AVb3FPa9t1Hkhg51f70KFwCjfaRvT2SztbMol3Idp4 X-Received: by 2002:a05:6602:140e:b0:864:4ab4:adf1 with SMTP id ca18e2360f4ac-8676366c5camr668706739f.13.1746839564239; Fri, 09 May 2025 18:12:44 -0700 (PDT) Received: from postal.iol.unh.edu (postal.iol.unh.edu. [2606:4100:3880:1234::84]) by smtp-relay.gmail.com with ESMTPS id ca18e2360f4ac-86763620b24sm15105139f.1.2025.05.09.18.12.44 (version=TLS1_2 cipher=ECDHE-ECDSA-AES128-GCM-SHA256 bits=128/128); Fri, 09 May 2025 18:12:44 -0700 (PDT) X-Relaying-Domain: iol.unh.edu Date: Fri, 09 May 2025 18:12:44 -0700 (PDT) Message-ID: <681ea80c.050a0220.2ab236.87c6SMTPIN_ADDED_MISSING@mx.google.com> Received: from [172.17.0.3] (unknown [172.18.0.74]) by postal.iol.unh.edu (Postfix) with ESMTP id B0CFD6052471; Fri, 9 May 2025 21:12:43 -0400 (EDT) Subject: |SUCCESS| [GIT MASTER] 75f179ebe347b6098cf3af26d3d3b7168fe3fe24 From: dpdklab@iol.unh.edu To: Test Report Cc: dpdk-test-reports@iol.unh.edu Content-Type: text/plain X-BeenThere: test-report@dpdk.org X-Mailman-Version: 2.1.29 Precedence: list List-Id: automatic DPDK test reports List-Unsubscribe: , List-Archive: List-Post: List-Help: List-Subscribe: , Errors-To: test-report-bounces@dpdk.org _Testing PASS_ Branch: dpdk 75f179ebe347b6098cf3af26d3d3b7168fe3fe24 --> testing pass Upstream job id: Generic-Unit-Test-DPDK#336851 Test environment and result as below: +-----------------------------+----------------+--------------+---------------------------+------------------------------+ | Environment | dpdk_unit_test | lpm_autotest | cryptodev_sw_zuc_autotest | cryptodev_sw_snow3g_autotest | +=============================+================+==============+===========================+==============================+ | CentOS Stream 10 (ARM) | PASS | SKIPPED | SKIPPED | SKIPPED | +-----------------------------+----------------+--------------+---------------------------+------------------------------+ | Debian 12 (arm) | PASS | SKIPPED | PASS | PASS | +-----------------------------+----------------+--------------+---------------------------+------------------------------+ | CentOS Stream 9 (ARM) | PASS | SKIPPED | SKIPPED | SKIPPED | +-----------------------------+----------------+--------------+---------------------------+------------------------------+ | Fedora 40 (ARM) | PASS | SKIPPED | SKIPPED | SKIPPED | +-----------------------------+----------------+--------------+---------------------------+------------------------------+ | Fedora 41 (ARM Clang) | PASS | SKIPPED | SKIPPED | SKIPPED | +-----------------------------+----------------+--------------+---------------------------+------------------------------+ | Fedora 40 (ARM Clang) | PASS | SKIPPED | SKIPPED | SKIPPED | +-----------------------------+----------------+--------------+---------------------------+------------------------------+ | RHEL9 (ARM) | PASS | SKIPPED | SKIPPED | SKIPPED | +-----------------------------+----------------+--------------+---------------------------+------------------------------+ | Ubuntu 20.04 (ARM) | PASS | SKIPPED | SKIPPED | SKIPPED | +-----------------------------+----------------+--------------+---------------------------+------------------------------+ | Ubuntu 24.04 (ARM) | PASS | SKIPPED | SKIPPED | SKIPPED | +-----------------------------+----------------+--------------+---------------------------+------------------------------+ | Ubuntu 22.04 (ARM) | PASS | SKIPPED | SKIPPED | SKIPPED | +-----------------------------+----------------+--------------+---------------------------+------------------------------+ | Fedora 41 (ARM) | PASS | SKIPPED | SKIPPED | SKIPPED | +-----------------------------+----------------+--------------+---------------------------+------------------------------+ | 32-bit Ubuntu 22.04.4 (ARM) | PASS | SKIPPED | SKIPPED | SKIPPED | +-----------------------------+----------------+--------------+---------------------------+------------------------------+ | Ubuntu 20.04 ARM SVE | SKIPPED | PASS | SKIPPED | SKIPPED | +-----------------------------+----------------+--------------+---------------------------+------------------------------+ CentOS Stream 10 (ARM) Kernel: Depends on container host Compiler: gcc 14.2.1 20241104 (Red Hat 14.2.1-6) Debian 12 (arm) Kernel: Depends on container host Compiler: gcc (Debian 12.2.0-14) 12.2.0 CentOS Stream 9 (ARM) Kernel: Depends on container host Compiler: gcc 11.5.0 20240719 (Red Hat 11.5.0-2) Fedora 40 (ARM) Kernel: Depends on container host Compiler: gcc 14.2.1 20240912 (Red Hat 14.2.1-3) Fedora 41 (ARM Clang) Kernel: Depends on container host Compiler: clang 19.1.5 (Fedora 19.1.5-1.fc41) Fedora 40 (ARM Clang) Kernel: Depends on container host Compiler: clang 18.1.8 (Fedora 18.1.8-1.fc40) RHEL9 (ARM) Kernel: Depends on container host Compiler: gcc 11.5.0 20240719 (Red Hat 11.5.0-2) Ubuntu 20.04 (ARM) Kernel: Depends on container host Compiler: gcc (Ubuntu 9.4.0-1ubuntu1~20.04.2) 9.4.0 Ubuntu 24.04 (ARM) Kernel: Depends on container host Compiler: gcc (Ubuntu 13.3.0-6ubuntu2~24.04) 13.3.0 Ubuntu 22.04 (ARM) Kernel: Depends on container host Compiler: gcc (Ubuntu 11.4.0-1ubuntu1~22.04) 11.4.0 Fedora 41 (ARM) Kernel: Depends on container host Compiler: gcc 14.2.1 20240912 (Red Hat 14.2.1-3) 32-bit Ubuntu 22.04.4 (ARM) Kernel: 5.15.83+ aarch64 Compiler: gcc (Ubuntu 11.4.0-1ubuntu1~22.04) 11.4.0 Ubuntu 20.04 ARM SVE Kernel: Depends on container host Compiler: gcc (Ubuntu 10.5.0-1ubuntu1~20.04) 10.5.0 To view detailed results, visit: https://lab.dpdk.org/results/dashboard/tarballs/33491/ UNH-IOL DPDK Community Lab To manage your email subscriptions, visit: https://lab.dpdk.org/results/dashboard/preferences/subscriptions/