From mboxrd@z Thu Jan 1 00:00:00 1970 Return-Path: Received: from mails.dpdk.org (mails.dpdk.org [217.70.189.124]) by inbox.dpdk.org (Postfix) with ESMTP id B11EC46707 for ; Sat, 10 May 2025 05:33:43 +0200 (CEST) Received: from mails.dpdk.org (localhost [127.0.0.1]) by mails.dpdk.org (Postfix) with ESMTP id 7E9104025D; Sat, 10 May 2025 05:33:43 +0200 (CEST) Received: from mail-oa1-f100.google.com (mail-oa1-f100.google.com [209.85.160.100]) by mails.dpdk.org (Postfix) with ESMTP id 7FAC84025A for ; Sat, 10 May 2025 05:33:42 +0200 (CEST) Received: by mail-oa1-f100.google.com with SMTP id 586e51a60fabf-2c2504fa876so1117708fac.0 for ; Fri, 09 May 2025 20:33:42 -0700 (PDT) DKIM-Signature: v=1; a=rsa-sha256; c=relaxed/relaxed; d=iol.unh.edu; s=unh-iol; t=1746848021; x=1747452821; darn=dpdk.org; h=cc:to:from:subject:message-id:date:from:to:cc:subject:date :message-id:reply-to; bh=KvgjBR8xmykUVdycsRqwPjHKXhr7saw4Jo2WGPlaymQ=; b=P0TmOVHagGMKHhBd2B8Z+PKougGKGC9sYDYRpaAuUaCllvi49WYa11Lrj4RV+zp0PI hPyScGNB0kL5OQoF5w5OyBYGNC6GR257YtJK1fkKQ8CXe2NzgYva6PCxvrdadf8SlCH1 gLmbyW+FFbOFebS+XM2126jMRX/7E2SVa17Y8= X-Google-DKIM-Signature: v=1; a=rsa-sha256; c=relaxed/relaxed; d=1e100.net; s=20230601; t=1746848021; x=1747452821; h=cc:to:from:subject:message-id:date:x-gm-message-state:from:to:cc :subject:date:message-id:reply-to; bh=KvgjBR8xmykUVdycsRqwPjHKXhr7saw4Jo2WGPlaymQ=; b=QFZt5PYvA3dSj/kHBAeVZK/+X707OO2jG6+LmKoGySft6Kj7RO5OCRNLKAeYAP4gG5 2Rql0+SPEWx+oHX8Y9j5320bapfGJqZIhVBRGWAMABywqby031oTkA83GTemXRKM0jzu K8QagzcnkUSyjG/tRsPmeYDHujWNihrMlQBjBNj0/m4ul8hJ2W1Q+4M+wO9Jma69mbeO cpui4m8g3nTfvs6ncUhNn4YFsG43CoPqLQ2uniu86/Pc24LLj7jru0QKiCd4SyzChWUZ oP/FbdbsQhf+N7frB4IkS6T/v2twWFIDKrP1p6Ys9RdW4Yr4AJ7p26/rLMhjaKvroyrT 8ovg== X-Gm-Message-State: AOJu0YwqhXsIddOHGnsH3QXO81vQDo44ObFy+7A4Pa29OD2int/7YgMA 4lvazNC5yI48tXmVDlLlJUmSSc+ge6sNQU+1pfsjWE1tXzI3/ntqNtb/kZbVHjXu9oIzzFJBBJk 2mQRWhI6hN9ZFnLni0IuQjpNbLbNgZtfEDGQJK3Mr X-Gm-Gg: ASbGncuUWR4O1aYjrPoM1zQGSahKfxQTz/IFGswkCnOq9GaHh6quiOtkm0cNTU+KFYh GTcliry/jQJ4lsgL3KvnvtWJ0yBqiDlzcPHj5eqpN9aXrhnM73iBUicla+ncYajtIsLWYlH6eqU WJGTpsrev3r4uiWLjJ+foIDl8oYMtYOwSg1IjP2dBBYLoEsnVTFM7uinLLLm1iz2cWHVOAawzTZ xFji5yc6wJ849XqAGcznep8sRb6rHglUw2TxKd4/D0o/zySKWLYPdNYm1Q+d9a2yJocsPT4hqBe krEuC/mM2tSzNh/k04v0cK8Gk5Q/jIWWU5Q+xfdMwBNONB+Z+3UBJtip2mM= X-Google-Smtp-Source: AGHT+IHVSwWXtRahYb4aphQktlmD3qhvAXaOAWHMY4g9PLVZux90tY/5CoTPBGZfTLCS7+HctokKel8ua9YU X-Received: by 2002:a05:6820:1b05:b0:603:fada:ac53 with SMTP id 006d021491bc7-6084b5d67f5mr4052470eaf.2.1746848021399; Fri, 09 May 2025 20:33:41 -0700 (PDT) Received: from postal.iol.unh.edu (postal.iol.unh.edu. [132.177.123.84]) by smtp-relay.gmail.com with ESMTPS id 006d021491bc7-60842b096f6sm102442eaf.16.2025.05.09.20.33.41 (version=TLS1_2 cipher=ECDHE-ECDSA-AES128-GCM-SHA256 bits=128/128); Fri, 09 May 2025 20:33:41 -0700 (PDT) X-Relaying-Domain: iol.unh.edu Date: Fri, 09 May 2025 20:33:41 -0700 (PDT) Message-ID: <681ec915.050a0220.140527.5d16SMTPIN_ADDED_MISSING@mx.google.com> Received: from [172.17.0.2] (unknown [172.18.0.74]) by postal.iol.unh.edu (Postfix) with ESMTP id CB3046052471; Fri, 9 May 2025 23:33:40 -0400 (EDT) Subject: |SUCCESS| [GIT MASTER] 75f179ebe347b6098cf3af26d3d3b7168fe3fe24 From: dpdklab@iol.unh.edu To: Test Report Cc: dpdk-test-reports@iol.unh.edu Content-Type: text/plain X-BeenThere: test-report@dpdk.org X-Mailman-Version: 2.1.29 Precedence: list List-Id: automatic DPDK test reports List-Unsubscribe: , List-Archive: List-Post: List-Help: List-Subscribe: , Errors-To: test-report-bounces@dpdk.org _Testing PASS_ Branch: dpdk 75f179ebe347b6098cf3af26d3d3b7168fe3fe24 --> testing pass Upstream job id: Generic-DPDK-Compile-Meson#386869 Test environment and result as below: +----------------------------------------+--------------------+ | Environment | dpdk_meson_compile | +========================================+====================+ | RHEL9 (ARM) | PASS | +----------------------------------------+--------------------+ | Ubuntu 20.04 ARM GCC Cross Compile | PASS | +----------------------------------------+--------------------+ | Ubuntu 20.04 ARM SVE | PASS | +----------------------------------------+--------------------+ | Debian 12 with MUSDK | PASS | +----------------------------------------+--------------------+ | Fedora 40 (ARM) | PASS | +----------------------------------------+--------------------+ | Fedora 40 (ARM Clang) | PASS | +----------------------------------------+--------------------+ | Fedora 41 (ARM Clang) | PASS | +----------------------------------------+--------------------+ | Ubuntu 22.04 (ARM) | PASS | +----------------------------------------+--------------------+ | Ubuntu 20.04 (ARM) | PASS | +----------------------------------------+--------------------+ | Ubuntu 24.04 (ARM) | PASS | +----------------------------------------+--------------------+ | CentOS Stream 9 (ARM) | PASS | +----------------------------------------+--------------------+ | CentOS Stream 10 (ARM) | PASS | +----------------------------------------+--------------------+ | Debian 12 (arm) | PASS | +----------------------------------------+--------------------+ | Ubuntu 20.04 ARM Clang Cross Compile | PASS | +----------------------------------------+--------------------+ | Ubuntu 20.04 aarch32 GCC Cross Compile | PASS | +----------------------------------------+--------------------+ | Fedora 41 (ARM) | PASS | +----------------------------------------+--------------------+ RHEL9 (ARM) Kernel: Depends on container host Compiler: gcc 11.5.0 20240719 (Red Hat 11.5.0-2) Ubuntu 20.04 ARM GCC Cross Compile Kernel: Depends on container host Compiler: aarch64-linux-gnu-gcc (Ubuntu 9.4.0-1ubuntu1~20.04.2) 9.4.0 Ubuntu 20.04 ARM SVE Kernel: Depends on container host Compiler: gcc (Ubuntu 10.5.0-1ubuntu1~20.04) 10.5.0 Debian 12 with MUSDK Kernel: Depends on container host Compiler: gcc (Debian 12.2.0-14) 12.2.0 Fedora 40 (ARM) Kernel: Depends on container host Compiler: gcc 14.2.1 20240912 (Red Hat 14.2.1-3) Fedora 40 (ARM Clang) Kernel: Depends on container host Compiler: clang 18.1.8 (Fedora 18.1.8-1.fc40) Fedora 41 (ARM Clang) Kernel: Depends on container host Compiler: clang 19.1.5 (Fedora 19.1.5-1.fc41) Ubuntu 22.04 (ARM) Kernel: Depends on container host Compiler: gcc (Ubuntu 11.4.0-1ubuntu1~22.04) 11.4.0 Ubuntu 20.04 (ARM) Kernel: Depends on container host Compiler: gcc (Ubuntu 9.4.0-1ubuntu1~20.04.2) 9.4.0 Ubuntu 24.04 (ARM) Kernel: Depends on container host Compiler: gcc (Ubuntu 13.3.0-6ubuntu2~24.04) 13.3.0 CentOS Stream 9 (ARM) Kernel: Depends on container host Compiler: gcc 11.5.0 20240719 (Red Hat 11.5.0-2) CentOS Stream 10 (ARM) Kernel: Depends on container host Compiler: gcc 14.2.1 20241104 (Red Hat 14.2.1-6) Debian 12 (arm) Kernel: Depends on container host Compiler: gcc (Debian 12.2.0-14) 12.2.0 Ubuntu 20.04 ARM Clang Cross Compile Kernel: Depends on container host Compiler: clang 10.0.0-4ubuntu1 Ubuntu 20.04 aarch32 GCC Cross Compile Kernel: Depends on container host Compiler: gcc 9.4.0 Fedora 41 (ARM) Kernel: Depends on container host Compiler: gcc 14.2.1 20240912 (Red Hat 14.2.1-3) To view detailed results, visit: https://lab.dpdk.org/results/dashboard/tarballs/33491/ UNH-IOL DPDK Community Lab To manage your email subscriptions, visit: https://lab.dpdk.org/results/dashboard/preferences/subscriptions/