From mboxrd@z Thu Jan  1 00:00:00 1970
Return-Path: <test-report-bounces@dpdk.org>
Received: from mails.dpdk.org (mails.dpdk.org [217.70.189.124])
	by inbox.dpdk.org (Postfix) with ESMTP id 28C4646708
	for <public@inbox.dpdk.org>; Sat, 10 May 2025 07:27:58 +0200 (CEST)
Received: from mails.dpdk.org (localhost [127.0.0.1])
	by mails.dpdk.org (Postfix) with ESMTP id 24F0F4025D;
	Sat, 10 May 2025 07:27:58 +0200 (CEST)
Received: from mail-pg1-f227.google.com (mail-pg1-f227.google.com
 [209.85.215.227])
 by mails.dpdk.org (Postfix) with ESMTP id 29E1D4025A
 for <test-report@dpdk.org>; Sat, 10 May 2025 07:27:57 +0200 (CEST)
Received: by mail-pg1-f227.google.com with SMTP id
 41be03b00d2f7-b13e0471a2dso2000306a12.2
 for <test-report@dpdk.org>; Fri, 09 May 2025 22:27:57 -0700 (PDT)
DKIM-Signature: v=1; a=rsa-sha256; c=relaxed/relaxed;
 d=iol.unh.edu; s=unh-iol; t=1746854876; x=1747459676; darn=dpdk.org;
 h=cc:to:from:subject:message-id:date:from:to:cc:subject:date
 :message-id:reply-to;
 bh=GsgDNEM2Nk362385NWazQh755naktXj6kNB3NENIEK4=;
 b=TYG24wLYYs0gX4iZdiehO91qnn/evp90t93tIFcA2FBefyO1V0FG18zFpnfbBMovzG
 wsXXo16LUJbvZi04VxXoVXgW3TKsSIfsxXCHH1jrz7q2Ou5sw82lE05Yx7PCiKcJ3nBe
 Ka1Oy3cJ7jXPuLEmFP54O7yFC/Jil/iF2K4YY=
X-Google-DKIM-Signature: v=1; a=rsa-sha256; c=relaxed/relaxed;
 d=1e100.net; s=20230601; t=1746854876; x=1747459676;
 h=cc:to:from:subject:message-id:date:x-gm-message-state:from:to:cc
 :subject:date:message-id:reply-to;
 bh=GsgDNEM2Nk362385NWazQh755naktXj6kNB3NENIEK4=;
 b=idOS2wN6TunVD+i9bAG/k9z8kPgAbOrvKdwxaA6aCfC55uE9bEB/k+hgU68azxKhOL
 uBhHS1Ii5/YOwFVBq38Lr5CWoghpc6cZudnLXORvoPFNVgMU5T0Gf4wlzsPlH0G6VZP5
 VJC2M3vmzPboFn4P7KhS6pWONklixhp1GjzX676lpIYyiooU0iCWab9PZ8RT+yTDqRfB
 2VMQb8x/jLAejncqEmLElEcvihU9vUHX4sD6LxlaulIZqgsB5f+QOgjpFveefbFZylHF
 qn9pM8QJRyhD1QW4r+eIZiDfzbE4OcC3fFhOb0x1zflCwCQnaF5aadt235fEJqnjfC6K
 WlWg==
X-Gm-Message-State: AOJu0YzwdgJBRnfURtT9bdePHEXGokGxCbr43dF+6b2uw1Acj5JQqNiP
 GN/zwS/q9nVfnmH9dpl9rBcDPaoe5yME3YHdOuVcbRhlBshynJwq+Skxua6DNMn03QF4yxeB2Ox
 ledhp0tj2c9XQx8UrC1lJjDNyxvc4PWtz
X-Gm-Gg: ASbGncu9y7+Fc19hHfs9RjQFDbmqauz9XV3UeDo9Q/mGdZQiRjIq9te7HLRKKC/VRuh
 wSC4ysVP6cAOaA+nUPIZva6QUtpoO4gXBmNx0ZgCSMMI2qFw8p5fQghjIN70AMedtXHru3VkxNN
 BKa5fuX/C3hBdVLleSMHOgimSCZTTuBwqgMy+JedT2JO46ZTFm1iikUn1O7AX9HBTK98Bex44Ak
 t5GVAR2pSGeCEh8BF572Qezq8jQbBTGztS/ucAtXWoJzdsLqAip5zImJ8hmxWRI4iXpYM5yFps+
 K4oNU0LdpW/7h1WC9NJHAj9Z7H1Fl7iWx6tWSdDpIK/l7Zz79MfEswsLZy8=
X-Google-Smtp-Source: AGHT+IGCPOVyi8psDz4cz6qOVZ/EweOORafgi8ztowDAJ1X7GuatG/t+Q2NUYNcTkSrN0Lyr4vu7zAMAQPxL
X-Received: by 2002:a17:902:f64d:b0:223:53fb:e1dd with SMTP id
 d9443c01a7336-22fc8afee39mr68722575ad.9.1746854876104; 
 Fri, 09 May 2025 22:27:56 -0700 (PDT)
Received: from postal.iol.unh.edu (postal.iol.unh.edu. [132.177.123.84])
 by smtp-relay.gmail.com with ESMTPS id
 d9443c01a7336-22fc5a53f7fsm1913135ad.67.2025.05.09.22.27.56
 (version=TLS1_2 cipher=ECDHE-ECDSA-AES128-GCM-SHA256 bits=128/128);
 Fri, 09 May 2025 22:27:56 -0700 (PDT)
X-Relaying-Domain: iol.unh.edu
Date: Fri, 09 May 2025 22:27:56 -0700 (PDT)
Message-ID: <681ee3dc.170a0220.123995.a8eaSMTPIN_ADDED_MISSING@mx.google.com>
Received: from [172.21.0.11] (unknown [172.18.0.240])
 by postal.iol.unh.edu (Postfix) with ESMTP id 4C4FA6052471;
 Sat, 10 May 2025 01:27:55 -0400 (EDT)
Subject: |SUCCESS| [GIT MASTER] 4c5634de9f933555bab9c64a533d3dca999071cd
From: dpdklab@iol.unh.edu
To: Test Report <test-report@dpdk.org>
Cc: dpdk-test-reports@iol.unh.edu, Xueming Li <xuemingl@nvidia.com>,
 Christian Ehrhardt <christian.ehrhardt@canonical.com>,
 Kevin Traynor <ktraynor@redhat.com>, Luca Boccassi <bluca@debian.org>
Content-Type: text/plain
X-BeenThere: test-report@dpdk.org
X-Mailman-Version: 2.1.29
Precedence: list
List-Id: automatic DPDK test reports <test-report.dpdk.org>
List-Unsubscribe: <https://mails.dpdk.org/options/test-report>,
 <mailto:test-report-request@dpdk.org?subject=unsubscribe>
List-Archive: <http://mails.dpdk.org/archives/test-report/>
List-Post: <mailto:test-report@dpdk.org>
List-Help: <mailto:test-report-request@dpdk.org?subject=help>
List-Subscribe: <https://mails.dpdk.org/listinfo/test-report>,
 <mailto:test-report-request@dpdk.org?subject=subscribe>
Errors-To: test-report-bounces@dpdk.org

_Testing PASS_

Branch: tags/v24.11

4c5634de9f933555bab9c64a533d3dca999071cd --> testing pass

Upstream job id: Generic-DPDK-Compile-ABI#125948

Test environment and result as below:

+-------------------+----------+
|    Environment    | abi_test |
+===================+==========+
| CentOS Stream 9   | PASS     |
+-------------------+----------+
| Fedora 40 (Clang) | PASS     |
+-------------------+----------+
| CentOS Stream 10  | PASS     |
+-------------------+----------+
| Debian 12         | PASS     |
+-------------------+----------+
| Fedora 40         | PASS     |
+-------------------+----------+
| Fedora 41 (Clang) | PASS     |
+-------------------+----------+
| Fedora 41         | PASS     |
+-------------------+----------+
| openSUSE Leap 15  | PASS     |
+-------------------+----------+
| RHEL8             | PASS     |
+-------------------+----------+
| RHEL9             | PASS     |
+-------------------+----------+
| Ubuntu 22.04      | PASS     |
+-------------------+----------+
| Ubuntu 24.04      | PASS     |
+-------------------+----------+


CentOS Stream 9
	Kernel: Depends on container host
	Compiler: gcc 11.5.0 20240719 (Red Hat 11.5.0-2)

Fedora 40 (Clang)
	Kernel: Depends on container host
	Compiler: clang 18.1.8 (Fedora 18.1.8-1.fc40)

CentOS Stream 10
	Kernel: Depends on container host
	Compiler: gcc 14.2.1 20241104 (Red Hat 14.2.1-6)

Debian 12
	Kernel: Depends on container host
	Compiler: gcc (Debian 12.2.0-14) 12.2.0

Fedora 40
	Kernel: Depends on container host
	Compiler: gcc 14.2.1 20240912 (Red Hat 14.2.1-3)

Fedora 41 (Clang)
	Kernel: Depends on container host
	Compiler: clang 19.1.5 (Fedora 19.1.5-1.fc41)

Fedora 41
	Kernel: Depends on container host
	Compiler: gcc 14.2.1 20240912 (Red Hat 14.2.1-3)

openSUSE Leap 15
	Kernel: Depends on container host
	Compiler: gcc (SUSE Linux) 7.5.0

RHEL8
	Kernel: Depends on container host
	Compiler: gcc 8.5.0 20210514 (Red Hat 8.5.0-22)

RHEL9
	Kernel: Depends on container host
	Compiler: gcc 11.5.0 20240719 (Red Hat 11.5.0-2)

Ubuntu 22.04
	Kernel: Depends on container host
	Compiler: gcc (Ubuntu 11.4.0-1ubuntu1~22.04) 11.4.0

Ubuntu 24.04
	Kernel: Depends on container host
	Compiler: gcc (Ubuntu 13.3.0-6ubuntu2~24.04) 13.3.0

To view detailed results, visit:
https://lab.dpdk.org/results/dashboard/tarballs/33493/

UNH-IOL DPDK Community Lab

To manage your email subscriptions, visit: 
https://lab.dpdk.org/results/dashboard/preferences/subscriptions/