From mboxrd@z Thu Jan 1 00:00:00 1970 Return-Path: Received: from mails.dpdk.org (mails.dpdk.org [217.70.189.124]) by inbox.dpdk.org (Postfix) with ESMTP id 7C07146708 for ; Sat, 10 May 2025 07:59:29 +0200 (CEST) Received: from mails.dpdk.org (localhost [127.0.0.1]) by mails.dpdk.org (Postfix) with ESMTP id 5CDD34025D; Sat, 10 May 2025 07:59:29 +0200 (CEST) Received: from mail-qt1-f226.google.com (mail-qt1-f226.google.com [209.85.160.226]) by mails.dpdk.org (Postfix) with ESMTP id 0F3474025A for ; Sat, 10 May 2025 07:59:28 +0200 (CEST) Received: by mail-qt1-f226.google.com with SMTP id d75a77b69052e-476af5479feso35235511cf.2 for ; Fri, 09 May 2025 22:59:27 -0700 (PDT) DKIM-Signature: v=1; a=rsa-sha256; c=relaxed/relaxed; d=iol.unh.edu; s=unh-iol; t=1746856767; x=1747461567; darn=dpdk.org; h=cc:to:from:subject:message-id:date:from:to:cc:subject:date :message-id:reply-to; bh=P41ynxZI19UrjlYt/FMkM21/J5HzSy0jVhiSFNBnHO8=; b=CoCu7K09/Dx5cbDf6P24kxR6eAxsdD7npmUV95R9calffeznjNZTEBp5BZGMYoK5MY GAso2c4KYtbJlC/WIDGUQzDVwPMfDQ9kTQmfNrEH4qz2X5WI4q04pHHt2wT5UJCqp4fw FzskKsoogIty/nprIXStDv6iSrH2v2vhu9V3w= X-Google-DKIM-Signature: v=1; a=rsa-sha256; c=relaxed/relaxed; d=1e100.net; s=20230601; t=1746856767; x=1747461567; h=cc:to:from:subject:message-id:date:x-gm-message-state:from:to:cc :subject:date:message-id:reply-to; bh=P41ynxZI19UrjlYt/FMkM21/J5HzSy0jVhiSFNBnHO8=; b=nL2gLIj+++HlajzFw5kyMlhY4Zb0+fnL1bsgdZlae/RcMJtPnMvhZIaoVUa/44hdIj yoRYbE+/SvBGVQVhtP8VYcZJ0Qfp1FUA7U0KDv63Tmuny4HqS8SwEiA4WHZqA5+TZYHM h/dQS1A770RTkdQDfVPNQAh09SFdUZxrsfSTUxMTt5/7dtOuXlDqbZv1ojJ/K/nKN5aF b4j/IyXzMHuJTC8Ne74Yw6Siyh4jzpmCTKY9lbn7vGWthBWOoQ7pzVBmrEg8uH3OVrsr qE6+dow+RjfpNctTHpXc1I1pDE0DIZqifjmTTiFoUuaJxKnDRcAQ736XTu2fbGw9P2Lq wksA== X-Gm-Message-State: AOJu0YyuyhAJQ7+MsxLWE7hbuj8WiGmXK8HJhRoIdSvTd1TCXKPQK6y3 6vgBljGkEvy3SM9MXjl8ft2hQbqnxsVnmxC5oOdkcLtzeQLF9hCh0yC3folUH6eGdqe7pxUs6mv c63RgcpSnriNGDQWUISRb+ZaAtt8DtFtg X-Gm-Gg: ASbGncsEZBdxQ1Djxt5AVhl7IDZkrWrCsqprQtOqpQid3MRUE4lj3Jd9iQ+gVigfXRY 6qAX31es/Yj2sg8hCFngF2O99GAQJZBruBIf/q2XQyxB9ksthIZQMbOmAH4NXdznceUZMImhU++ cLNgDejXvNhSU/HL7KF0LK9j/lOgl3qZXn7Is136zTnPNfQ7BHGWOaQ4p9q9sx57Sy8e3cUEhO1 +n41+C3fLIgBeIUdO7V2F1vpoEBAg+aYM04De6sRjnrPMjX7kavE6tj14cQVTTxi/zkkYliDgXR AiCvT+v3Nu66/ugQiiVkrpdddqzcZ1Lzk4/YdLaO7HVYT2umIz93JTuIbD8= X-Google-Smtp-Source: AGHT+IGhta2eSZtO2vgJdd8uDGYndbBVdkmaKdyhF7p8HPbMqCCn6witZSHy1UyHyEwNqjnDvgkLlbtAOuk+ X-Received: by 2002:a05:622a:2590:b0:48c:52a6:aabd with SMTP id d75a77b69052e-49452716decmr110117071cf.1.1746856767280; Fri, 09 May 2025 22:59:27 -0700 (PDT) Received: from postal.iol.unh.edu (postal.iol.unh.edu. [132.177.123.84]) by smtp-relay.gmail.com with ESMTPS id d75a77b69052e-4945253b1f4sm1025621cf.19.2025.05.09.22.59.27 (version=TLS1_2 cipher=ECDHE-ECDSA-AES128-GCM-SHA256 bits=128/128); Fri, 09 May 2025 22:59:27 -0700 (PDT) X-Relaying-Domain: iol.unh.edu Date: Fri, 09 May 2025 22:59:27 -0700 (PDT) Message-ID: <681eeb3f.050a0220.3bf7c5.589dSMTPIN_ADDED_MISSING@mx.google.com> Received: from [172.21.0.5] (unknown [172.18.0.240]) by postal.iol.unh.edu (Postfix) with ESMTP id EB41B6052471; Sat, 10 May 2025 01:59:26 -0400 (EDT) Subject: |SUCCESS| [GIT MASTER] 4401486b5e30d43a134f80f9802f60b5f43e74a8 From: dpdklab@iol.unh.edu To: Test Report Cc: dpdk-test-reports@iol.unh.edu, Xueming Li , Christian Ehrhardt , Kevin Traynor , Luca Boccassi Content-Type: text/plain X-BeenThere: test-report@dpdk.org X-Mailman-Version: 2.1.29 Precedence: list List-Id: automatic DPDK test reports List-Unsubscribe: , List-Archive: List-Post: List-Help: List-Subscribe: , Errors-To: test-report-bounces@dpdk.org _Testing PASS_ Branch: tags/v22.11 4401486b5e30d43a134f80f9802f60b5f43e74a8 --> testing pass Upstream job id: ACVP-FIPS-testing#9772 Test environment and result as below: +--------------------+----------------------+----------------------+ | Environment | compressdev_zlib_pmd | dpdk_fips_validation | +====================+======================+======================+ | Ubuntu 22.04 (ARM) | PASS | SKIPPED | +--------------------+----------------------+----------------------+ | Ubuntu 22.04 | PASS | SKIPPED | +--------------------+----------------------+----------------------+ | Ubuntu 20.04 | SKIPPED | PASS | +--------------------+----------------------+----------------------+ Ubuntu 22.04 (ARM) Kernel: 5.15.0-97-generic Compiler: gcc gcc (Ubuntu 11.4.0-1ubuntu1~22.04) 11.4.0 Ubuntu 22.04 Kernel: 5.15.0-100-generic Compiler: gcc gcc (Ubuntu 11.4.0-1ubuntu1~22.04) 11.4.0 Ubuntu 20.04 Kernel: Depends on container host Compiler: gcc (Ubuntu 9.4.0-1ubuntu1~20.04.2) 9.4.0 To view detailed results, visit: https://lab.dpdk.org/results/dashboard/tarballs/33492/ UNH-IOL DPDK Community Lab To manage your email subscriptions, visit: https://lab.dpdk.org/results/dashboard/preferences/subscriptions/