From mboxrd@z Thu Jan 1 00:00:00 1970 Return-Path: Received: from mails.dpdk.org (mails.dpdk.org [217.70.189.124]) by inbox.dpdk.org (Postfix) with ESMTP id D74DC4670A for ; Sat, 10 May 2025 08:23:49 +0200 (CEST) Received: from mails.dpdk.org (localhost [127.0.0.1]) by mails.dpdk.org (Postfix) with ESMTP id B537A4025D; Sat, 10 May 2025 08:23:49 +0200 (CEST) Received: from mail-il1-f228.google.com (mail-il1-f228.google.com [209.85.166.228]) by mails.dpdk.org (Postfix) with ESMTP id 0B6404025A for ; Sat, 10 May 2025 08:23:48 +0200 (CEST) Received: by mail-il1-f228.google.com with SMTP id e9e14a558f8ab-3da74959554so8622485ab.2 for ; Fri, 09 May 2025 23:23:47 -0700 (PDT) DKIM-Signature: v=1; a=rsa-sha256; c=relaxed/relaxed; d=iol.unh.edu; s=unh-iol; t=1746858227; x=1747463027; darn=dpdk.org; h=cc:to:from:subject:message-id:date:from:to:cc:subject:date :message-id:reply-to; bh=/NPA7ycQvU95BLRRDAT4WSWTwuYHFDOIJknxw1WrYyg=; b=Chbxc3h18ap10hh0pYsWzMEsT168FXhr5moTfZU5qM9PJ92qwPWS8VpzmfcS3JZUAb oXZoZAY4bkoaKOHptJMyicHO4PGqsbxRdq3XrxLVqppvj+prRs14HJ3BdqUtUP6678vo XgfbfKjPGULroVJLxZmstI5XzSfsBjihg661s= X-Google-DKIM-Signature: v=1; a=rsa-sha256; c=relaxed/relaxed; d=1e100.net; s=20230601; t=1746858227; x=1747463027; h=cc:to:from:subject:message-id:date:x-gm-message-state:from:to:cc :subject:date:message-id:reply-to; bh=/NPA7ycQvU95BLRRDAT4WSWTwuYHFDOIJknxw1WrYyg=; b=C1PbQ+WI2+8FGzzDK8d7TQIZ3IRAOBXYfiCulFTOKxqLeQfQdge0+OU6m8hXDikTzy UoqGgXbAO4alCrtDfto9H7lswyEF8N9wNudDBfuLYB9xmtgxsrxt8GLygXI4IXIDx+Xr 3PgMSsfzFxQP+4qa7txoA0JobsBGtjzs7zcvtskN3chG5FR/x8Bpk2A8n2Ipi8D5KZx+ fDd7NqtGsEmWHNl5xNLQwzR/gz7XGHvolPb++xMbc8Af6Jb/ytuurvxxW16FtOdORU7m ZeSM8fawbz/yeVgrb1qidOXyOKRmZY919DaXi18nrnhcaGJYuBSbmK+OEJB2q9EQbWdm DjGw== X-Gm-Message-State: AOJu0Yz/fTKymLdKkby2iRxjw2HfRlK59Lb66pC4Vvaj7z2sUIK0b23t dZSnFwZTm4Smqr7Bu8l3OmSadhrCFtrUrm3OwWPwrKV11C4Jc7sKlv/t2UKnV8YhlOQ8sd3rJHf UMSZs+jwBG0vsbCtoysNLFel3L9IQGWme+FS0o2i0oqSFdvts X-Gm-Gg: ASbGncubF0vLKyrPTXJQBKZkPVKwuoCI1wKM/+WHRur3KK/g48zMimYKziebRBfo0nV l9bcFOZwfN197p6gthcsajPji0eGXLu9P5XxH5Akt6EOP+hBqYb3kvImC3eHBsotqOqOrlZiJSX panUOS0/7BKBQ+2Ue9uKo3/pUUZUhmougp8wCj7NlsWkwYOVs8DaM8PSt5Q2NvpMoEYlAyDbRZ2 +iTp87wexp0SsvK35wkoJ60qqtm/Df9xzWL3Qhwo8u+jGq+BFOjnX0twNnwKq7G+sMC7cSMkzIq KBhGdn9YAIMjqyZi8VhuNs95UHUVMw2UWjKI X-Google-Smtp-Source: AGHT+IGqEJKUxRnobdo5IwWyI6p4HQAcEmM+qLwWrYf2TPkHJO0unUP9cIIt6IdbibedvjowBWB9A4AnFBq1 X-Received: by 2002:a05:6e02:1c23:b0:3d9:6cb6:fa52 with SMTP id e9e14a558f8ab-3da7e1efc52mr85881595ab.12.1746858227137; Fri, 09 May 2025 23:23:47 -0700 (PDT) Received: from postal.iol.unh.edu (postal.iol.unh.edu. [2606:4100:3880:1234::84]) by smtp-relay.gmail.com with ESMTPS id e9e14a558f8ab-3da7e0f9b1asm2394075ab.3.2025.05.09.23.23.47 (version=TLS1_2 cipher=ECDHE-ECDSA-AES128-GCM-SHA256 bits=128/128); Fri, 09 May 2025 23:23:47 -0700 (PDT) X-Relaying-Domain: iol.unh.edu Date: Fri, 09 May 2025 23:23:47 -0700 (PDT) Message-ID: <681ef0f3.050a0220.202587.d4efSMTPIN_ADDED_MISSING@mx.google.com> Received: from [172.21.0.5] (unknown [172.18.0.240]) by postal.iol.unh.edu (Postfix) with ESMTP id 9B5606052471; Sat, 10 May 2025 02:23:46 -0400 (EDT) Subject: |SUCCESS| [GIT MASTER] 4401486b5e30d43a134f80f9802f60b5f43e74a8 From: dpdklab@iol.unh.edu To: Test Report Cc: dpdk-test-reports@iol.unh.edu, Xueming Li , Christian Ehrhardt , Kevin Traynor , Luca Boccassi Content-Type: text/plain X-BeenThere: test-report@dpdk.org X-Mailman-Version: 2.1.29 Precedence: list List-Id: automatic DPDK test reports List-Unsubscribe: , List-Archive: List-Post: List-Help: List-Subscribe: , Errors-To: test-report-bounces@dpdk.org _Testing PASS_ Branch: tags/v22.11 4401486b5e30d43a134f80f9802f60b5f43e74a8 --> testing pass Upstream job id: Generic-Unit-Test-DPDK#336874 Test environment and result as below: +-----------------------------+--------------+------------------------------+---------------------------+----------------+ | Environment | lpm_autotest | cryptodev_sw_snow3g_autotest | cryptodev_sw_zuc_autotest | dpdk_unit_test | +=============================+==============+==============================+===========================+================+ | Ubuntu 20.04 ARM SVE | PASS | SKIPPED | SKIPPED | SKIPPED | +-----------------------------+--------------+------------------------------+---------------------------+----------------+ | Debian 12 (arm) | SKIPPED | PASS | PASS | SKIPPED | +-----------------------------+--------------+------------------------------+---------------------------+----------------+ | 32-bit Ubuntu 22.04.4 (ARM) | SKIPPED | SKIPPED | SKIPPED | PASS | +-----------------------------+--------------+------------------------------+---------------------------+----------------+ Ubuntu 20.04 ARM SVE Kernel: Depends on container host Compiler: gcc (Ubuntu 10.5.0-1ubuntu1~20.04) 10.5.0 Debian 12 (arm) Kernel: Depends on container host Compiler: gcc (Debian 12.2.0-14) 12.2.0 32-bit Ubuntu 22.04.4 (ARM) Kernel: 5.15.83+ aarch64 Compiler: gcc (Ubuntu 11.4.0-1ubuntu1~22.04) 11.4.0 To view detailed results, visit: https://lab.dpdk.org/results/dashboard/tarballs/33492/ UNH-IOL DPDK Community Lab To manage your email subscriptions, visit: https://lab.dpdk.org/results/dashboard/preferences/subscriptions/