From mboxrd@z Thu Jan 1 00:00:00 1970 Return-Path: Received: from mails.dpdk.org (mails.dpdk.org [217.70.189.124]) by inbox.dpdk.org (Postfix) with ESMTP id 70A5F4670A for ; Sat, 10 May 2025 08:30:00 +0200 (CEST) Received: from mails.dpdk.org (localhost [127.0.0.1]) by mails.dpdk.org (Postfix) with ESMTP id 45E224025D; Sat, 10 May 2025 08:30:00 +0200 (CEST) Received: from mail-qv1-f99.google.com (mail-qv1-f99.google.com [209.85.219.99]) by mails.dpdk.org (Postfix) with ESMTP id CC7694025A for ; Sat, 10 May 2025 08:29:58 +0200 (CEST) Received: by mail-qv1-f99.google.com with SMTP id 6a1803df08f44-6f549550d96so36431436d6.3 for ; Fri, 09 May 2025 23:29:58 -0700 (PDT) DKIM-Signature: v=1; a=rsa-sha256; c=relaxed/relaxed; d=iol.unh.edu; s=unh-iol; t=1746858598; x=1747463398; darn=dpdk.org; h=cc:to:from:subject:message-id:date:from:to:cc:subject:date :message-id:reply-to; bh=1LkJqoNIoR8VZ36RrE1cKaNRsESLAwSc6POd2dPDNlE=; b=EG3uYpY1CfGoaB9JG2Qc9K15260KtI0Dx09Ut3Hsez+ZleqZ9l8mG6KYVnDKQuvS0t W2XDP3sFOYDEKbP7SxdgBXeHMkCGDydhkLr5UYrTncUYhtdxoeWbGC55x9s2wFe8/sMZ ttSt2hJjm3ihuMmP+n/v/vrcPjSYGucTrk1vI= X-Google-DKIM-Signature: v=1; a=rsa-sha256; c=relaxed/relaxed; d=1e100.net; s=20230601; t=1746858598; x=1747463398; h=cc:to:from:subject:message-id:date:x-gm-message-state:from:to:cc :subject:date:message-id:reply-to; bh=1LkJqoNIoR8VZ36RrE1cKaNRsESLAwSc6POd2dPDNlE=; b=rB7CxyqgA6rzvZ1gIaKmOP6lYImCvEqolWZ5nZchfXMLt7vftAh5sjtxLu1Pa/zSub gLvGNrutJdMAsRBHtbRC4j+QQCPpwCtl5FnGvnvWZhWw6a8BmKEiai/WrMnlfso74Z3N EFmpyPd8RhQNuZmqlot5pPB7Z2T4+BicbLkhDqbn/Xy2nfbqccgKaVlQgmbh6fk4SOf2 PiUH1l8brt4P1sovhAhVh3d0G6TnGyRED56Oydv5nq+dKqu5KCVEv0wtvCDbvw0vx2nH cwSDyAmJLONr5P74BBbwgZZCaqXXR50MVHJbTVx8bp/Bd+jy8BrlO345HayxIOdA4vmF VKDw== X-Gm-Message-State: AOJu0YzvgkiLVbQuSXRaHH9FW8oFe/tuwh8oWBUjtJWBaLDGA2B+Xtq9 a02/tRgLvAKmmEMtCoqGU4vkcmL7GwdYVmLtZ9coR3bjlKeiwzAySK5Mslmld6DFW1dNpixyvA5 ++Bu7iY/FWG4o7gwN9CJ+dmMb7yhytIUX X-Gm-Gg: ASbGncu3MJwIJEy1PBd2pQOXBcZwbOHmRGQVnA/rM9zXWjbRjwA+CHDXC/xEnKHTWV5 /1ysTTyoqsZ4MhSHRLwMjvcWE+lQy725zcMN71z1v2b77keT4olPXZV685LYEiZqzkjRELoSOof JefjD+/IarjWbmkrvmeBIk3lFZ8cxkCyVSafBogPCdtimQKZUj+35PIKiYEbqU7MdTvz7nPXo3X XCNgpAq2izAo2GE9WZ7TsmJTU0Y9qwbIpNvxLWjSY4XRK9RR+68j0MlkzF66nFIB9ocIQ3jpVBY MExImElLxgDBtCxrceX7zJJXaYZU+69TDPX/Fgirj2rECXoPQeDk09bkBU0= X-Google-Smtp-Source: AGHT+IHSWKRUDRxf8YIfH7OG5Z7LpB5aDM4/7ifwOkjHM8Dabg5KMpAH4iacHWchWc1QLWxMZ5KMVPpFu0sG X-Received: by 2002:a05:6214:c85:b0:6f4:c15a:6215 with SMTP id 6a1803df08f44-6f6e481d1e5mr93885506d6.39.1746858598072; Fri, 09 May 2025 23:29:58 -0700 (PDT) Received: from postal.iol.unh.edu (postal.iol.unh.edu. [132.177.123.84]) by smtp-relay.gmail.com with ESMTPS id 6a1803df08f44-6f6e3a0e8a1sm1918296d6.37.2025.05.09.23.29.58 (version=TLS1_2 cipher=ECDHE-ECDSA-AES128-GCM-SHA256 bits=128/128); Fri, 09 May 2025 23:29:58 -0700 (PDT) X-Relaying-Domain: iol.unh.edu Date: Fri, 09 May 2025 23:29:58 -0700 (PDT) Message-ID: <681ef266.050a0220.a8979.b7ffSMTPIN_ADDED_MISSING@mx.google.com> Received: from [172.21.0.5] (unknown [172.18.0.240]) by postal.iol.unh.edu (Postfix) with ESMTP id 8B61E6052471; Sat, 10 May 2025 02:29:57 -0400 (EDT) Subject: |SUCCESS| [GIT MASTER] 83a7a648344674c0269fcaeb71d8d16468421a0e From: dpdklab@iol.unh.edu To: Test Report Cc: dpdk-test-reports@iol.unh.edu, Xueming Li , Christian Ehrhardt , Kevin Traynor , Luca Boccassi Content-Type: text/plain X-BeenThere: test-report@dpdk.org X-Mailman-Version: 2.1.29 Precedence: list List-Id: automatic DPDK test reports List-Unsubscribe: , List-Archive: List-Post: List-Help: List-Subscribe: , Errors-To: test-report-bounces@dpdk.org _Testing PASS_ Branch: tags/v23.11 83a7a648344674c0269fcaeb71d8d16468421a0e --> testing pass Upstream job id: Generic-Unit-Test-DPDK#336881 Test environment and result as below: +-----------------------------+----------------+------------------------------+--------------+---------------------------+ | Environment | dpdk_unit_test | cryptodev_sw_snow3g_autotest | lpm_autotest | cryptodev_sw_zuc_autotest | +=============================+================+==============================+==============+===========================+ | CentOS Stream 9 (ARM) | PASS | SKIPPED | SKIPPED | SKIPPED | +-----------------------------+----------------+------------------------------+--------------+---------------------------+ | Fedora 40 (ARM) | PASS | SKIPPED | SKIPPED | SKIPPED | +-----------------------------+----------------+------------------------------+--------------+---------------------------+ | Debian 12 (arm) | PASS | PASS | SKIPPED | PASS | +-----------------------------+----------------+------------------------------+--------------+---------------------------+ | CentOS Stream 10 (ARM) | PASS | SKIPPED | SKIPPED | SKIPPED | +-----------------------------+----------------+------------------------------+--------------+---------------------------+ | Fedora 41 (ARM) | PASS | SKIPPED | SKIPPED | SKIPPED | +-----------------------------+----------------+------------------------------+--------------+---------------------------+ | Fedora 41 (ARM Clang) | PASS | SKIPPED | SKIPPED | SKIPPED | +-----------------------------+----------------+------------------------------+--------------+---------------------------+ | Ubuntu 20.04 (ARM) | PASS | SKIPPED | SKIPPED | SKIPPED | +-----------------------------+----------------+------------------------------+--------------+---------------------------+ | Fedora 40 (ARM Clang) | PASS | SKIPPED | SKIPPED | SKIPPED | +-----------------------------+----------------+------------------------------+--------------+---------------------------+ | RHEL9 (ARM) | PASS | SKIPPED | SKIPPED | SKIPPED | +-----------------------------+----------------+------------------------------+--------------+---------------------------+ | Ubuntu 24.04 (ARM) | PASS | SKIPPED | SKIPPED | SKIPPED | +-----------------------------+----------------+------------------------------+--------------+---------------------------+ | Ubuntu 22.04 (ARM) | PASS | SKIPPED | SKIPPED | SKIPPED | +-----------------------------+----------------+------------------------------+--------------+---------------------------+ | 32-bit Ubuntu 22.04.4 (ARM) | PASS | SKIPPED | SKIPPED | SKIPPED | +-----------------------------+----------------+------------------------------+--------------+---------------------------+ | Ubuntu 20.04 ARM SVE | SKIPPED | SKIPPED | PASS | SKIPPED | +-----------------------------+----------------+------------------------------+--------------+---------------------------+ CentOS Stream 9 (ARM) Kernel: Depends on container host Compiler: gcc 11.5.0 20240719 (Red Hat 11.5.0-2) Fedora 40 (ARM) Kernel: Depends on container host Compiler: gcc 14.2.1 20240912 (Red Hat 14.2.1-3) Debian 12 (arm) Kernel: Depends on container host Compiler: gcc (Debian 12.2.0-14) 12.2.0 CentOS Stream 10 (ARM) Kernel: Depends on container host Compiler: gcc 14.2.1 20241104 (Red Hat 14.2.1-6) Fedora 41 (ARM) Kernel: Depends on container host Compiler: gcc 14.2.1 20240912 (Red Hat 14.2.1-3) Fedora 41 (ARM Clang) Kernel: Depends on container host Compiler: clang 19.1.5 (Fedora 19.1.5-1.fc41) Ubuntu 20.04 (ARM) Kernel: Depends on container host Compiler: gcc (Ubuntu 9.4.0-1ubuntu1~20.04.2) 9.4.0 Fedora 40 (ARM Clang) Kernel: Depends on container host Compiler: clang 18.1.8 (Fedora 18.1.8-1.fc40) RHEL9 (ARM) Kernel: Depends on container host Compiler: gcc 11.5.0 20240719 (Red Hat 11.5.0-2) Ubuntu 24.04 (ARM) Kernel: Depends on container host Compiler: gcc (Ubuntu 13.3.0-6ubuntu2~24.04) 13.3.0 Ubuntu 22.04 (ARM) Kernel: Depends on container host Compiler: gcc (Ubuntu 11.4.0-1ubuntu1~22.04) 11.4.0 32-bit Ubuntu 22.04.4 (ARM) Kernel: 5.15.83+ aarch64 Compiler: gcc (Ubuntu 11.4.0-1ubuntu1~22.04) 11.4.0 Ubuntu 20.04 ARM SVE Kernel: Depends on container host Compiler: gcc (Ubuntu 10.5.0-1ubuntu1~20.04) 10.5.0 To view detailed results, visit: https://lab.dpdk.org/results/dashboard/tarballs/33494/ UNH-IOL DPDK Community Lab To manage your email subscriptions, visit: https://lab.dpdk.org/results/dashboard/preferences/subscriptions/