From mboxrd@z Thu Jan 1 00:00:00 1970 Return-Path: Received: from mails.dpdk.org (mails.dpdk.org [217.70.189.124]) by inbox.dpdk.org (Postfix) with ESMTP id 6C5254670A for ; Sat, 10 May 2025 08:40:49 +0200 (CEST) Received: from mails.dpdk.org (localhost [127.0.0.1]) by mails.dpdk.org (Postfix) with ESMTP id 3EFA64025D; Sat, 10 May 2025 08:40:49 +0200 (CEST) Received: from mail-il1-f226.google.com (mail-il1-f226.google.com [209.85.166.226]) by mails.dpdk.org (Postfix) with ESMTP id 88BA24025A for ; Sat, 10 May 2025 08:40:47 +0200 (CEST) Received: by mail-il1-f226.google.com with SMTP id e9e14a558f8ab-3da73df6b6bso9295185ab.3 for ; Fri, 09 May 2025 23:40:47 -0700 (PDT) DKIM-Signature: v=1; a=rsa-sha256; c=relaxed/relaxed; d=iol.unh.edu; s=unh-iol; t=1746859246; x=1747464046; darn=dpdk.org; h=cc:to:from:subject:message-id:date:from:to:cc:subject:date :message-id:reply-to; bh=LJUbavZczPzHkGvNNxhzDx4UN2vdXSmYNL8ZVecxn00=; b=VRL6TTYjOen8tF/oPGzwmfaSu4UUB0aj+vSCJfY503qvJasqP8VSGRofNODgLnG7wA mrqu03qBc5/F3uI1svFwYjelR5w1st/GIG49QqN4TECG78GJu+SCLhnUWS6Ts5y5PbcD GVZQCn96Q9Z3LByyFHr/d3x9E9xyaBzny5vHM= X-Google-DKIM-Signature: v=1; a=rsa-sha256; c=relaxed/relaxed; d=1e100.net; s=20230601; t=1746859246; x=1747464046; h=cc:to:from:subject:message-id:date:x-gm-message-state:from:to:cc :subject:date:message-id:reply-to; bh=LJUbavZczPzHkGvNNxhzDx4UN2vdXSmYNL8ZVecxn00=; b=Qm49Je6PXOAfcYDTnJ/L39AqzV4TbuLKIPBqWSqyYeDxr/1dhGN83/sPNDxsUk4MKj ZdpnddtZX0iLqyn+oPi5+Bylj7BW0aVEd0GB/7ml0JDESsTu/ne/bRgqYTrRno6GQWTI WAVtVYU3NNd/JStyjbjOD0vtfyAvfUpdpjKI9QoB38Uwre+/t0W2aL5thseskUCFk/b4 ajWH0O9zbZoeB+0IvjysRKvbmmcTC53CAxo+6jRs0cvw1uUUUnpCtE4HjD4aXhvVbS1V 6aB0Uwq7ACoBMFMe+NbNtJ1LeRJWzg3ZYf6rzSBsQB9xgvGKDFd7dt7417GmNEPA+hAT /ZWg== X-Gm-Message-State: AOJu0YxiKat4Ja/q9PZENQjJS4X2eaPZ0p881SbHRermABfHjiTuZO8F n/w9IhZ4LA1eKOhkdPkx4c5l1sr0Yq01J/fa/om3qx29loMrj/2LnOjRIe9psAtSGia6/MBv0/w AEang2ivf81NFLSq5mWO+X4PlBPwcPr2z X-Gm-Gg: ASbGnctZ7hTisfl7kQjNA8nMLS4M58BE7GFs3m4TlfCBOFS5jRsalKwqxucPNImbOJ+ clSfcuUVMQ3+wUluqy7WqTNb6T9WzM5RVoKvLyi7fSYHHbBzL2jbXacLcexXTtEIZQgK32EuIyh FUm2EnAqubCgYu13yphC1xnRpaV9MsCAddfVPmend6ygaQubb9BU8rSEpCTDcGz7wW3we5O1DQf DLtyFbhhDz1JivuRy6wLVKi6UJHPJHLqPlbxB7poAeBbjIRrDKPHEc9Is3Iek8/UvPuCuEMGd2a PAId2ZK/Ya5JeDxqQSbr3uKRc7qyWbxCVnGQT9jGeC2m1ZJdtfnL808RPdE= X-Google-Smtp-Source: AGHT+IElKmtjo7fwxv7TrIpmpKFCOrtUgKNtvd2X7kXy4DxmaNDh2gdz1CWdZxfMbAbybSWrb4H8HYIhhM7S X-Received: by 2002:a92:c26d:0:b0:3d8:18d4:7bce with SMTP id e9e14a558f8ab-3da7e1e23eamr75042955ab.2.1746859246649; Fri, 09 May 2025 23:40:46 -0700 (PDT) Received: from postal.iol.unh.edu (postal.iol.unh.edu. [132.177.123.84]) by smtp-relay.gmail.com with ESMTPS id e9e14a558f8ab-3da7e10301bsm2415145ab.21.2025.05.09.23.40.46 (version=TLS1_2 cipher=ECDHE-ECDSA-AES128-GCM-SHA256 bits=128/128); Fri, 09 May 2025 23:40:46 -0700 (PDT) X-Relaying-Domain: iol.unh.edu Date: Fri, 09 May 2025 23:40:46 -0700 (PDT) Message-ID: <681ef4ee.050a0220.1bcbf2.dbafSMTPIN_ADDED_MISSING@mx.google.com> Received: from [172.21.0.5] (unknown [172.18.0.240]) by postal.iol.unh.edu (Postfix) with ESMTP id 237066052471; Sat, 10 May 2025 02:40:46 -0400 (EDT) Subject: |SUCCESS| [GIT MASTER] 4c5634de9f933555bab9c64a533d3dca999071cd From: dpdklab@iol.unh.edu To: Test Report Cc: dpdk-test-reports@iol.unh.edu, Xueming Li , Christian Ehrhardt , Kevin Traynor , Luca Boccassi Content-Type: text/plain X-BeenThere: test-report@dpdk.org X-Mailman-Version: 2.1.29 Precedence: list List-Id: automatic DPDK test reports List-Unsubscribe: , List-Archive: List-Post: List-Help: List-Subscribe: , Errors-To: test-report-bounces@dpdk.org _Testing PASS_ Branch: tags/v24.11 4c5634de9f933555bab9c64a533d3dca999071cd --> testing pass Upstream job id: Generic-Unit-Test-DPDK#336912 Test environment and result as below: +------------------------+----------------+ | Environment | dpdk_unit_test | +========================+================+ | Fedora 41 (ARM Clang) | PASS | +------------------------+----------------+ | CentOS Stream 9 (ARM) | PASS | +------------------------+----------------+ | CentOS Stream 10 (ARM) | PASS | +------------------------+----------------+ | Fedora 40 (ARM Clang) | PASS | +------------------------+----------------+ | Debian 12 (arm) | PASS | +------------------------+----------------+ | Fedora 40 (ARM) | PASS | +------------------------+----------------+ | Ubuntu 20.04 (ARM) | PASS | +------------------------+----------------+ | Fedora 41 (ARM) | PASS | +------------------------+----------------+ | Ubuntu 24.04 (ARM) | PASS | +------------------------+----------------+ | RHEL9 (ARM) | PASS | +------------------------+----------------+ | Ubuntu 22.04 (ARM) | PASS | +------------------------+----------------+ Fedora 41 (ARM Clang) Kernel: Depends on container host Compiler: clang 19.1.5 (Fedora 19.1.5-1.fc41) CentOS Stream 9 (ARM) Kernel: Depends on container host Compiler: gcc 11.5.0 20240719 (Red Hat 11.5.0-2) CentOS Stream 10 (ARM) Kernel: Depends on container host Compiler: gcc 14.2.1 20241104 (Red Hat 14.2.1-6) Fedora 40 (ARM Clang) Kernel: Depends on container host Compiler: clang 18.1.8 (Fedora 18.1.8-1.fc40) Debian 12 (arm) Kernel: Depends on container host Compiler: gcc (Debian 12.2.0-14) 12.2.0 Fedora 40 (ARM) Kernel: Depends on container host Compiler: gcc 14.2.1 20240912 (Red Hat 14.2.1-3) Ubuntu 20.04 (ARM) Kernel: Depends on container host Compiler: gcc (Ubuntu 9.4.0-1ubuntu1~20.04.2) 9.4.0 Fedora 41 (ARM) Kernel: Depends on container host Compiler: gcc 14.2.1 20240912 (Red Hat 14.2.1-3) Ubuntu 24.04 (ARM) Kernel: Depends on container host Compiler: gcc (Ubuntu 13.3.0-6ubuntu2~24.04) 13.3.0 RHEL9 (ARM) Kernel: Depends on container host Compiler: gcc 11.5.0 20240719 (Red Hat 11.5.0-2) Ubuntu 22.04 (ARM) Kernel: Depends on container host Compiler: gcc (Ubuntu 11.4.0-1ubuntu1~22.04) 11.4.0 To view detailed results, visit: https://lab.dpdk.org/results/dashboard/tarballs/33493/ UNH-IOL DPDK Community Lab To manage your email subscriptions, visit: https://lab.dpdk.org/results/dashboard/preferences/subscriptions/