From mboxrd@z Thu Jan 1 00:00:00 1970 Return-Path: Received: from mails.dpdk.org (mails.dpdk.org [217.70.189.124]) by inbox.dpdk.org (Postfix) with ESMTP id 5271E4670A for ; Sat, 10 May 2025 09:16:00 +0200 (CEST) Received: from mails.dpdk.org (localhost [127.0.0.1]) by mails.dpdk.org (Postfix) with ESMTP id 254FA4025D; Sat, 10 May 2025 09:16:00 +0200 (CEST) Received: from mail-pl1-f227.google.com (mail-pl1-f227.google.com [209.85.214.227]) by mails.dpdk.org (Postfix) with ESMTP id 9FD314025A for ; Sat, 10 May 2025 09:15:58 +0200 (CEST) Received: by mail-pl1-f227.google.com with SMTP id d9443c01a7336-22e70a9c6bdso43398565ad.3 for ; Sat, 10 May 2025 00:15:58 -0700 (PDT) DKIM-Signature: v=1; a=rsa-sha256; c=relaxed/relaxed; d=iol.unh.edu; s=unh-iol; t=1746861357; x=1747466157; darn=dpdk.org; h=cc:to:from:subject:message-id:date:from:to:cc:subject:date :message-id:reply-to; bh=4dNmWPRSiQSJBILZXXHqyz3kyLMZFb2qH7g43WpH/PU=; b=KBIv1gA42TbLGj61ucjpcoqgwezGEL5aQSJiNpknUDV0L06ZqsJAMXN2HBeANBDJca 2nA5ZupkqZnB9ekk8ntndSlHEjE0OplUNPY1Zz178333tu6jf64L9yfs+TGqD9vdGnpc yCOc75lA7hVu9cB5lPwnuBR62dKvSHB4JIarY= X-Google-DKIM-Signature: v=1; a=rsa-sha256; c=relaxed/relaxed; d=1e100.net; s=20230601; t=1746861357; x=1747466157; h=cc:to:from:subject:message-id:date:x-gm-message-state:from:to:cc :subject:date:message-id:reply-to; bh=4dNmWPRSiQSJBILZXXHqyz3kyLMZFb2qH7g43WpH/PU=; b=f/RjNedCx+jqs9ENRMU9Hg+KlfoE1qGk2fYt1YZwCf7hAG/t5u1mp1srLVOb6Wr39h 9mW7njT03I1qa6+ReTz3CxN7ss+OsOUjV7cj/iUL37YAL1msVo4b5ZUsq7rskCfd83OF DsFiZoTxcqXmO6TP2HZLwpsMPL41P/T9NjIj+fw7/SM9kE8/Kd2Z10W5JN0vEaOpsBAm Xqeiz/BwiHTxjO2SYO4Yy2hHM37mKmXjoWPpIEOQ0Hyo9dcBtjjtD/WVvE2fVQ5twMbV x2VlI7qV6LcylskWRICCF9iw+0CBGMWJy3GLKC6D1M3Oh+/t311RPEmlkOhLUDesEoyU LDfw== X-Gm-Message-State: AOJu0YwbuD1mS+N4NsodyzUgqYgG7TmF4R5J2p1Z3hlwom9A31W+AYCQ WCCPFPDs26wBh4jjZuNmnN0v6PrR3yV8IFt3UXE+kn+64PEj1QAP8MxGxq7BWlrw3GUIPomTxnT leJmSM0fDYyOUIHmzpHYowImaIVcpY9B5 X-Gm-Gg: ASbGncv6GFRroWQyzwqBQpqYxz4XNED6RKktTi0oWeIzLPHS9JlTFu3WKjRH4brcbry bvViOU4T0YDfJXScmOpa8HoicQbiQBAMxnfJfyPOEoU2ZFO+9lH2Z2YQrdR9GFMBMCvHTw+YQKx xtzMK3Ap1Sy8Gk0LIk5QcztHcaIY2SmraFgpFKq7p2gjQ9xmM/ZvamvbueYJJS+QXcR/x6jy5uX Z+TdReukDCmQEJ0XVEpClVfOaUSu4h9hgsO6O0dvpIcYqI6RN7G/WVnOGTb7ALuocnmB+QcSEi4 3Ol7fQkzj/zNi5UOgvhlqxk0UBBqvVNWAl2Z92y8toSa9I5mpKuSTu/6Kog= X-Google-Smtp-Source: AGHT+IE3uCcsPp1F2LckBPjU2t1uuNpZEhN9sjrYcTalOIhqZVpt/58I/znQVq76l5Z0DMz0Iv8thOmNGyyR X-Received: by 2002:a17:903:244b:b0:22c:336f:cb54 with SMTP id d9443c01a7336-22fc8b5976amr85832855ad.29.1746861357432; Sat, 10 May 2025 00:15:57 -0700 (PDT) Received: from postal.iol.unh.edu (postal.iol.unh.edu. [132.177.123.84]) by smtp-relay.gmail.com with ESMTPS id d9443c01a7336-22fc6f1119dsm1909165ad.88.2025.05.10.00.15.57 (version=TLS1_2 cipher=ECDHE-ECDSA-AES128-GCM-SHA256 bits=128/128); Sat, 10 May 2025 00:15:57 -0700 (PDT) X-Relaying-Domain: iol.unh.edu Date: Sat, 10 May 2025 00:15:57 -0700 (PDT) Message-ID: <681efd2d.170a0220.29642c.a87eSMTPIN_ADDED_MISSING@mx.google.com> Received: from [172.21.0.5] (unknown [172.18.0.240]) by postal.iol.unh.edu (Postfix) with ESMTP id E006F6052471; Sat, 10 May 2025 03:15:56 -0400 (EDT) Subject: |SUCCESS| [GIT MASTER] 83a7a648344674c0269fcaeb71d8d16468421a0e From: dpdklab@iol.unh.edu To: Test Report Cc: dpdk-test-reports@iol.unh.edu, Xueming Li , Christian Ehrhardt , Kevin Traynor , Luca Boccassi Content-Type: text/plain X-BeenThere: test-report@dpdk.org X-Mailman-Version: 2.1.29 Precedence: list List-Id: automatic DPDK test reports List-Unsubscribe: , List-Archive: List-Post: List-Help: List-Subscribe: , Errors-To: test-report-bounces@dpdk.org _Testing PASS_ Branch: tags/v23.11 83a7a648344674c0269fcaeb71d8d16468421a0e --> testing pass Upstream job id: Generic-Unit-Test-DPDK#336901 Test environment and result as below: +---------------------+----------------+ | Environment | dpdk_unit_test | +=====================+================+ | CentOS Stream 9 | PASS | +---------------------+----------------+ | Debian 12 | PASS | +---------------------+----------------+ | CentOS Stream 10 | PASS | +---------------------+----------------+ | Fedora 40 | PASS | +---------------------+----------------+ | Fedora 41 | PASS | +---------------------+----------------+ | Fedora 41 (Clang) | PASS | +---------------------+----------------+ | RHEL9 | PASS | +---------------------+----------------+ | Fedora 40 (Clang) | PASS | +---------------------+----------------+ | RHEL8 | PASS | +---------------------+----------------+ | Ubuntu 22.04 | PASS | +---------------------+----------------+ | Ubuntu 20.04 | PASS | +---------------------+----------------+ | Ubuntu 24.04 | PASS | +---------------------+----------------+ | Windows Server 2022 | PASS | +---------------------+----------------+ CentOS Stream 9 Kernel: Depends on container host Compiler: gcc 11.5.0 20240719 (Red Hat 11.5.0-2) Debian 12 Kernel: Depends on container host Compiler: gcc (Debian 12.2.0-14) 12.2.0 CentOS Stream 10 Kernel: Depends on container host Compiler: gcc 14.2.1 20241104 (Red Hat 14.2.1-6) Fedora 40 Kernel: Depends on container host Compiler: gcc 14.2.1 20240912 (Red Hat 14.2.1-3) Fedora 41 Kernel: Depends on container host Compiler: gcc 14.2.1 20240912 (Red Hat 14.2.1-3) Fedora 41 (Clang) Kernel: Depends on container host Compiler: clang 19.1.5 (Fedora 19.1.5-1.fc41) RHEL9 Kernel: Depends on container host Compiler: gcc 11.5.0 20240719 (Red Hat 11.5.0-2) Fedora 40 (Clang) Kernel: Depends on container host Compiler: clang 18.1.8 (Fedora 18.1.8-1.fc40) RHEL8 Kernel: Depends on container host Compiler: gcc 8.5.0 20210514 (Red Hat 8.5.0-22) Ubuntu 22.04 Kernel: Depends on container host Compiler: gcc (Ubuntu 11.4.0-1ubuntu1~22.04) 11.4.0 Ubuntu 20.04 Kernel: Depends on container host Compiler: gcc (Ubuntu 9.4.0-1ubuntu1~20.04.2) 9.4.0 Ubuntu 24.04 Kernel: Depends on container host Compiler: gcc (Ubuntu 13.3.0-6ubuntu2~24.04) 13.3.0 Windows Server 2022 Kernel: 10.0.20348.2031 Compiler: clang 15.0.7, gcc 14.1.0 (MinGW), and MSVC VS 19.39.33521 To view detailed results, visit: https://lab.dpdk.org/results/dashboard/tarballs/33494/ UNH-IOL DPDK Community Lab To manage your email subscriptions, visit: https://lab.dpdk.org/results/dashboard/preferences/subscriptions/