From mboxrd@z Thu Jan 1 00:00:00 1970 Return-Path: Received: from mails.dpdk.org (mails.dpdk.org [217.70.189.124]) by inbox.dpdk.org (Postfix) with ESMTP id 6708E4670C for ; Sat, 10 May 2025 10:06:09 +0200 (CEST) Received: from mails.dpdk.org (localhost [127.0.0.1]) by mails.dpdk.org (Postfix) with ESMTP id 243C94025D; Sat, 10 May 2025 10:06:09 +0200 (CEST) Received: from mail-qv1-f99.google.com (mail-qv1-f99.google.com [209.85.219.99]) by mails.dpdk.org (Postfix) with ESMTP id C0B1A4025A for ; Sat, 10 May 2025 10:06:07 +0200 (CEST) Received: by mail-qv1-f99.google.com with SMTP id 6a1803df08f44-6f548a4ea4dso29626296d6.1 for ; Sat, 10 May 2025 01:06:07 -0700 (PDT) DKIM-Signature: v=1; a=rsa-sha256; c=relaxed/relaxed; d=iol.unh.edu; s=unh-iol; t=1746864367; x=1747469167; darn=dpdk.org; h=cc:to:from:subject:message-id:date:from:to:cc:subject:date :message-id:reply-to; bh=bX9KGDGHVgXy2RM/nOiJUPt/xbehlL3qsAQUooxo8jU=; b=jWSptOda+0ik0PPgepr3xrj75XM1XoqSFL/s6L4mQ2QHflNBxp+PvFmQ+kHqYh1xaI /EvuBrS6smJz5xqOSfJYj9Xq1aUAji6cbDIVrmhT8DMhVdKIiaF2pzfpJO0KGTZYvJfy QIr6p1TMnRtwyIHoj3bhDtT/bl7rwP+ULsgVI= X-Google-DKIM-Signature: v=1; a=rsa-sha256; c=relaxed/relaxed; d=1e100.net; s=20230601; t=1746864367; x=1747469167; h=cc:to:from:subject:message-id:date:x-gm-message-state:from:to:cc :subject:date:message-id:reply-to; bh=bX9KGDGHVgXy2RM/nOiJUPt/xbehlL3qsAQUooxo8jU=; b=GISEjIUH8UPicTMBTJpFxWkNGuDWXDE1+dVZK1w9pzcfdQVFClHIeHwkc8m4KIYDai uMKww/jPkTHox5lUkinKO3VDBzhJZRa2kO60tHYi+NIausFgeQz86vnLhE/B54R3Bda9 afDA9epjNuJ6NkNiAa93Vs0ZXEmcIB7lz2hUVFDgOtAcrmrZk3cfgy1bIjFujMI+XDzb nkiR6VT6iOEu+BKD5Ea159NS/voFiHxNQFWLN1v+FVEmIj+q+bNa2tcTckJkaLUwC+hf tjykZQxILflA0I4C7mUFmOpAgRQ9Wkis7awpWG75fYEG8csRvdJZI6Dtf8zacExTUVy9 UtGQ== X-Gm-Message-State: AOJu0Yw2U/90IkFamAwGNYOgw+HwWenaCsSg8MT15rrWD6CYz2Wzv0vm rtpIX13iALLmRCDxsIPdWiJCalTasklGep2Vy9/Q2GTEyMLFCJh1dlTI7fal2IkcZtPFsi3RrEu L7sI7U1EhJbFaMzF2ZFW6LgArC+t1sxDJ X-Gm-Gg: ASbGncvhcyKKMa7MwXSQAOAcz6V2SRMQmjlOB2LpXCHQp2dN1E+Wd3k1M3gmmfzG8+O njmorKK8T1dRdFxRafq8qqrxWAYxnIaiv8d+/1J0RcJ05+8Kw7eAv7DTNWOdtW8YhB+sOV8r1i1 bNjJveBSNH8FfJrWLJ8J+DJs6nw3rUvQe683vqlgabWiONqBwNpjptdIw5q+KXU3mKyCQQojLjX Tx1Mp16rAPZg8kYlh75Hz3/aBwIvYQziWIK+osdJaUYR5fv5yXRwIzkOCmgsrJFjNmohpPzx9nQ 9mAYCI2qBQ7XHgR40hOxfcFSWOSvOBZeWSCXZSySKioBXCktyCq8Gweuhsw= X-Google-Smtp-Source: AGHT+IEP28IHbBOoGuJKm65S6D60u/+1EAF2n4QKg2C111nOwY2wDxYTs3TMsW8zvtl+19LzwyjtPS0oHghv X-Received: by 2002:ad4:5ce7:0:b0:6d8:a1fe:7293 with SMTP id 6a1803df08f44-6f6e4815210mr94865036d6.42.1746864367015; Sat, 10 May 2025 01:06:07 -0700 (PDT) Received: from postal.iol.unh.edu (postal.iol.unh.edu. [132.177.123.84]) by smtp-relay.gmail.com with ESMTPS id 6a1803df08f44-6f6e39f8d96sm2091826d6.21.2025.05.10.01.06.06 (version=TLS1_2 cipher=ECDHE-ECDSA-AES128-GCM-SHA256 bits=128/128); Sat, 10 May 2025 01:06:07 -0700 (PDT) X-Relaying-Domain: iol.unh.edu Date: Sat, 10 May 2025 01:06:07 -0700 (PDT) Message-ID: <681f08ef.050a0220.36485e.baf5SMTPIN_ADDED_MISSING@mx.google.com> Received: from [172.17.0.2] (unknown [172.18.0.74]) by postal.iol.unh.edu (Postfix) with ESMTP id AA6CB6052471; Sat, 10 May 2025 04:06:06 -0400 (EDT) Subject: |SUCCESS| [GIT MASTER] 4c5634de9f933555bab9c64a533d3dca999071cd From: dpdklab@iol.unh.edu To: Test Report Cc: dpdk-test-reports@iol.unh.edu, Xueming Li , Christian Ehrhardt , Kevin Traynor , Luca Boccassi Content-Type: text/plain X-BeenThere: test-report@dpdk.org X-Mailman-Version: 2.1.29 Precedence: list List-Id: automatic DPDK test reports List-Unsubscribe: , List-Archive: List-Post: List-Help: List-Subscribe: , Errors-To: test-report-bounces@dpdk.org _Testing PASS_ Branch: tags/v24.11 4c5634de9f933555bab9c64a533d3dca999071cd --> testing pass Upstream job id: Generic-Unit-Test-DPDK#336924 Test environment and result as below: +---------------------+----------------+ | Environment | dpdk_unit_test | +=====================+================+ | CentOS Stream 10 | PASS | +---------------------+----------------+ | CentOS Stream 9 | PASS | +---------------------+----------------+ | Fedora 41 | PASS | +---------------------+----------------+ | Debian 12 | PASS | +---------------------+----------------+ | RHEL8 | PASS | +---------------------+----------------+ | RHEL9 | PASS | +---------------------+----------------+ | Fedora 41 (Clang) | PASS | +---------------------+----------------+ | Fedora 40 | PASS | +---------------------+----------------+ | Ubuntu 22.04 | PASS | +---------------------+----------------+ | Fedora 40 (Clang) | PASS | +---------------------+----------------+ | Ubuntu 24.04 | PASS | +---------------------+----------------+ | Ubuntu 20.04 | PASS | +---------------------+----------------+ | Windows Server 2022 | PASS | +---------------------+----------------+ CentOS Stream 10 Kernel: Depends on container host Compiler: gcc 14.2.1 20241104 (Red Hat 14.2.1-6) CentOS Stream 9 Kernel: Depends on container host Compiler: gcc 11.5.0 20240719 (Red Hat 11.5.0-2) Fedora 41 Kernel: Depends on container host Compiler: gcc 14.2.1 20240912 (Red Hat 14.2.1-3) Debian 12 Kernel: Depends on container host Compiler: gcc (Debian 12.2.0-14) 12.2.0 RHEL8 Kernel: Depends on container host Compiler: gcc 8.5.0 20210514 (Red Hat 8.5.0-22) RHEL9 Kernel: Depends on container host Compiler: gcc 11.5.0 20240719 (Red Hat 11.5.0-2) Fedora 41 (Clang) Kernel: Depends on container host Compiler: clang 19.1.5 (Fedora 19.1.5-1.fc41) Fedora 40 Kernel: Depends on container host Compiler: gcc 14.2.1 20240912 (Red Hat 14.2.1-3) Ubuntu 22.04 Kernel: Depends on container host Compiler: gcc (Ubuntu 11.4.0-1ubuntu1~22.04) 11.4.0 Fedora 40 (Clang) Kernel: Depends on container host Compiler: clang 18.1.8 (Fedora 18.1.8-1.fc40) Ubuntu 24.04 Kernel: Depends on container host Compiler: gcc (Ubuntu 13.3.0-6ubuntu2~24.04) 13.3.0 Ubuntu 20.04 Kernel: Depends on container host Compiler: gcc (Ubuntu 9.4.0-1ubuntu1~20.04.2) 9.4.0 Windows Server 2022 Kernel: 10.0.20348.2031 Compiler: clang 15.0.7, gcc 14.1.0 (MinGW), and MSVC VS 19.39.33521 To view detailed results, visit: https://lab.dpdk.org/results/dashboard/tarballs/33493/ UNH-IOL DPDK Community Lab To manage your email subscriptions, visit: https://lab.dpdk.org/results/dashboard/preferences/subscriptions/