From mboxrd@z Thu Jan 1 00:00:00 1970 Return-Path: Received: from mails.dpdk.org (mails.dpdk.org [217.70.189.124]) by inbox.dpdk.org (Postfix) with ESMTP id 926634670C for ; Sat, 10 May 2025 10:22:27 +0200 (CEST) Received: from mails.dpdk.org (localhost [127.0.0.1]) by mails.dpdk.org (Postfix) with ESMTP id 6F2814025D; Sat, 10 May 2025 10:22:27 +0200 (CEST) Received: from mail-io1-f100.google.com (mail-io1-f100.google.com [209.85.166.100]) by mails.dpdk.org (Postfix) with ESMTP id 1B3AA4025A for ; Sat, 10 May 2025 10:22:26 +0200 (CEST) Received: by mail-io1-f100.google.com with SMTP id ca18e2360f4ac-85e46f5c50fso263204739f.3 for ; Sat, 10 May 2025 01:22:26 -0700 (PDT) DKIM-Signature: v=1; a=rsa-sha256; c=relaxed/relaxed; d=iol.unh.edu; s=unh-iol; t=1746865345; x=1747470145; darn=dpdk.org; h=cc:to:from:subject:message-id:date:from:to:cc:subject:date :message-id:reply-to; bh=x7+Fl/znlNrwOcSPIsOix2Thvqq7mDyVCjOcoiYTaKg=; b=NO743Ha7jRZ1greo6LBt1EVR8k2zzUDZUHlLTNhvGJBtP90kvIPtFoSS9aPhqJ1JMy dvjae1f4ztoD7LZg9OJ26EouJdsPVcwyfzJKrdTmZYG4yhhLcSqvzmFvp/pOi01kUJAz stS6ck4drlh3p/NfYTVZM/F41Y2D9lu0/WhFU= X-Google-DKIM-Signature: v=1; a=rsa-sha256; c=relaxed/relaxed; d=1e100.net; s=20230601; t=1746865345; x=1747470145; h=cc:to:from:subject:message-id:date:x-gm-message-state:from:to:cc :subject:date:message-id:reply-to; bh=x7+Fl/znlNrwOcSPIsOix2Thvqq7mDyVCjOcoiYTaKg=; b=Es+J3yc82KPj7ksSJtU9HocDcYfgnfT02wVWXi0MmFtPCGyBKRimBVJWDVcvFDheHO QUw9fqFIWYHOhZKlkK8J7pToEJuaA8PN4N9GKg0nNQHyF7DvV8aWs2OKSDSi7mtv7Hqy tyEtOBhsQIIgRpJzaBLo50JeMAUPocje6eUzf2YnLsTgBJTzFShI/V6hb7HrOxvDh+2p WvWgHPbVaLVmO6At+Y+rcFQ0Svj4ZU2JFkP+x70LSkuMo1sWimTXln1hAJKRkY/LtQ9N wFr+/67AMEa9qD82+VL58BbErNoTO5uYxUnurYRhMXVDTQ4oDRZJwEk0ixzqbdvNs22R t/lw== X-Gm-Message-State: AOJu0YzWEqHHkSsN4ZNMebAqLpbKrWDZp/TT8mtiH4CqHknyTRIFDuTw uJFhVGCwfDto3BywxQwXxNpCnLUZQlV+mqD5PINWtQfN+dD//o38m4Xm3kF5j223PuKTY2LYxkg uaUhtbUq0e+riSEVxCRm4zv+h8cKlOrldiGF8LId9BXWhr/0Z X-Gm-Gg: ASbGncvxMlIcaQ8hIi7GlSRwgULigxEx6Ys19G887h0zgGHjP3gzJyu24jemGMcwFv2 4OR23HwHxBehhgPkwXQpIZ6m9LK6AHfdquTZLUhjKScWalI1ns6T2KSMEC7u6T2XaIDON9d3n7K L0oRwnXAfynUAnsJ3m/5E+LRkgPv5Nhh1lpR3prR8cbwjLGJk14FCCQIWQ8zFbyFKIAwATN3uAY YJbk82+TNpFsa/TRCkc6dKpu2mLEwmiNVCNfsaNtdL7MDvG4rR+jhpz1Sy9tYRlAfr3dwG7x1oM 1X1GeCjX56Zo5RlnBN2GRKcwTp9oVffW4MqD X-Google-Smtp-Source: AGHT+IH1EslvUd/0518TAoKBP4T6VUF0sfHcmFdRvGBlRUQw691twEJtwVugVIasLD8dW68JW6fxWRreQDva X-Received: by 2002:a05:6e02:1d8d:b0:3d8:1bd0:9a79 with SMTP id e9e14a558f8ab-3da7e20dd82mr91112585ab.21.1746865345091; Sat, 10 May 2025 01:22:25 -0700 (PDT) Received: from postal.iol.unh.edu (postal.iol.unh.edu. [2606:4100:3880:1234::84]) by smtp-relay.gmail.com with ESMTPS id e9e14a558f8ab-3da7e15bc80sm2469165ab.49.2025.05.10.01.22.25 (version=TLS1_2 cipher=ECDHE-ECDSA-AES128-GCM-SHA256 bits=128/128); Sat, 10 May 2025 01:22:25 -0700 (PDT) X-Relaying-Domain: iol.unh.edu Date: Sat, 10 May 2025 01:22:25 -0700 (PDT) Message-ID: <681f0cc1.050a0220.23962d.d91bSMTPIN_ADDED_MISSING@mx.google.com> Received: from [172.17.0.2] (unknown [172.18.0.76]) by postal.iol.unh.edu (Postfix) with ESMTP id 925DE6052471; Sat, 10 May 2025 04:22:24 -0400 (EDT) Subject: |SUCCESS| [GIT MASTER] 83a7a648344674c0269fcaeb71d8d16468421a0e From: dpdklab@iol.unh.edu To: Test Report Cc: dpdk-test-reports@iol.unh.edu, Xueming Li , Christian Ehrhardt , Kevin Traynor , Luca Boccassi Content-Type: text/plain X-BeenThere: test-report@dpdk.org X-Mailman-Version: 2.1.29 Precedence: list List-Id: automatic DPDK test reports List-Unsubscribe: , List-Archive: List-Post: List-Help: List-Subscribe: , Errors-To: test-report-bounces@dpdk.org _Testing PASS_ Branch: tags/v23.11 83a7a648344674c0269fcaeb71d8d16468421a0e --> testing pass Upstream job id: ACVP-FIPS-testing#9773 Test environment and result as below: +--------------------+----------------------+----------------------+ | Environment | compressdev_zlib_pmd | dpdk_fips_validation | +====================+======================+======================+ | Ubuntu 22.04 (ARM) | PASS | SKIPPED | +--------------------+----------------------+----------------------+ | Ubuntu 22.04 | PASS | SKIPPED | +--------------------+----------------------+----------------------+ | Ubuntu 20.04 | SKIPPED | PASS | +--------------------+----------------------+----------------------+ Ubuntu 22.04 (ARM) Kernel: 5.15.0-97-generic Compiler: gcc gcc (Ubuntu 11.4.0-1ubuntu1~22.04) 11.4.0 Ubuntu 22.04 Kernel: 5.15.0-100-generic Compiler: gcc gcc (Ubuntu 11.4.0-1ubuntu1~22.04) 11.4.0 Ubuntu 20.04 Kernel: Depends on container host Compiler: gcc (Ubuntu 9.4.0-1ubuntu1~20.04.2) 9.4.0 To view detailed results, visit: https://lab.dpdk.org/results/dashboard/tarballs/33494/ UNH-IOL DPDK Community Lab To manage your email subscriptions, visit: https://lab.dpdk.org/results/dashboard/preferences/subscriptions/