From mboxrd@z Thu Jan 1 00:00:00 1970 Return-Path: Received: from mails.dpdk.org (mails.dpdk.org [217.70.189.124]) by inbox.dpdk.org (Postfix) with ESMTP id 04BDD4670C for ; Sat, 10 May 2025 10:26:24 +0200 (CEST) Received: from mails.dpdk.org (localhost [127.0.0.1]) by mails.dpdk.org (Postfix) with ESMTP id D50574025D; Sat, 10 May 2025 10:26:24 +0200 (CEST) Received: from mail-il1-f226.google.com (mail-il1-f226.google.com [209.85.166.226]) by mails.dpdk.org (Postfix) with ESMTP id F123F4025A for ; Sat, 10 May 2025 10:26:23 +0200 (CEST) Received: by mail-il1-f226.google.com with SMTP id e9e14a558f8ab-3d80bbf3aefso11620525ab.1 for ; Sat, 10 May 2025 01:26:23 -0700 (PDT) DKIM-Signature: v=1; a=rsa-sha256; c=relaxed/relaxed; d=iol.unh.edu; s=unh-iol; t=1746865583; x=1747470383; darn=dpdk.org; h=cc:to:from:subject:message-id:date:from:to:cc:subject:date :message-id:reply-to; bh=CaKHAhEbmqICqcVgRRb6bHYzk2tSA39lkgTO/5maxtM=; b=dHDYUYDjVz5G3sC4EIR3lw++ZkPrQmsIMzJzJ21HNW35rE1P75ZRmSYj1KjevUVzSs tVDqff5iTpkELx35RhYF7DcYZ5RZppv1NMQKNJAYXIEDA6i+3u3a8AHs21FY23n1Tlyk 5RI0llU0galS3mBWuyyqlAZ6PyhsL+WypQtJc= X-Google-DKIM-Signature: v=1; a=rsa-sha256; c=relaxed/relaxed; d=1e100.net; s=20230601; t=1746865583; x=1747470383; h=cc:to:from:subject:message-id:date:x-gm-message-state:from:to:cc :subject:date:message-id:reply-to; bh=CaKHAhEbmqICqcVgRRb6bHYzk2tSA39lkgTO/5maxtM=; b=BavglFTw9fyxd++Odgv8E1P5EWMU7orf6fiaRa8PwJNlHc6DB39XtZz6Veo/NSkPoF vGaFXCPVhwXUSvyE5bSfaA6XZT30ZUVxXVJa9oXC4oYJuPkd3Zpb+jUrzvbGEOFikrEU lo/1csrVYOXgI/+wWbfcURASrJeL7QEXesVBPLONQJw3eOuYDCixAT5a5GsxVc/ucuZW APGLUz6NtZOiuPGRxZlp79BuAVws0BEah97N0D7K7Gej8M55xzskgmWxON+xP1COQp1d hIbg/80egngx8ZtgZtx3HL7cLYarp9ZHpu98oe01UhjWAKeNPO5fOtDIjJWGdTqjOAn9 zVTQ== X-Gm-Message-State: AOJu0YxQfBJZFxTRrnS2ue2oIdA4Dsvpnovt+vxDdtcwYE7L8WUk4cBk +kYfVekhQRoeNEQG5gKJpcJWqY4CkngMhVZd/4CPiU5URcw3z9uGptDZLgcrbKr4TfPLi5hs0q1 DdzS5+r/6s6atSaYLZck1Rg0e9NsFmM8r X-Gm-Gg: ASbGncsMQ7Xdk03RQ5xsVbLpZwrvmY6KiRkHrOOuFDrPMXNi4/2FpPOj9LOVgoMpbYF hQrA3cfr21mTAtGJpBxYt6cF1hV5oxrpAuWWnODdiWD9urtTy36wwYhsKSBU9eaKMYu6M9PjZJS johVs5Gmz2UVwopErzEaVFnShvndVkwT3EFjGzC64USJEEKhmck5g9bUO61IAgg4DXRbCqibwZ0 uPqIlCpAMrXZ4YSTcv433HsRHcoBqZkoFfgYcTMmI90UR4fkzG9OTOjQEdRQGpE7h8XdsNLmGLZ Arwd4X4B2U4gxRaOy3wBI5+x0GV5aXLXP5CCvE1iJ+wfB4cGU6KSqOvNv8c= X-Google-Smtp-Source: AGHT+IHKbreH5WsjYgU7nzACMiEzn7mxTenElicWua231mn+YYox63445RAXayUtFCqKm9ShULF1ee2J0cK0 X-Received: by 2002:a05:6e02:1544:b0:3d9:6cd9:5074 with SMTP id e9e14a558f8ab-3da7e211140mr67776935ab.16.1746865583089; Sat, 10 May 2025 01:26:23 -0700 (PDT) Received: from postal.iol.unh.edu (postal.iol.unh.edu. [132.177.123.84]) by smtp-relay.gmail.com with ESMTPS id e9e14a558f8ab-3da7e113a2csm2387735ab.30.2025.05.10.01.26.22 (version=TLS1_2 cipher=ECDHE-ECDSA-AES128-GCM-SHA256 bits=128/128); Sat, 10 May 2025 01:26:23 -0700 (PDT) X-Relaying-Domain: iol.unh.edu Date: Sat, 10 May 2025 01:26:23 -0700 (PDT) Message-ID: <681f0daf.050a0220.1f2fe0.d44fSMTPIN_ADDED_MISSING@mx.google.com> Received: from [172.17.0.2] (unknown [172.18.0.74]) by postal.iol.unh.edu (Postfix) with ESMTP id A629E6052471; Sat, 10 May 2025 04:26:22 -0400 (EDT) Subject: |SUCCESS| [GIT MASTER] 83a7a648344674c0269fcaeb71d8d16468421a0e From: dpdklab@iol.unh.edu To: Test Report Cc: dpdk-test-reports@iol.unh.edu, Xueming Li , Christian Ehrhardt , Kevin Traynor , Luca Boccassi Content-Type: text/plain X-BeenThere: test-report@dpdk.org X-Mailman-Version: 2.1.29 Precedence: list List-Id: automatic DPDK test reports List-Unsubscribe: , List-Archive: List-Post: List-Help: List-Subscribe: , Errors-To: test-report-bounces@dpdk.org _Testing PASS_ Branch: tags/v23.11 83a7a648344674c0269fcaeb71d8d16468421a0e --> testing pass Upstream job id: Generic-DPDK-Compile-Meson#386942 Test environment and result as below: +------------------------------------+--------------------+ | Environment | dpdk_meson_compile | +====================================+====================+ | RHEL9 (ARM) | PASS | +------------------------------------+--------------------+ | Ubuntu 20.04 ARM GCC Cross Compile | PASS | +------------------------------------+--------------------+ | Debian 12 with MUSDK | PASS | +------------------------------------+--------------------+ | Ubuntu 20.04 ARM SVE | PASS | +------------------------------------+--------------------+ | Fedora 40 (ARM) | PASS | +------------------------------------+--------------------+ | Fedora 41 (ARM) | PASS | +------------------------------------+--------------------+ | Fedora 40 (ARM Clang) | PASS | +------------------------------------+--------------------+ | Fedora 41 (ARM Clang) | PASS | +------------------------------------+--------------------+ | CentOS Stream 10 (ARM) | PASS | +------------------------------------+--------------------+ | Ubuntu 20.04 (ARM) | PASS | +------------------------------------+--------------------+ | Ubuntu 22.04 (ARM) | PASS | +------------------------------------+--------------------+ | Debian 12 (arm) | PASS | +------------------------------------+--------------------+ | Ubuntu 24.04 (ARM) | PASS | +------------------------------------+--------------------+ | CentOS Stream 9 (ARM) | PASS | +------------------------------------+--------------------+ RHEL9 (ARM) Kernel: Depends on container host Compiler: gcc 11.5.0 20240719 (Red Hat 11.5.0-2) Ubuntu 20.04 ARM GCC Cross Compile Kernel: Depends on container host Compiler: aarch64-linux-gnu-gcc (Ubuntu 9.4.0-1ubuntu1~20.04.2) 9.4.0 Debian 12 with MUSDK Kernel: Depends on container host Compiler: gcc (Debian 12.2.0-14) 12.2.0 Ubuntu 20.04 ARM SVE Kernel: Depends on container host Compiler: gcc (Ubuntu 10.5.0-1ubuntu1~20.04) 10.5.0 Fedora 40 (ARM) Kernel: Depends on container host Compiler: gcc 14.2.1 20240912 (Red Hat 14.2.1-3) Fedora 41 (ARM) Kernel: Depends on container host Compiler: gcc 14.2.1 20240912 (Red Hat 14.2.1-3) Fedora 40 (ARM Clang) Kernel: Depends on container host Compiler: clang 18.1.8 (Fedora 18.1.8-1.fc40) Fedora 41 (ARM Clang) Kernel: Depends on container host Compiler: clang 19.1.5 (Fedora 19.1.5-1.fc41) CentOS Stream 10 (ARM) Kernel: Depends on container host Compiler: gcc 14.2.1 20241104 (Red Hat 14.2.1-6) Ubuntu 20.04 (ARM) Kernel: Depends on container host Compiler: gcc (Ubuntu 9.4.0-1ubuntu1~20.04.2) 9.4.0 Ubuntu 22.04 (ARM) Kernel: Depends on container host Compiler: gcc (Ubuntu 11.4.0-1ubuntu1~22.04) 11.4.0 Debian 12 (arm) Kernel: Depends on container host Compiler: gcc (Debian 12.2.0-14) 12.2.0 Ubuntu 24.04 (ARM) Kernel: Depends on container host Compiler: gcc (Ubuntu 13.3.0-6ubuntu2~24.04) 13.3.0 CentOS Stream 9 (ARM) Kernel: Depends on container host Compiler: gcc 11.5.0 20240719 (Red Hat 11.5.0-2) To view detailed results, visit: https://lab.dpdk.org/results/dashboard/tarballs/33494/ UNH-IOL DPDK Community Lab To manage your email subscriptions, visit: https://lab.dpdk.org/results/dashboard/preferences/subscriptions/