From mboxrd@z Thu Jan 1 00:00:00 1970 Return-Path: Received: from mails.dpdk.org (mails.dpdk.org [217.70.189.124]) by inbox.dpdk.org (Postfix) with ESMTP id 7859F4670C for ; Sat, 10 May 2025 10:31:55 +0200 (CEST) Received: from mails.dpdk.org (localhost [127.0.0.1]) by mails.dpdk.org (Postfix) with ESMTP id 55F5D4025D; Sat, 10 May 2025 10:31:55 +0200 (CEST) Received: from mail-qt1-f228.google.com (mail-qt1-f228.google.com [209.85.160.228]) by mails.dpdk.org (Postfix) with ESMTP id 6E4844025A for ; Sat, 10 May 2025 10:31:54 +0200 (CEST) Received: by mail-qt1-f228.google.com with SMTP id d75a77b69052e-4772f48f516so43880771cf.1 for ; Sat, 10 May 2025 01:31:54 -0700 (PDT) DKIM-Signature: v=1; a=rsa-sha256; c=relaxed/relaxed; d=iol.unh.edu; s=unh-iol; t=1746865913; x=1747470713; darn=dpdk.org; h=cc:to:from:subject:message-id:date:from:to:cc:subject:date :message-id:reply-to; bh=gmDKNgC1PV0to3UaVKYcFCYRbcLxIVaFSwOoqfPZ13Y=; b=DLxmdLSUL2v3zs9GBeUaLV8b8vbzOKLITdf01RfQIKdLTUoGDiFU9uiFNw7bshnIAg XjfSQJ6/WxKscxwoIs/L8j/3azi/EpBc2gTOq5p+zeK92tPsFH2nzJHQUXLr2Uh2wP/A MPSSgyayGIPldqrdr4nwwUtXfKbXs5zeiebQ8= X-Google-DKIM-Signature: v=1; a=rsa-sha256; c=relaxed/relaxed; d=1e100.net; s=20230601; t=1746865913; x=1747470713; h=cc:to:from:subject:message-id:date:x-gm-message-state:from:to:cc :subject:date:message-id:reply-to; bh=gmDKNgC1PV0to3UaVKYcFCYRbcLxIVaFSwOoqfPZ13Y=; b=v/eKg2ZR2NpDEbzTXoky9k4yBLQabgrKDdScYUK/TBZhiaENU0kOii6RW1RMwKpqix Ly+/W8m7YgwwF0kuEZ7REejlpS//nv6sKcdHGWLQKXyEWlMXKUwre4wU+pYF/Rx223h3 PTwPyaeB7lN18AwNf0MtION43HM5ZXGcIxIc7TJWoxapC5N5qGuqF+o8ce21g0/InoiX AsiqbLzqWNQFo4VYgtQcWxlJapuFChPsqRfdKRBlpQetwDP/0ouaSkgi625gTMVl3xaf KkKPwKq27sYK/3U8dxAUmM2LeVhyzmnSSyvPXR5huNjcqxqzXL+rfiriCp47WeD3Q+2V r5nw== X-Gm-Message-State: AOJu0Yz4O1M0kXldV8OGQvF7q/yq5zG0x9H7eImS4ACliXUWJic8c52a Ej+Pn17dQfPmScqNvFJI9CysEhYpWG6PgNOhiXsMU5s/usGa/d4mxyI/ePzTt1NLvAfT7xHhp4N yaDjVE/DOiEJoZaueTUh/e1BtRYvwEGNVOIRQnAx8oBu6Lj+F X-Gm-Gg: ASbGncuynDBpVhmOW3SOegu8VXqzS8xCzxT9HrTaT6jBM98rN5+t1rNJ3muO0DwyXBD eXQuUGmRJtWOBqjqZcdXxh80Ii702nctjAuccQW+lc53NbliYYHpuMNOAG9IvJQoO3w1nrOeoEH 9HlAsddPzmB9QdGNZHTO4549Fc6UxFsI+XROmH8CJsI8HsIWjO5I2qPkbUnxzmvCiwu6bIc0mSW tXcCvEspg7E3cNzcq+t8fFGrSULyHZSeYVOVBozxDvRf4LorH64K7V6uxBajhb5rnH9adTyQNCn B6cacCaHChYxCRyeMKT1Mu5s99ToRzpPLGnP X-Google-Smtp-Source: AGHT+IHn3CyBXP6BzSl3FdKI5rAgKNmz/DEUnuKzXLlNmI0cW5d46kEEu7zUfk2V5xl7i32kW2EAbuZRUX22 X-Received: by 2002:a05:6214:1d23:b0:6e4:5a38:dd0f with SMTP id 6a1803df08f44-6f54b9e8906mr148860816d6.4.1746865913626; Sat, 10 May 2025 01:31:53 -0700 (PDT) Received: from postal.iol.unh.edu (postal.iol.unh.edu. [2606:4100:3880:1234::84]) by smtp-relay.gmail.com with ESMTPS id 6a1803df08f44-6f6e39e80c2sm2079566d6.14.2025.05.10.01.31.53 (version=TLS1_2 cipher=ECDHE-ECDSA-AES128-GCM-SHA256 bits=128/128); Sat, 10 May 2025 01:31:53 -0700 (PDT) X-Relaying-Domain: iol.unh.edu Date: Sat, 10 May 2025 01:31:53 -0700 (PDT) Message-ID: <681f0ef9.050a0220.a29be.b5edSMTPIN_ADDED_MISSING@mx.google.com> Received: from [172.17.0.2] (unknown [172.18.0.74]) by postal.iol.unh.edu (Postfix) with ESMTP id 48E156052471; Sat, 10 May 2025 04:31:53 -0400 (EDT) Subject: |SUCCESS| [GIT MASTER] 83a7a648344674c0269fcaeb71d8d16468421a0e From: dpdklab@iol.unh.edu To: Test Report Cc: dpdk-test-reports@iol.unh.edu, Xueming Li , Christian Ehrhardt , Kevin Traynor , Luca Boccassi Content-Type: text/plain X-BeenThere: test-report@dpdk.org X-Mailman-Version: 2.1.29 Precedence: list List-Id: automatic DPDK test reports List-Unsubscribe: , List-Archive: List-Post: List-Help: List-Subscribe: , Errors-To: test-report-bounces@dpdk.org _Testing PASS_ Branch: tags/v23.11 83a7a648344674c0269fcaeb71d8d16468421a0e --> testing pass Upstream job id: Generic-DPDK-Compile-Meson#386952 Test environment and result as below: +---------------------+--------------------+-------------------+------------------+-------------------+-------------------------+----------------------+ | Environment | dpdk_meson_compile | dpdk_compile_spdk | dpdk_compile_ovs | dpdk_msvc_compile | dpdk_llvm_clang_compile | dpdk_mingw64_compile | +=====================+====================+===================+==================+===================+=========================+======================+ | CentOS Stream 9 | PASS | PASS | SKIPPED | SKIPPED | SKIPPED | SKIPPED | +---------------------+--------------------+-------------------+------------------+-------------------+-------------------------+----------------------+ | CentOS Stream 10 | PASS | SKIPPED | SKIPPED | SKIPPED | SKIPPED | SKIPPED | +---------------------+--------------------+-------------------+------------------+-------------------+-------------------------+----------------------+ | Debian 12 | PASS | PASS | SKIPPED | SKIPPED | SKIPPED | SKIPPED | +---------------------+--------------------+-------------------+------------------+-------------------+-------------------------+----------------------+ | Fedora 40 (Clang) | PASS | PASS | SKIPPED | SKIPPED | SKIPPED | SKIPPED | +---------------------+--------------------+-------------------+------------------+-------------------+-------------------------+----------------------+ | Ubuntu 20.04 | PASS | SKIPPED | SKIPPED | SKIPPED | SKIPPED | SKIPPED | +---------------------+--------------------+-------------------+------------------+-------------------+-------------------------+----------------------+ | RHEL9 | PASS | SKIPPED | SKIPPED | SKIPPED | SKIPPED | SKIPPED | +---------------------+--------------------+-------------------+------------------+-------------------+-------------------------+----------------------+ | Alpine | PASS | SKIPPED | SKIPPED | SKIPPED | SKIPPED | SKIPPED | +---------------------+--------------------+-------------------+------------------+-------------------+-------------------------+----------------------+ | RHEL8 | PASS | SKIPPED | SKIPPED | SKIPPED | SKIPPED | SKIPPED | +---------------------+--------------------+-------------------+------------------+-------------------+-------------------------+----------------------+ | openSUSE Leap 15 | PASS | SKIPPED | SKIPPED | SKIPPED | SKIPPED | SKIPPED | +---------------------+--------------------+-------------------+------------------+-------------------+-------------------------+----------------------+ | Fedora 41 | PASS | PASS | PASS | SKIPPED | SKIPPED | SKIPPED | +---------------------+--------------------+-------------------+------------------+-------------------+-------------------------+----------------------+ | Ubuntu 22.04 | PASS | PASS | SKIPPED | SKIPPED | SKIPPED | SKIPPED | +---------------------+--------------------+-------------------+------------------+-------------------+-------------------------+----------------------+ | Ubuntu 24.04 | PASS | PASS | PASS | SKIPPED | SKIPPED | SKIPPED | +---------------------+--------------------+-------------------+------------------+-------------------+-------------------------+----------------------+ | FreeBSD 13.5 | PASS | SKIPPED | SKIPPED | SKIPPED | SKIPPED | SKIPPED | +---------------------+--------------------+-------------------+------------------+-------------------+-------------------------+----------------------+ | FreeBSD 14.2 | PASS | SKIPPED | SKIPPED | SKIPPED | SKIPPED | SKIPPED | +---------------------+--------------------+-------------------+------------------+-------------------+-------------------------+----------------------+ | Fedora 40 | PASS | PASS | SKIPPED | SKIPPED | SKIPPED | SKIPPED | +---------------------+--------------------+-------------------+------------------+-------------------+-------------------------+----------------------+ | Fedora 41 (Clang) | PASS | PASS | PASS | SKIPPED | SKIPPED | SKIPPED | +---------------------+--------------------+-------------------+------------------+-------------------+-------------------------+----------------------+ | Windows Server 2022 | SKIPPED | SKIPPED | SKIPPED | PASS | PASS | PASS | +---------------------+--------------------+-------------------+------------------+-------------------+-------------------------+----------------------+ CentOS Stream 9 Kernel: Depends on container host Compiler: gcc 11.5.0 20240719 (Red Hat 11.5.0-2) CentOS Stream 10 Kernel: Depends on container host Compiler: gcc 14.2.1 20241104 (Red Hat 14.2.1-6) Debian 12 Kernel: Depends on container host Compiler: gcc (Debian 12.2.0-14) 12.2.0 Fedora 40 (Clang) Kernel: Depends on container host Compiler: clang 18.1.8 (Fedora 18.1.8-1.fc40) Ubuntu 20.04 Kernel: Depends on container host Compiler: gcc (Ubuntu 9.4.0-1ubuntu1~20.04.2) 9.4.0 RHEL9 Kernel: Depends on container host Compiler: gcc 11.5.0 20240719 (Red Hat 11.5.0-2) Alpine Kernel: Depends on container host Compiler: gcc (Alpine 14.2.0) 14.2.0 RHEL8 Kernel: Depends on container host Compiler: gcc 8.5.0 20210514 (Red Hat 8.5.0-22) openSUSE Leap 15 Kernel: Depends on container host Compiler: gcc (SUSE Linux) 7.5.0 Fedora 41 Kernel: Depends on container host Compiler: gcc 14.2.1 20240912 (Red Hat 14.2.1-3) Ubuntu 22.04 Kernel: Depends on container host Compiler: gcc (Ubuntu 11.4.0-1ubuntu1~22.04) 11.4.0 Ubuntu 24.04 Kernel: Depends on container host Compiler: gcc (Ubuntu 13.3.0-6ubuntu2~24.04) 13.3.0 FreeBSD 13.5 Kernel: 13.5-RELEASE Compiler: clang 19.1.7 FreeBSD 14.2 Kernel: 14.2-RELEASE Compiler: clang 18.1.6 Fedora 40 Kernel: Depends on container host Compiler: gcc 14.2.1 20240912 (Red Hat 14.2.1-3) Fedora 41 (Clang) Kernel: Depends on container host Compiler: clang 19.1.5 (Fedora 19.1.5-1.fc41) Windows Server 2022 Kernel: 10.0.20348.2031 Compiler: clang 15.0.7, gcc 14.1.0 (MinGW), and MSVC VS 19.39.33521 To view detailed results, visit: https://lab.dpdk.org/results/dashboard/tarballs/33494/ UNH-IOL DPDK Community Lab To manage your email subscriptions, visit: https://lab.dpdk.org/results/dashboard/preferences/subscriptions/