From mboxrd@z Thu Jan 1 00:00:00 1970 Return-Path: Received: from mails.dpdk.org (mails.dpdk.org [217.70.189.124]) by inbox.dpdk.org (Postfix) with ESMTP id B6DE34670C for ; Sat, 10 May 2025 10:34:35 +0200 (CEST) Received: from mails.dpdk.org (localhost [127.0.0.1]) by mails.dpdk.org (Postfix) with ESMTP id 96E774025D; Sat, 10 May 2025 10:34:35 +0200 (CEST) Received: from mail-pl1-f225.google.com (mail-pl1-f225.google.com [209.85.214.225]) by mails.dpdk.org (Postfix) with ESMTP id 13C4F4025A for ; Sat, 10 May 2025 10:34:35 +0200 (CEST) Received: by mail-pl1-f225.google.com with SMTP id d9443c01a7336-22fa28c761dso21131375ad.2 for ; Sat, 10 May 2025 01:34:34 -0700 (PDT) DKIM-Signature: v=1; a=rsa-sha256; c=relaxed/relaxed; d=iol.unh.edu; s=unh-iol; t=1746866074; x=1747470874; darn=dpdk.org; h=cc:to:from:subject:message-id:date:from:to:cc:subject:date :message-id:reply-to; bh=lY0GF7yrUnDBJrI4Y4HieM+EbdOExjq7QwhOdWXicU8=; b=NMSxG3AoxWCLtg2udclLgn9lsCqOM/S/V7xxEnhL7lfpNDohEpOOMuU7dMChQMpPFa 5nLwdxeV1r0jiCyYYXn8uZH1i3VyXILx7wNKV1tgHP77N2/MGjoekjjPEmdZRk8DYr8L 31iL2Nqo6i18j5+N3ao+XIEuPAQBqIetQuYrk= X-Google-DKIM-Signature: v=1; a=rsa-sha256; c=relaxed/relaxed; d=1e100.net; s=20230601; t=1746866074; x=1747470874; h=cc:to:from:subject:message-id:date:x-gm-message-state:from:to:cc :subject:date:message-id:reply-to; bh=lY0GF7yrUnDBJrI4Y4HieM+EbdOExjq7QwhOdWXicU8=; b=TRTLL+GGw5GEsYIOt4tU8V3enDj5xhGVIX3fAkoDx8L1JSjTv7743m5olsiVIXorx7 v/2VM7V4/Zdx4bTydpywv6XmHTXXcj4Tx6pSBgTefZLyZGeA1E0oS3R9kloTY9OH+hdT I2C3JNd6tD8E4rB/TMmWbseIX8cx27DdD7R8VJcTxS95wxMPjeS754523qcssoRDM1Lw yIeZ7s0sjeYcyKHJBPc2EcPTtwnTgP3sTXnkf+8NuJt1fnI/dJOGdNMih5McbaIxlidE m8fjv1BDY/lwRhcn3cmyYzjrCXQqKsZZfpklmQF0jRSjIwddSdqjxk/bcvQ96jCq+dzF klhg== X-Gm-Message-State: AOJu0Yw24s+zQdFus6vLQNjXkwM0XdM71tqqHyeKPau/BuhWt5TxEaFH JwxQwMLpgy8vgTFQwAffxvTEjCEi1PyukrE8IJjwBkG8U+5Ql0AWCKqdOlMLDMeMtrQ4q8Fitxd T2YODU+gRmmUeev9W1w9XTiWQIjyJkD2h X-Gm-Gg: ASbGnctrj6f8UDE2REb88/5qxX/e56knWzgWs0FcnI9SjbOJtql1fwoyA5qHIQgGJI4 Ao01obIRSsNsCUf6P+1uQJgCCiApcxu0bvUUowUMJGUkKoblWe+mvJUVDSjtuWhQIZRj+MN4jiB 1jADZ5f/lY89shYsBmEUUi6NSFV+mP8l3yy4DYc8SqEa0xea/hqSZKFLRmZ1XfMDITE8uu/QXzM dREZvEOECjk51/mtwV+Mh9rLTl+YpfUwWbOM6UK81U8qLCdBDL8XJ2GLDMK0MqgJHVc65Lm0jDc QW7zZc36Qusxppm/YSgSyAWdm2qlPeG3vvFA1h4/s4IQ8soLhZOkvFcVwCo= X-Google-Smtp-Source: AGHT+IEbPOqeI7MEmo/5vLI9Kwbnk6liSreN+S6zZLygcUG6nP3d6JvdIgfXun3MaBiCkhs4UPNuzh8iGs11 X-Received: by 2002:a17:902:d491:b0:220:c4e8:3b9f with SMTP id d9443c01a7336-22fc895bd69mr98778955ad.0.1746866073758; Sat, 10 May 2025 01:34:33 -0700 (PDT) Received: from postal.iol.unh.edu (postal.iol.unh.edu. [132.177.123.84]) by smtp-relay.gmail.com with ESMTPS id d9443c01a7336-22fc6f30c3fsm2084185ad.122.2025.05.10.01.34.33 (version=TLS1_2 cipher=ECDHE-ECDSA-AES128-GCM-SHA256 bits=128/128); Sat, 10 May 2025 01:34:33 -0700 (PDT) X-Relaying-Domain: iol.unh.edu Date: Sat, 10 May 2025 01:34:33 -0700 (PDT) Message-ID: <681f0f99.170a0220.58935.b844SMTPIN_ADDED_MISSING@mx.google.com> Received: from [172.17.0.2] (unknown [172.18.0.74]) by postal.iol.unh.edu (Postfix) with ESMTP id E16FE6052471; Sat, 10 May 2025 04:34:32 -0400 (EDT) Subject: |SUCCESS| [GIT MASTER] 4c5634de9f933555bab9c64a533d3dca999071cd From: dpdklab@iol.unh.edu To: Test Report Cc: dpdk-test-reports@iol.unh.edu, Xueming Li , Christian Ehrhardt , Kevin Traynor , Luca Boccassi Content-Type: text/plain X-BeenThere: test-report@dpdk.org X-Mailman-Version: 2.1.29 Precedence: list List-Id: automatic DPDK test reports List-Unsubscribe: , List-Archive: List-Post: List-Help: List-Subscribe: , Errors-To: test-report-bounces@dpdk.org _Testing PASS_ Branch: tags/v24.11 4c5634de9f933555bab9c64a533d3dca999071cd --> testing pass Upstream job id: Generic-DPDK-Compile-Meson#386927 Test environment and result as below: +------------------------------------+--------------------+ | Environment | dpdk_meson_compile | +====================================+====================+ | Debian 12 with MUSDK | PASS | +------------------------------------+--------------------+ | Ubuntu 20.04 ARM SVE | PASS | +------------------------------------+--------------------+ | Fedora 40 (ARM) | PASS | +------------------------------------+--------------------+ | Fedora 41 (ARM) | PASS | +------------------------------------+--------------------+ | RHEL9 (ARM) | PASS | +------------------------------------+--------------------+ | Ubuntu 20.04 ARM GCC Cross Compile | PASS | +------------------------------------+--------------------+ | Fedora 40 (ARM Clang) | PASS | +------------------------------------+--------------------+ | Ubuntu 20.04 (ARM) | PASS | +------------------------------------+--------------------+ | Ubuntu 22.04 (ARM) | PASS | +------------------------------------+--------------------+ | Fedora 41 (ARM Clang) | PASS | +------------------------------------+--------------------+ | CentOS Stream 10 (ARM) | PASS | +------------------------------------+--------------------+ | Ubuntu 24.04 (ARM) | PASS | +------------------------------------+--------------------+ | CentOS Stream 9 (ARM) | PASS | +------------------------------------+--------------------+ | Debian 12 (arm) | PASS | +------------------------------------+--------------------+ Debian 12 with MUSDK Kernel: Depends on container host Compiler: gcc (Debian 12.2.0-14) 12.2.0 Ubuntu 20.04 ARM SVE Kernel: Depends on container host Compiler: gcc (Ubuntu 10.5.0-1ubuntu1~20.04) 10.5.0 Fedora 40 (ARM) Kernel: Depends on container host Compiler: gcc 14.2.1 20240912 (Red Hat 14.2.1-3) Fedora 41 (ARM) Kernel: Depends on container host Compiler: gcc 14.2.1 20240912 (Red Hat 14.2.1-3) RHEL9 (ARM) Kernel: Depends on container host Compiler: gcc 11.5.0 20240719 (Red Hat 11.5.0-2) Ubuntu 20.04 ARM GCC Cross Compile Kernel: Depends on container host Compiler: aarch64-linux-gnu-gcc (Ubuntu 9.4.0-1ubuntu1~20.04.2) 9.4.0 Fedora 40 (ARM Clang) Kernel: Depends on container host Compiler: clang 18.1.8 (Fedora 18.1.8-1.fc40) Ubuntu 20.04 (ARM) Kernel: Depends on container host Compiler: gcc (Ubuntu 9.4.0-1ubuntu1~20.04.2) 9.4.0 Ubuntu 22.04 (ARM) Kernel: Depends on container host Compiler: gcc (Ubuntu 11.4.0-1ubuntu1~22.04) 11.4.0 Fedora 41 (ARM Clang) Kernel: Depends on container host Compiler: clang 19.1.5 (Fedora 19.1.5-1.fc41) CentOS Stream 10 (ARM) Kernel: Depends on container host Compiler: gcc 14.2.1 20241104 (Red Hat 14.2.1-6) Ubuntu 24.04 (ARM) Kernel: Depends on container host Compiler: gcc (Ubuntu 13.3.0-6ubuntu2~24.04) 13.3.0 CentOS Stream 9 (ARM) Kernel: Depends on container host Compiler: gcc 11.5.0 20240719 (Red Hat 11.5.0-2) Debian 12 (arm) Kernel: Depends on container host Compiler: gcc (Debian 12.2.0-14) 12.2.0 To view detailed results, visit: https://lab.dpdk.org/results/dashboard/tarballs/33493/ UNH-IOL DPDK Community Lab To manage your email subscriptions, visit: https://lab.dpdk.org/results/dashboard/preferences/subscriptions/