From mboxrd@z Thu Jan 1 00:00:00 1970 Return-Path: Received: from mails.dpdk.org (mails.dpdk.org [217.70.189.124]) by inbox.dpdk.org (Postfix) with ESMTP id 006CD4670C for ; Sat, 10 May 2025 10:49:21 +0200 (CEST) Received: from mails.dpdk.org (localhost [127.0.0.1]) by mails.dpdk.org (Postfix) with ESMTP id C1B534025D; Sat, 10 May 2025 10:49:21 +0200 (CEST) Received: from mail-yb1-f226.google.com (mail-yb1-f226.google.com [209.85.219.226]) by mails.dpdk.org (Postfix) with ESMTP id 44E854025A for ; Sat, 10 May 2025 10:49:21 +0200 (CEST) Received: by mail-yb1-f226.google.com with SMTP id 3f1490d57ef6-e755cd8c333so2822279276.0 for ; Sat, 10 May 2025 01:49:21 -0700 (PDT) DKIM-Signature: v=1; a=rsa-sha256; c=relaxed/relaxed; d=iol.unh.edu; s=unh-iol; t=1746866960; x=1747471760; darn=dpdk.org; h=cc:to:from:subject:message-id:date:from:to:cc:subject:date :message-id:reply-to; bh=OMv/TvLSy0hvhRMHJmgORdHW+PvVihHXqqbYCRZrVPI=; b=UBstPMe6zszB9kIcvNNswOwotVbwLizxlNCzvyVHUw0v1dh8Q0ihinMaKPKDDapYlB vaAgCpPJ7jMW7HqI7N/vUgh9PaqB6hkz5Q3jdeI07r0SlimU39yVBATmvJrMngE9cgwt 93VZKd7R0gJ8whMLCMNJ577MPC7HQhiShx3do= X-Google-DKIM-Signature: v=1; a=rsa-sha256; c=relaxed/relaxed; d=1e100.net; s=20230601; t=1746866960; x=1747471760; h=cc:to:from:subject:message-id:date:x-gm-message-state:from:to:cc :subject:date:message-id:reply-to; bh=OMv/TvLSy0hvhRMHJmgORdHW+PvVihHXqqbYCRZrVPI=; b=omY/iCB19aPug4lKpuqr46bPNpCQ5XR+fao2+gwWE2ZLcLgNcctD/ciSaupAdS12Z8 DVItNx1YTDUVmlSSzZld7CVAecQOIsYLezvt30rp60MGAifdBQaUA3Rtceg+H9FaKf/U qyBMC4bxP9XU+lXdhN2axoQEnuFlBgiSvc4vbw44SVEkJrqobH4mIzxI1Z9MnUBFpysp iP1Mxmk2H/wdbeMMX7+5xEN7TkE6ZXbVy733w88ElwWZUCWvkAsaMslxhlWs2FA5s9an Jml2psPrlqy4SPukGeSmthkTOLueJ+gNv0bKaUyGy4qSwYGNAp7qrvXgGdEJBGs8PS3z SYdA== X-Gm-Message-State: AOJu0YxggOqiUfVii4yw/M3qHib7lfBgq7q4H+s4xyceR3O4z45DUS8w vhdxZVhpI9oeApkP0LNTgp8Hjh9l6aIeiBZpUcp4KYtA7uK8QoCK9nsJoQiktdAy5Jy7oKRdAgG Rc7SNaY+YGsSP2Z2phJ4yXhBwfJRymse6rYVEk314aJn2LX3w X-Gm-Gg: ASbGncv8kGLVPi5j4COBcxSKHA9r8jzl/STrl8NVefMoFN5dtZgV8kSCHJtoWV3Std2 cjewcipCDQd8I2IM4EKF2yQDc4hJz8GouD9F3E911LPlWX0XlGhxa/iJYa7BhJ0S7XI9tiIETa+ rt4pYTWjXqSBapeqPzCFO3Aqj/rq3irS/vFv6KEoGJVupTgtdSItS99Iw1IxCRtryRtl/zvZhjB 8FuQ1SgD2qn6yEo7FqEAygV1H32JQW9ocGaMDsuH65z8VGkZUnOLMJZYTQqXXe6uOeiwMIUM4A4 lkeAGnuiLm9OMOB9naPP5YxPZbsjFbPIxtt1 X-Google-Smtp-Source: AGHT+IErrBFI8V6kBa9DbregX2ggP7gVDOTFUJfGBXuG+vL6X7gVXEJAtOJDUr31mFQiMGS/rlptuCgj3UQT X-Received: by 2002:a05:6902:1ac1:b0:e79:67c9:b652 with SMTP id 3f1490d57ef6-e7967c9b95amr531765276.39.1746866960481; Sat, 10 May 2025 01:49:20 -0700 (PDT) Received: from postal.iol.unh.edu (postal.iol.unh.edu. [2606:4100:3880:1234::84]) by smtp-relay.gmail.com with ESMTPS id 3f1490d57ef6-e78fd67ef83sm183961276.26.2025.05.10.01.49.20 (version=TLS1_2 cipher=ECDHE-ECDSA-AES128-GCM-SHA256 bits=128/128); Sat, 10 May 2025 01:49:20 -0700 (PDT) X-Relaying-Domain: iol.unh.edu Date: Sat, 10 May 2025 01:49:20 -0700 (PDT) Message-ID: <681f1310.250a0220.1aecfc.248fSMTPIN_ADDED_MISSING@mx.google.com> Received: from [172.17.0.2] (unknown [172.18.0.74]) by postal.iol.unh.edu (Postfix) with ESMTP id 1B68A6052471; Sat, 10 May 2025 04:49:20 -0400 (EDT) Subject: |SUCCESS| [GIT MASTER] 4c5634de9f933555bab9c64a533d3dca999071cd From: dpdklab@iol.unh.edu To: Test Report Cc: dpdk-test-reports@iol.unh.edu, Xueming Li , Christian Ehrhardt , Kevin Traynor , Luca Boccassi Content-Type: text/plain X-BeenThere: test-report@dpdk.org X-Mailman-Version: 2.1.29 Precedence: list List-Id: automatic DPDK test reports List-Unsubscribe: , List-Archive: List-Post: List-Help: List-Subscribe: , Errors-To: test-report-bounces@dpdk.org _Testing PASS_ Branch: tags/v24.11 4c5634de9f933555bab9c64a533d3dca999071cd --> testing pass Upstream job id: ACVP-FIPS-testing#9774 Test environment and result as below: +--------------------+----------------------+----------------------+ | Environment | compressdev_zlib_pmd | dpdk_fips_validation | +====================+======================+======================+ | Ubuntu 22.04 (ARM) | PASS | SKIPPED | +--------------------+----------------------+----------------------+ | Ubuntu 22.04 | PASS | SKIPPED | +--------------------+----------------------+----------------------+ | Ubuntu 20.04 | SKIPPED | PASS | +--------------------+----------------------+----------------------+ Ubuntu 22.04 (ARM) Kernel: 5.15.0-97-generic Compiler: gcc gcc (Ubuntu 11.4.0-1ubuntu1~22.04) 11.4.0 Ubuntu 22.04 Kernel: 5.15.0-100-generic Compiler: gcc gcc (Ubuntu 11.4.0-1ubuntu1~22.04) 11.4.0 Ubuntu 20.04 Kernel: Depends on container host Compiler: gcc (Ubuntu 9.4.0-1ubuntu1~20.04.2) 9.4.0 To view detailed results, visit: https://lab.dpdk.org/results/dashboard/tarballs/33493/ UNH-IOL DPDK Community Lab To manage your email subscriptions, visit: https://lab.dpdk.org/results/dashboard/preferences/subscriptions/