From mboxrd@z Thu Jan 1 00:00:00 1970 Return-Path: Received: from mails.dpdk.org (mails.dpdk.org [217.70.189.124]) by inbox.dpdk.org (Postfix) with ESMTP id 2B1384670C for ; Sat, 10 May 2025 10:51:56 +0200 (CEST) Received: from mails.dpdk.org (localhost [127.0.0.1]) by mails.dpdk.org (Postfix) with ESMTP id 11AC44025D; Sat, 10 May 2025 10:51:56 +0200 (CEST) Received: from mail-qv1-f98.google.com (mail-qv1-f98.google.com [209.85.219.98]) by mails.dpdk.org (Postfix) with ESMTP id 0DF324025A for ; Sat, 10 May 2025 10:51:55 +0200 (CEST) Received: by mail-qv1-f98.google.com with SMTP id 6a1803df08f44-6f53d271c4cso27156406d6.3 for ; Sat, 10 May 2025 01:51:54 -0700 (PDT) DKIM-Signature: v=1; a=rsa-sha256; c=relaxed/relaxed; d=iol.unh.edu; s=unh-iol; t=1746867114; x=1747471914; darn=dpdk.org; h=cc:to:from:subject:message-id:date:from:to:cc:subject:date :message-id:reply-to; bh=eu8adcknCNQg/vqFoHFNp7Tifn+dXoNT7+47ElCmks4=; b=WBWGxYXiNcyGpdrdNaaEKbvxlx1eFn+sspTrlXMo+Ket3bo6bhpmPLBqRmddXPS8/c cQinsnA3zaVlzmzummcC2/uNX/+ljc2QENjGYMLpXNfmnF72cPBI//yGo6Kr2b7OemF8 L4saL0IkHB/l3h3OyiKqIxpgUaC6ymo4e/yiw= X-Google-DKIM-Signature: v=1; a=rsa-sha256; c=relaxed/relaxed; d=1e100.net; s=20230601; t=1746867114; x=1747471914; h=cc:to:from:subject:message-id:date:x-gm-message-state:from:to:cc :subject:date:message-id:reply-to; bh=eu8adcknCNQg/vqFoHFNp7Tifn+dXoNT7+47ElCmks4=; b=KHhbSZ9LMnQRSi37prebR+vBT9M3OMzYtwfDdmMMLneLZponOY+GTXhJy8q/jrTWMs B7Ys8+T5Qs+duCzDvI/Mnj3nIiY0GH/8sG3nKa33Ygu51uM1u8p1cAMpg0UH7lynhBcJ 9lu5jVlgwouOxA/TPLgcMCCvTHh5QeuEHmnjp2VvH3pKLfZTWZId99ZGomd70WZ9rHBN +7LW8GisF5Hid1KzNHV41Axyo+iNRh/ix33L4X2ZEiRqLZwQCUN1N5f607xob/RJOQzw 293ZstuTLcHWyG/uH5cPSJezak0zjzJlm79CeMBkCIkAGDevzhReNcrPe4aF8cThNlHf M5MQ== X-Gm-Message-State: AOJu0Yz3SUqCFqxqbTfusGaypGhk1SQPb3SZadRiv6qx7sTztgHfQ7rp 9zn/J989tob+5DlPpeupPwAHXEO//VAICgYddPPV968AmAfuuGwlPgKJ5HyVXL8k6peGnYiN5oj 2P7iNGAi1esL4VplZqPO8EPLWU7dZxCR7M5dezQfbj1eDok4g X-Gm-Gg: ASbGncv3tmWRYtWJd6JegiF+DjTDK1BJq7MM4zpGq+Z5Dq3Q0uktLewkDW6hNRPBPeG H1SnZuLrcCsKUa0u+cHH24WoT9/zynkNt3WzW5/qE3QOGeqkl4B9e0cXrRIYkeD2F5jUOrNDSq/ v712bK+PvGVmHh1maCmGckxwELTZfGlCRb19nZbIAjZmxRwSuLr6qKC9JYOvcshm9VkGCa1GbUn iHt0EhK/VRk6kaZMfmSWNT/4lGiW+zGkOJXPGgbWuj1Qp1u21rYhAiX3vF5+Wd3oGulINZC9hHx DyircEkVuX06EXfWx+rfF6mbqgg/w4oPPu3F X-Google-Smtp-Source: AGHT+IGJ1fxOIYjS0GI9gnAdQEegAVIhJ2fTkWI2SggduCmnEez6qmX28rfqRMOwVVGpWpcPOfYuiQI5ncKA X-Received: by 2002:a05:6214:509b:b0:6eb:26ed:4d87 with SMTP id 6a1803df08f44-6f6e4804138mr105297246d6.31.1746867114324; Sat, 10 May 2025 01:51:54 -0700 (PDT) Received: from postal.iol.unh.edu (postal.iol.unh.edu. [2606:4100:3880:1234::84]) by smtp-relay.gmail.com with ESMTPS id 6a1803df08f44-6f6e39e80cdsm2230426d6.7.2025.05.10.01.51.54 (version=TLS1_2 cipher=ECDHE-ECDSA-AES128-GCM-SHA256 bits=128/128); Sat, 10 May 2025 01:51:54 -0700 (PDT) X-Relaying-Domain: iol.unh.edu Date: Sat, 10 May 2025 01:51:54 -0700 (PDT) Message-ID: <681f13aa.050a0220.3058ba.c1bfSMTPIN_ADDED_MISSING@mx.google.com> Received: from [172.17.0.2] (unknown [172.18.0.74]) by postal.iol.unh.edu (Postfix) with ESMTP id 0D2166052471; Sat, 10 May 2025 04:51:54 -0400 (EDT) Subject: |SUCCESS| [GIT MASTER] 4401486b5e30d43a134f80f9802f60b5f43e74a8 From: dpdklab@iol.unh.edu To: Test Report Cc: dpdk-test-reports@iol.unh.edu, Xueming Li , Christian Ehrhardt , Kevin Traynor , Luca Boccassi Content-Type: text/plain X-BeenThere: test-report@dpdk.org X-Mailman-Version: 2.1.29 Precedence: list List-Id: automatic DPDK test reports List-Unsubscribe: , List-Archive: List-Post: List-Help: List-Subscribe: , Errors-To: test-report-bounces@dpdk.org _Testing PASS_ Branch: tags/v22.11 4401486b5e30d43a134f80f9802f60b5f43e74a8 --> testing pass Upstream job id: Generic-DPDK-Compile-Meson#386890 Test environment and result as below: +------------------------------------+--------------------+ | Environment | dpdk_meson_compile | +====================================+====================+ | Fedora 40 (ARM) | PASS | +------------------------------------+--------------------+ | Debian 12 with MUSDK | PASS | +------------------------------------+--------------------+ | RHEL9 (ARM) | PASS | +------------------------------------+--------------------+ | Debian 12 (arm) | PASS | +------------------------------------+--------------------+ | Ubuntu 20.04 ARM GCC Cross Compile | PASS | +------------------------------------+--------------------+ | Ubuntu 20.04 ARM SVE | PASS | +------------------------------------+--------------------+ | Fedora 40 (ARM Clang) | PASS | +------------------------------------+--------------------+ | Fedora 41 (ARM) | PASS | +------------------------------------+--------------------+ | Ubuntu 24.04 (ARM) | PASS | +------------------------------------+--------------------+ | Fedora 41 (ARM Clang) | PASS | +------------------------------------+--------------------+ | Ubuntu 20.04 (ARM) | PASS | +------------------------------------+--------------------+ | CentOS Stream 10 (ARM) | PASS | +------------------------------------+--------------------+ | Ubuntu 22.04 (ARM) | PASS | +------------------------------------+--------------------+ | CentOS Stream 9 (ARM) | PASS | +------------------------------------+--------------------+ Fedora 40 (ARM) Kernel: Depends on container host Compiler: gcc 14.2.1 20240912 (Red Hat 14.2.1-3) Debian 12 with MUSDK Kernel: Depends on container host Compiler: gcc (Debian 12.2.0-14) 12.2.0 RHEL9 (ARM) Kernel: Depends on container host Compiler: gcc 11.5.0 20240719 (Red Hat 11.5.0-2) Debian 12 (arm) Kernel: Depends on container host Compiler: gcc (Debian 12.2.0-14) 12.2.0 Ubuntu 20.04 ARM GCC Cross Compile Kernel: Depends on container host Compiler: aarch64-linux-gnu-gcc (Ubuntu 9.4.0-1ubuntu1~20.04.2) 9.4.0 Ubuntu 20.04 ARM SVE Kernel: Depends on container host Compiler: gcc (Ubuntu 10.5.0-1ubuntu1~20.04) 10.5.0 Fedora 40 (ARM Clang) Kernel: Depends on container host Compiler: clang 18.1.8 (Fedora 18.1.8-1.fc40) Fedora 41 (ARM) Kernel: Depends on container host Compiler: gcc 14.2.1 20240912 (Red Hat 14.2.1-3) Ubuntu 24.04 (ARM) Kernel: Depends on container host Compiler: gcc (Ubuntu 13.3.0-6ubuntu2~24.04) 13.3.0 Fedora 41 (ARM Clang) Kernel: Depends on container host Compiler: clang 19.1.5 (Fedora 19.1.5-1.fc41) Ubuntu 20.04 (ARM) Kernel: Depends on container host Compiler: gcc (Ubuntu 9.4.0-1ubuntu1~20.04.2) 9.4.0 CentOS Stream 10 (ARM) Kernel: Depends on container host Compiler: gcc 14.2.1 20241104 (Red Hat 14.2.1-6) Ubuntu 22.04 (ARM) Kernel: Depends on container host Compiler: gcc (Ubuntu 11.4.0-1ubuntu1~22.04) 11.4.0 CentOS Stream 9 (ARM) Kernel: Depends on container host Compiler: gcc 11.5.0 20240719 (Red Hat 11.5.0-2) To view detailed results, visit: https://lab.dpdk.org/results/dashboard/tarballs/33492/ UNH-IOL DPDK Community Lab To manage your email subscriptions, visit: https://lab.dpdk.org/results/dashboard/preferences/subscriptions/