From mboxrd@z Thu Jan 1 00:00:00 1970 Return-Path: Received: from mails.dpdk.org (mails.dpdk.org [217.70.189.124]) by inbox.dpdk.org (Postfix) with ESMTP id 24F244670D for ; Sat, 10 May 2025 13:59:22 +0200 (CEST) Received: from mails.dpdk.org (localhost [127.0.0.1]) by mails.dpdk.org (Postfix) with ESMTP id 20D9640270; Sat, 10 May 2025 13:59:22 +0200 (CEST) Received: from mail-qv1-f99.google.com (mail-qv1-f99.google.com [209.85.219.99]) by mails.dpdk.org (Postfix) with ESMTP id 824D54026C for ; Sat, 10 May 2025 13:59:21 +0200 (CEST) Received: by mail-qv1-f99.google.com with SMTP id 6a1803df08f44-6f6e398767eso26581836d6.1 for ; Sat, 10 May 2025 04:59:21 -0700 (PDT) DKIM-Signature: v=1; a=rsa-sha256; c=relaxed/relaxed; d=iol.unh.edu; s=unh-iol; t=1746878361; x=1747483161; darn=dpdk.org; h=references:in-reply-to:cc:to:from:subject:message-id:date:from:to :cc:subject:date:message-id:reply-to; bh=qo1tyrH+Zd6iUFTzz0vEs3eFTInw68WI6dxrli0QbvI=; b=T5ZwIw5m0iPtU2H+a9TethnhvNs+tLONn6OOJFlBk91WDRmDn+tNVnTW0SFu7q02og zkcPH7dH1TAUnyjsuPJfs0Glr9XpfxwmP0Cx8jAJd2mpm6Holfqbg+9yycpcHRB3uT/m veToN1+LH69/iUJexXIwpX65DT4Yx7QtKNld8= X-Google-DKIM-Signature: v=1; a=rsa-sha256; c=relaxed/relaxed; d=1e100.net; s=20230601; t=1746878361; x=1747483161; h=references:in-reply-to:cc:to:from:subject:message-id:date :x-gm-message-state:from:to:cc:subject:date:message-id:reply-to; bh=qo1tyrH+Zd6iUFTzz0vEs3eFTInw68WI6dxrli0QbvI=; b=SPbpA4k8CwxNrNAnd5HQ0G76IDlh5KPCm+VzSkcty6SMp/C8rYs2CvVzKrVZa3/kou gMvoi55DpyNkiq8yJhnGKjSMwvPCkDkZJSwu/THO2zB58f3sIocdZ7jSicyNkGZa8MNq 9uUrl9PVWJfr/+P7trSmvxTfePgJGTk6S2SpSf1q2oco4hoD9eiTZnrCKbEzX1R+qa8a Hr4alAKgpQCUVNFya4Qt1Q9Lv7JXi7QwYMNLPEoUmrVWSnyPs1+1bPixZDRam+Vf2vs9 9azmIGpPKxVZDwHAJSFr+EQA1r6bzpsyo3SfsI4kfSRKMPF/DOvk4F/rh1RlgWILzQDE MEJQ== X-Gm-Message-State: AOJu0Yy8uzh/k3RHB7pe81nqI9bgZUEWDr9qDOtqNCCAQHTmH88HFqT1 nfnWZIoBhC2UCMxtrAVF2C8no0mRj9qbNAWZGkT/9says91qzV44ubJ/OWFlZ+bJ0tga6HK/QdT GMQfrKI2TD4cRm9R27c006lYQE6o4T07xoT7GllRsfzzmeErhuaErVtE0 X-Gm-Gg: ASbGncvmT/wDSszIMzmlda/RrLxouVgVanKEty4TXCeiHwp0MjrtBHr65S7yxMEjrPm 2jIbTpoZ7tkrZAvC5WDuHVfbbvWnTNHAm6aNj4Heo79MMHqXwZ8WlgRk4J0H0qjxRn17nUtZaHC kqPeaB3lM2IJnzH3LS1kvlGPkNkG5+mCRqezG+iQgJMYcwCLGYxMwsNkf9LCfJ95XbiFCJlDdGu XL4P4udl4A03Dnu1B6mqUJ33RvdhoanFIqDQfmgGe4Khn0K7EmbocOTjqKfi6szC3wkdmbfQqsZ kILHjFm5I8jXlwtV+EMB5ZvmO1JCmnQl7Vwx X-Google-Smtp-Source: AGHT+IHRuAjW+FDBeNc+pgSMzzHibGrLlF54KNErxA3Qs+GLcEdgqLn96GV65F6IbLjN0UAlYzELtAhOH4nr X-Received: by 2002:a05:6214:cc8:b0:6e1:715f:cdf5 with SMTP id 6a1803df08f44-6f6e47ab728mr96727916d6.15.1746878360809; Sat, 10 May 2025 04:59:20 -0700 (PDT) Received: from postal.iol.unh.edu (postal.iol.unh.edu. [2606:4100:3880:1234::84]) by smtp-relay.gmail.com with ESMTPS id 6a1803df08f44-6f6e3a0e9f8sm2321436d6.41.2025.05.10.04.59.20 (version=TLS1_2 cipher=ECDHE-ECDSA-AES128-GCM-SHA256 bits=128/128); Sat, 10 May 2025 04:59:20 -0700 (PDT) X-Relaying-Domain: iol.unh.edu Date: Sat, 10 May 2025 04:59:20 -0700 (PDT) Message-ID: <681f3f98.d40a0220.3c574.d9deSMTPIN_ADDED_MISSING@mx.google.com> Received: from [172.17.0.2] (unknown [172.18.0.76]) by postal.iol.unh.edu (Postfix) with ESMTP id 896326052471; Sat, 10 May 2025 07:59:20 -0400 (EDT) Subject: |SUCCESS| pw153394 [PATCH] test/crypto: fix return value in RSA veri From: dpdklab@iol.unh.edu To: Test Report Cc: dpdk-test-reports@iol.unh.edu In-Reply-To: <20250510104553.2246-1-gmuthukrishn@marvell.com> References: <20250510104553.2246-1-gmuthukrishn@marvell.com> Content-Type: text/plain X-BeenThere: test-report@dpdk.org X-Mailman-Version: 2.1.29 Precedence: list List-Id: automatic DPDK test reports List-Unsubscribe: , List-Archive: List-Post: List-Help: List-Subscribe: , Errors-To: test-report-bounces@dpdk.org Test-Label: iol-unit-amd64-testing Test-Status: SUCCESS http://dpdk.org/patch/153394 _Testing PASS_ Submitter: Gowrishankar Muthukrishnan Date: Saturday, May 10 2025 10:45:49 DPDK git baseline: Repo:dpdk Branch: master CommitID:ca1690ebd224f148268285b15b97441ccdbdd07e 153394 --> testing pass Upstream job id: Generic-Unit-Test-DPDK#336935 Test environment and result as below: +---------------------+----------------+ | Environment | dpdk_unit_test | +=====================+================+ | CentOS Stream 9 | PASS | +---------------------+----------------+ | Debian 12 | PASS | +---------------------+----------------+ | CentOS Stream 10 | PASS | +---------------------+----------------+ | Fedora 41 | PASS | +---------------------+----------------+ | Fedora 40 (Clang) | PASS | +---------------------+----------------+ | Fedora 40 | PASS | +---------------------+----------------+ | Fedora 41 (Clang) | PASS | +---------------------+----------------+ | Ubuntu 20.04 | PASS | +---------------------+----------------+ | RHEL8 | PASS | +---------------------+----------------+ | RHEL9 | PASS | +---------------------+----------------+ | Ubuntu 24.04 | PASS | +---------------------+----------------+ | Ubuntu 22.04 | PASS | +---------------------+----------------+ | Windows Server 2022 | PASS | +---------------------+----------------+ CentOS Stream 9 Kernel: Depends on container host Compiler: gcc 11.5.0 20240719 (Red Hat 11.5.0-2) Debian 12 Kernel: Depends on container host Compiler: gcc (Debian 12.2.0-14) 12.2.0 CentOS Stream 10 Kernel: Depends on container host Compiler: gcc 14.2.1 20241104 (Red Hat 14.2.1-6) Fedora 41 Kernel: Depends on container host Compiler: gcc 14.2.1 20240912 (Red Hat 14.2.1-3) Fedora 40 (Clang) Kernel: Depends on container host Compiler: clang 18.1.8 (Fedora 18.1.8-1.fc40) Fedora 40 Kernel: Depends on container host Compiler: gcc 14.2.1 20240912 (Red Hat 14.2.1-3) Fedora 41 (Clang) Kernel: Depends on container host Compiler: clang 19.1.5 (Fedora 19.1.5-1.fc41) Ubuntu 20.04 Kernel: Depends on container host Compiler: gcc (Ubuntu 9.4.0-1ubuntu1~20.04.2) 9.4.0 RHEL8 Kernel: Depends on container host Compiler: gcc 8.5.0 20210514 (Red Hat 8.5.0-22) RHEL9 Kernel: Depends on container host Compiler: gcc 11.5.0 20240719 (Red Hat 11.5.0-2) Ubuntu 24.04 Kernel: Depends on container host Compiler: gcc (Ubuntu 13.3.0-6ubuntu2~24.04) 13.3.0 Ubuntu 22.04 Kernel: Depends on container host Compiler: gcc (Ubuntu 11.4.0-1ubuntu1~22.04) 11.4.0 Windows Server 2022 Kernel: 10.0.20348.2031 Compiler: clang 15.0.7, gcc 14.1.0 (MinGW), and MSVC VS 19.39.33521 To view detailed results, visit: https://lab.dpdk.org/results/dashboard/patchsets/33154/ UNH-IOL DPDK Community Lab To manage your email subscriptions, visit: https://lab.dpdk.org/results/dashboard/preferences/subscriptions/