From mboxrd@z Thu Jan 1 00:00:00 1970 Return-Path: Received: from mails.dpdk.org (mails.dpdk.org [217.70.189.124]) by inbox.dpdk.org (Postfix) with ESMTP id 3776F4670D for ; Sat, 10 May 2025 13:59:52 +0200 (CEST) Received: from mails.dpdk.org (localhost [127.0.0.1]) by mails.dpdk.org (Postfix) with ESMTP id 3287340270; Sat, 10 May 2025 13:59:52 +0200 (CEST) Received: from mail-io1-f99.google.com (mail-io1-f99.google.com [209.85.166.99]) by mails.dpdk.org (Postfix) with ESMTP id 3227C4026C for ; Sat, 10 May 2025 13:59:51 +0200 (CEST) Received: by mail-io1-f99.google.com with SMTP id ca18e2360f4ac-867355d9c4eso67902039f.0 for ; Sat, 10 May 2025 04:59:51 -0700 (PDT) DKIM-Signature: v=1; a=rsa-sha256; c=relaxed/relaxed; d=iol.unh.edu; s=unh-iol; t=1746878390; x=1747483190; darn=dpdk.org; h=references:in-reply-to:cc:to:from:subject:message-id:date:from:to :cc:subject:date:message-id:reply-to; bh=n4h/7fKBUcBFcvbka9Yk5hpjA0VR1gchZOUsPSWJLZ0=; b=ZLfcG8e2OnlZ3Xf/ABDnwsuM5rVLdf+UNKjs/uW25cYQx2VpLmdr1D+zCzHS43Xahd xrT+mg/SYY3qrFyIZiECMTlpzQcnQuTEssXhc/NqG0oT0gdOWm4HUYZYjQA47g1SbeT0 ljlBHPC1n0lv8Wt+KW1DJLBhsGJE5mcZZSaFI= X-Google-DKIM-Signature: v=1; a=rsa-sha256; c=relaxed/relaxed; d=1e100.net; s=20230601; t=1746878390; x=1747483190; h=references:in-reply-to:cc:to:from:subject:message-id:date :x-gm-message-state:from:to:cc:subject:date:message-id:reply-to; bh=n4h/7fKBUcBFcvbka9Yk5hpjA0VR1gchZOUsPSWJLZ0=; b=HDwwNX5T62yQKuk1lnkj1Ne9OcGVaFAjpksF8f5KQPSIaEe4CtPttSSNSO1ZNmN7D2 KFenVXH2xHkr2uf4OOu6bhxa7C2p/gO43M3m6HaBeaoXAwN76s2Wjsd8XjgK/zU6xgS7 2ePCL4guuY6OUfp95nKXMzPtXkpkKNB2ZPu4pZL3l9Pfb7x4iqpOslKoB57RNmE5CMbQ v88sIh3FG8P/tjH0zVNZOWY3ar1zLb7vtM0aWlfHQFiM3slho+QoWTjb5uUQJbeLiFZy qm+9K3/YRXeeE2Z21Esb1PaIQ/W9tkoeqR6L9IzSrIx/6wLg+TvYI5mYD89jOYVUN89m O4pA== X-Gm-Message-State: AOJu0YzKclJSGFR8qxkukgAGuRoQYvHOhobc6gLk3OfZpaHJ13Jwp1wf 1sq5DnzZKVwc2QCoBgTzCgmOgBf0V7IwxjpOMIRLevdljpkWQS6F86y2VgrRFDTXvRvYu8XerLd t579ryyh1jM/rDKbGJVuLGy/S1dxvXi2d+0bgFLV/ X-Gm-Gg: ASbGncsUSFeI197q7hsVu4SYCxIH3dRCgfHGfjsCp+KNYvVnxelzRm4N+Z7jphXhl7J 4I5Oce/4CD1pABJNx0WJ9WXtOljuLbmeko8czIWSaeVnEK8EEHusadfmYpMoq5sR5qoPiOhb53Q U0kktoakeJNBscGKArEWUAaozEjU5HJPcCAGnEKb2sUPKYuoLoF4nFXqUPdfwqqQk37bOgjN0DA X8Q3Lez53CibJbFr/Y0XUrZ4h0tUNRfwhTt8orgs6uqhu8lj+47KwJl01ghJeurryB5BLGxZehb PbNI+YaxFkElxwf9EF2nFfAJ48nn1Nszfbz/X0yvH3ZI27QGVEMpN709Fxc= X-Google-Smtp-Source: AGHT+IF5vv+NZoKSfwiHLerWUo4b86LDJhA2XUuTNT8qGdN6APffPe62YSIklF6qAMt7lI2wAzs1GjUxEKrP X-Received: by 2002:a05:6602:3f91:b0:864:a2e4:5fff with SMTP id ca18e2360f4ac-8676352c51dmr822494339f.4.1746878390419; Sat, 10 May 2025 04:59:50 -0700 (PDT) Received: from postal.iol.unh.edu (postal.iol.unh.edu. [132.177.123.84]) by smtp-relay.gmail.com with ESMTPS id ca18e2360f4ac-8676362063dsm18820439f.2.2025.05.10.04.59.50 (version=TLS1_2 cipher=ECDHE-ECDSA-AES128-GCM-SHA256 bits=128/128); Sat, 10 May 2025 04:59:50 -0700 (PDT) X-Relaying-Domain: iol.unh.edu Date: Sat, 10 May 2025 04:59:50 -0700 (PDT) Message-ID: <681f3fb6.050a0220.3079b0.a4d5SMTPIN_ADDED_MISSING@mx.google.com> Received: from [172.21.0.5] (unknown [172.18.0.240]) by postal.iol.unh.edu (Postfix) with ESMTP id E5B8B6052471; Sat, 10 May 2025 07:59:49 -0400 (EDT) Subject: |SUCCESS| pw153394 [PATCH] test/crypto: fix return value in RSA veri From: dpdklab@iol.unh.edu To: Test Report Cc: dpdk-test-reports@iol.unh.edu In-Reply-To: <20250510104553.2246-1-gmuthukrishn@marvell.com> References: <20250510104553.2246-1-gmuthukrishn@marvell.com> Content-Type: text/plain X-BeenThere: test-report@dpdk.org X-Mailman-Version: 2.1.29 Precedence: list List-Id: automatic DPDK test reports List-Unsubscribe: , List-Archive: List-Post: List-Help: List-Subscribe: , Errors-To: test-report-bounces@dpdk.org Test-Label: iol-unit-amd64-testing Test-Status: SUCCESS http://dpdk.org/patch/153394 _Testing PASS_ Submitter: Gowrishankar Muthukrishnan Date: Saturday, May 10 2025 10:45:49 DPDK git baseline: Repo:dpdk Branch: master CommitID:ca1690ebd224f148268285b15b97441ccdbdd07e 153394 --> testing pass Upstream job id: Generic-Unit-Test-DPDK#336946 Test environment and result as below: +---------------------+----------------+ | Environment | dpdk_unit_test | +=====================+================+ | CentOS Stream 9 | PASS | +---------------------+----------------+ | Debian 12 | PASS | +---------------------+----------------+ | CentOS Stream 10 | PASS | +---------------------+----------------+ | Fedora 41 | PASS | +---------------------+----------------+ | Fedora 40 (Clang) | PASS | +---------------------+----------------+ | Fedora 40 | PASS | +---------------------+----------------+ | Fedora 41 (Clang) | PASS | +---------------------+----------------+ | Ubuntu 20.04 | PASS | +---------------------+----------------+ | RHEL8 | PASS | +---------------------+----------------+ | RHEL9 | PASS | +---------------------+----------------+ | Ubuntu 24.04 | PASS | +---------------------+----------------+ | Ubuntu 22.04 | PASS | +---------------------+----------------+ | Windows Server 2022 | PASS | +---------------------+----------------+ CentOS Stream 9 Kernel: Depends on container host Compiler: gcc 11.5.0 20240719 (Red Hat 11.5.0-2) Debian 12 Kernel: Depends on container host Compiler: gcc (Debian 12.2.0-14) 12.2.0 CentOS Stream 10 Kernel: Depends on container host Compiler: gcc 14.2.1 20241104 (Red Hat 14.2.1-6) Fedora 41 Kernel: Depends on container host Compiler: gcc 14.2.1 20240912 (Red Hat 14.2.1-3) Fedora 40 (Clang) Kernel: Depends on container host Compiler: clang 18.1.8 (Fedora 18.1.8-1.fc40) Fedora 40 Kernel: Depends on container host Compiler: gcc 14.2.1 20240912 (Red Hat 14.2.1-3) Fedora 41 (Clang) Kernel: Depends on container host Compiler: clang 19.1.5 (Fedora 19.1.5-1.fc41) Ubuntu 20.04 Kernel: Depends on container host Compiler: gcc (Ubuntu 9.4.0-1ubuntu1~20.04.2) 9.4.0 RHEL8 Kernel: Depends on container host Compiler: gcc 8.5.0 20210514 (Red Hat 8.5.0-22) RHEL9 Kernel: Depends on container host Compiler: gcc 11.5.0 20240719 (Red Hat 11.5.0-2) Ubuntu 24.04 Kernel: Depends on container host Compiler: gcc (Ubuntu 13.3.0-6ubuntu2~24.04) 13.3.0 Ubuntu 22.04 Kernel: Depends on container host Compiler: gcc (Ubuntu 11.4.0-1ubuntu1~22.04) 11.4.0 Windows Server 2022 Kernel: 10.0.20348.2031 Compiler: clang 15.0.7, gcc 14.1.0 (MinGW), and MSVC VS 19.39.33521 To view detailed results, visit: https://lab.dpdk.org/results/dashboard/patchsets/33154/ UNH-IOL DPDK Community Lab To manage your email subscriptions, visit: https://lab.dpdk.org/results/dashboard/preferences/subscriptions/