From mboxrd@z Thu Jan 1 00:00:00 1970 Return-Path: Received: from mails.dpdk.org (mails.dpdk.org [217.70.189.124]) by inbox.dpdk.org (Postfix) with ESMTP id 7849A4670E for ; Sat, 10 May 2025 14:00:51 +0200 (CEST) Received: from mails.dpdk.org (localhost [127.0.0.1]) by mails.dpdk.org (Postfix) with ESMTP id 73BD640270; Sat, 10 May 2025 14:00:51 +0200 (CEST) Received: from mail-yb1-f227.google.com (mail-yb1-f227.google.com [209.85.219.227]) by mails.dpdk.org (Postfix) with ESMTP id 019E04026C for ; Sat, 10 May 2025 14:00:49 +0200 (CEST) Received: by mail-yb1-f227.google.com with SMTP id 3f1490d57ef6-e78fc91f30dso1983852276.3 for ; Sat, 10 May 2025 05:00:49 -0700 (PDT) DKIM-Signature: v=1; a=rsa-sha256; c=relaxed/relaxed; d=iol.unh.edu; s=unh-iol; t=1746878449; x=1747483249; darn=dpdk.org; h=references:in-reply-to:cc:to:from:subject:message-id:date:from:to :cc:subject:date:message-id:reply-to; bh=BRT7X87JEVhruvyH7NxTNCXiNNo21HnNfpxCW42e6L8=; b=ESAywt/vUyIS9VAQrPpH9BhBuIWy1yVNaSgVJWHgK6DEMZMPXEfgb/99r2KdJzWQRa P41pcrMs2ylBU5tLLf4CEIBkHwqK4TaQsQrooOpFD5kTX16EgiVKMy2ozz+oHzXgzbWB Rjem16T0y1i6N9zNgvuFSmDiOc+qV7OAH+u4g= X-Google-DKIM-Signature: v=1; a=rsa-sha256; c=relaxed/relaxed; d=1e100.net; s=20230601; t=1746878449; x=1747483249; h=references:in-reply-to:cc:to:from:subject:message-id:date :x-gm-message-state:from:to:cc:subject:date:message-id:reply-to; bh=BRT7X87JEVhruvyH7NxTNCXiNNo21HnNfpxCW42e6L8=; b=qzprnwmHwBtT5u5qtobH4cfmGxjaZpcP0r2TY44vb5teQCNt8t2kTjCeNnJXeYrx0X q7q/aQ+a+SA0tvxNNVLir5aCQKxGXWYRHgOsDdxmRA3nf7u3dMsmZ8yhkEXW59MWWGL9 YSNmsUtsT4a0X/yhWEJ+lL4Yfsllqy2Ztzm/PkfApJDvLVGBnv0JsngQHH41UL3e4OXe xBifNBqcxU9sdRdgDHvLWBUHN+Aleipha2/DWFKLUnhg5W8Q4HDqUeKhc/TCFGhI7hUd ZCx+aHbb5Nn4cheJRrdCsCMglH4NsiJGasDcDb8InLjvSeBO1RsV2ayOuljjKTxxkPFD 1zGg== X-Gm-Message-State: AOJu0Yzx6GlRtnxVyxGWa8xxWXYoJ57s2cIEeJgzVRPYEA2XyL3V0+IY g32ZEwXXy3zkeBkPSUZdaIWBha5ubStgUqUXCDS217Nvn1ZT3TmpnGj6dxvrTFtdw97tqD4O8S/ qqaxTX7jnO0HL6mHju6/0NOUMbfINttzzqI8M5pjP X-Gm-Gg: ASbGnctYb/x5GQGUCcv/lIYxMDRzKTkjpXadn/+3Mux1DZrI0gLAICi1kubtxa7a899 JgRn6BM7dCfG0R3BsRtOwuAS9788ZnjwhbFhl7JimwBSrQZ07z9+LSWxoIK3jPpPtbIcSzjt9W7 OaS5q3MWXJwHvr2xCDRw4FycJXQUouF8SFYFvPPo8V9azLTAkJuHEgW9epAIucTMYI12qLXaHNb QihrNd9ydvn6pgJzDp7SVhDqCwyJipz6VIndUE0RudiC8DDmfrFm3gfo2fp9UYhJ29/Pjnc1hI0 4FuhsCYJJPM8mOGKHtmLKXVUrf428RgXzQTx1y7IS5TZkBmGcPrKLpaV6CU= X-Google-Smtp-Source: AGHT+IEZD7yxTCOFHDdH7v/zBKG1K2TK5pCh6nxVReVz/WXpH7w+MNEWYD5BGBy6Pbq/eXVK6OK2146HtF9o X-Received: by 2002:a05:690c:4b86:b0:709:17e4:4d27 with SMTP id 00721157ae682-70a3fb1b0d4mr95170907b3.23.1746878449341; Sat, 10 May 2025 05:00:49 -0700 (PDT) Received: from postal.iol.unh.edu (postal.iol.unh.edu. [132.177.123.84]) by smtp-relay.gmail.com with ESMTPS id 00721157ae682-70a3d84ad16sm1392617b3.44.2025.05.10.05.00.49 (version=TLS1_2 cipher=ECDHE-ECDSA-AES128-GCM-SHA256 bits=128/128); Sat, 10 May 2025 05:00:49 -0700 (PDT) X-Relaying-Domain: iol.unh.edu Date: Sat, 10 May 2025 05:00:49 -0700 (PDT) Message-ID: <681f3ff1.050a0220.23c5dd.7998SMTPIN_ADDED_MISSING@mx.google.com> Received: from [172.17.0.2] (unknown [172.18.0.74]) by postal.iol.unh.edu (Postfix) with ESMTP id CC8936052471; Sat, 10 May 2025 08:00:48 -0400 (EDT) Subject: |SUCCESS| pw153394 [PATCH] test/crypto: fix return value in RSA veri From: dpdklab@iol.unh.edu To: Test Report Cc: dpdk-test-reports@iol.unh.edu In-Reply-To: <20250510104553.2246-1-gmuthukrishn@marvell.com> References: <20250510104553.2246-1-gmuthukrishn@marvell.com> Content-Type: text/plain X-BeenThere: test-report@dpdk.org X-Mailman-Version: 2.1.29 Precedence: list List-Id: automatic DPDK test reports List-Unsubscribe: , List-Archive: List-Post: List-Help: List-Subscribe: , Errors-To: test-report-bounces@dpdk.org Test-Label: iol-sample-apps-testing Test-Status: SUCCESS http://dpdk.org/patch/153394 _Testing PASS_ Submitter: Gowrishankar Muthukrishnan Date: Saturday, May 10 2025 10:45:49 DPDK git baseline: Repo:dpdk Branch: master CommitID:ca1690ebd224f148268285b15b97441ccdbdd07e 153394 --> testing pass Upstream job id: ACVP-FIPS-testing#9775 Test environment and result as below: +--------------------+----------------------+----------------------+ | Environment | dpdk_fips_validation | compressdev_zlib_pmd | +====================+======================+======================+ | Ubuntu 20.04 | PASS | SKIPPED | +--------------------+----------------------+----------------------+ | Ubuntu 22.04 (ARM) | SKIPPED | PASS | +--------------------+----------------------+----------------------+ | Ubuntu 22.04 | SKIPPED | PASS | +--------------------+----------------------+----------------------+ Ubuntu 20.04 Kernel: Depends on container host Compiler: gcc (Ubuntu 9.4.0-1ubuntu1~20.04.2) 9.4.0 Ubuntu 22.04 (ARM) Kernel: 5.15.0-97-generic Compiler: gcc gcc (Ubuntu 11.4.0-1ubuntu1~22.04) 11.4.0 Ubuntu 22.04 Kernel: 5.15.0-100-generic Compiler: gcc gcc (Ubuntu 11.4.0-1ubuntu1~22.04) 11.4.0 To view detailed results, visit: https://lab.dpdk.org/results/dashboard/patchsets/33154/ UNH-IOL DPDK Community Lab To manage your email subscriptions, visit: https://lab.dpdk.org/results/dashboard/preferences/subscriptions/