From mboxrd@z Thu Jan 1 00:00:00 1970 Return-Path: Received: from mails.dpdk.org (mails.dpdk.org [217.70.189.124]) by inbox.dpdk.org (Postfix) with ESMTP id B3CE84670E for ; Sat, 10 May 2025 14:10:42 +0200 (CEST) Received: from mails.dpdk.org (localhost [127.0.0.1]) by mails.dpdk.org (Postfix) with ESMTP id 8D88C40270; Sat, 10 May 2025 14:10:42 +0200 (CEST) Received: from mail-qv1-f99.google.com (mail-qv1-f99.google.com [209.85.219.99]) by mails.dpdk.org (Postfix) with ESMTP id CCE294026C for ; Sat, 10 May 2025 14:10:40 +0200 (CEST) Received: by mail-qv1-f99.google.com with SMTP id 6a1803df08f44-6f6e72e7a19so15659626d6.2 for ; Sat, 10 May 2025 05:10:40 -0700 (PDT) DKIM-Signature: v=1; a=rsa-sha256; c=relaxed/relaxed; d=iol.unh.edu; s=unh-iol; t=1746879040; x=1747483840; darn=dpdk.org; h=references:in-reply-to:cc:to:from:subject:message-id:date:from:to :cc:subject:date:message-id:reply-to; bh=72t6VuC4BgH+VITsnHbRdclSjWa/WjasB/st9yyNq2s=; b=duUA6neOmYGGLW0Q5yyH8+ot+qPLQ+ZhGfyZ845KjNyh8ucwNy6coVV+XQX9QODuak 3KHRHNO3eNJKuOjBIhy6/0ow4fRKunSdeGFaP5mf19lQ7YUoDBW1ghQDOxNeoqNntQLo 9BvDo80EQLBlHQBlcodifAP8tIQ23aUlWcMUw= X-Google-DKIM-Signature: v=1; a=rsa-sha256; c=relaxed/relaxed; d=1e100.net; s=20230601; t=1746879040; x=1747483840; h=references:in-reply-to:cc:to:from:subject:message-id:date :x-gm-message-state:from:to:cc:subject:date:message-id:reply-to; bh=72t6VuC4BgH+VITsnHbRdclSjWa/WjasB/st9yyNq2s=; b=BjFPf9JXziIuAVH4LtDxgJVnmmiw4aKHok5gn75cikC3CysPEaGqkDFJyCgS+0gpeu bHM5lA3/bEo3LdSs1g+lOK3CKzSqhREgCVtEa1W2iNFe+SZ22UCVOuIds/Bp89Gr7Qro vtobNWfNjdtKYj7gdhxEjOIf+/O7eQleTsVWY6V43iedO9xmFVQVk1Fd0sWcOUqUOQLG 15cHJDkWHLrTl+EQJ5QFk/F2ORFrmWOMP3Qrdcb1EkD9uViaJfVlrgoe6igCaSdN/tmL tPGPAj+1zKkHbLeUgU0vM0w3K9ql7zv5lh/v9Frum/Pu+7MqjK0ji8Q3tbFMt3+lwcF0 YbJg== X-Gm-Message-State: AOJu0Yzea3tnjLcI5UAm0bVEOXx2HCpgS5zDsGLLOu/o+KFLGu8omoUX N4TQE5X+Wvm7oO1Lkb7FPQJ1gohDQABJdVFSjvtc17QRVcUupTCl5JSWeaWRH8NbfVTfLIz83C1 z0SSvtqAZTCyweSwT256SpyBWRNpPqCFdz7yKZEcD22YeM2TRTh66YgP7 X-Gm-Gg: ASbGncsnXdYdz8E6A8t6uu61MA0715PbkqpzE4OcboaAKx0lnFlJ3mlCZmm4X4Pp7e7 NX028sI83yGOKyM6vU0nbZI6z5RVyOV2my9b2rSpxiE4xu2eKPMPrVvloYGckArvwH4A/ysIz9z uL3gxLT/nXg9os6fcPPny8eDmhv1njFTtvI50iDM1PAnrFyr5Vx7j3DIn3Nr8or9W2+Rp7v8sJd 0gvWUK/HmG2+VYyH/KVCK0DpnEHSxqronvGY64ZuUAeZHDhzpQlaXXHB7yFJCuVEcRhxSGVtdIS f3q8f1S6djGrHWag7M+DyqRpikQdHHVXDfRe X-Google-Smtp-Source: AGHT+IEi1iRsHassFetm0RVm7FrkIZPHidda3S+sivnbYXH3lX+zM/GlibYEOyd4QMd/r0Oxvu8Ee3AWXxb5 X-Received: by 2002:a05:6214:1bc8:b0:6e6:6699:7e58 with SMTP id 6a1803df08f44-6f6e47977cfmr96898156d6.1.1746879040088; Sat, 10 May 2025 05:10:40 -0700 (PDT) Received: from postal.iol.unh.edu (postal.iol.unh.edu. [2606:4100:3880:1234::84]) by smtp-relay.gmail.com with ESMTPS id 6a1803df08f44-6f6e3a48535sm2272016d6.44.2025.05.10.05.10.40 (version=TLS1_2 cipher=ECDHE-ECDSA-AES128-GCM-SHA256 bits=128/128); Sat, 10 May 2025 05:10:40 -0700 (PDT) X-Relaying-Domain: iol.unh.edu Date: Sat, 10 May 2025 05:10:40 -0700 (PDT) Message-ID: <681f4240.050a0220.2469dd.c80aSMTPIN_ADDED_MISSING@mx.google.com> Received: from [172.17.0.2] (unknown [172.18.0.76]) by postal.iol.unh.edu (Postfix) with ESMTP id D66796052471; Sat, 10 May 2025 08:10:39 -0400 (EDT) Subject: |SUCCESS| pw153394 [PATCH] test/crypto: fix return value in RSA veri From: dpdklab@iol.unh.edu To: Test Report Cc: dpdk-test-reports@iol.unh.edu In-Reply-To: <20250510104553.2246-1-gmuthukrishn@marvell.com> References: <20250510104553.2246-1-gmuthukrishn@marvell.com> Content-Type: text/plain X-BeenThere: test-report@dpdk.org X-Mailman-Version: 2.1.29 Precedence: list List-Id: automatic DPDK test reports List-Unsubscribe: , List-Archive: List-Post: List-Help: List-Subscribe: , Errors-To: test-report-bounces@dpdk.org Test-Label: iol-abi-testing Test-Status: SUCCESS http://dpdk.org/patch/153394 _Testing PASS_ Submitter: Gowrishankar Muthukrishnan Date: Saturday, May 10 2025 10:45:49 DPDK git baseline: Repo:dpdk Branch: master CommitID:ca1690ebd224f148268285b15b97441ccdbdd07e 153394 --> testing pass Upstream job id: Generic-DPDK-Compile-ABI#125967 Test environment and result as below: +-------------------+----------+ | Environment | abi_test | +===================+==========+ | CentOS Stream 9 | PASS | +-------------------+----------+ | Debian 12 | PASS | +-------------------+----------+ | CentOS Stream 10 | PASS | +-------------------+----------+ | Fedora 40 (Clang) | PASS | +-------------------+----------+ | Fedora 40 | PASS | +-------------------+----------+ | Fedora 41 (Clang) | PASS | +-------------------+----------+ | openSUSE Leap 15 | PASS | +-------------------+----------+ | Fedora 41 | PASS | +-------------------+----------+ | RHEL8 | PASS | +-------------------+----------+ | Ubuntu 22.04 | PASS | +-------------------+----------+ | RHEL9 | PASS | +-------------------+----------+ | Ubuntu 24.04 | PASS | +-------------------+----------+ CentOS Stream 9 Kernel: Depends on container host Compiler: gcc 11.5.0 20240719 (Red Hat 11.5.0-2) Debian 12 Kernel: Depends on container host Compiler: gcc (Debian 12.2.0-14) 12.2.0 CentOS Stream 10 Kernel: Depends on container host Compiler: gcc 14.2.1 20241104 (Red Hat 14.2.1-6) Fedora 40 (Clang) Kernel: Depends on container host Compiler: clang 18.1.8 (Fedora 18.1.8-1.fc40) Fedora 40 Kernel: Depends on container host Compiler: gcc 14.2.1 20240912 (Red Hat 14.2.1-3) Fedora 41 (Clang) Kernel: Depends on container host Compiler: clang 19.1.5 (Fedora 19.1.5-1.fc41) openSUSE Leap 15 Kernel: Depends on container host Compiler: gcc (SUSE Linux) 7.5.0 Fedora 41 Kernel: Depends on container host Compiler: gcc 14.2.1 20240912 (Red Hat 14.2.1-3) RHEL8 Kernel: Depends on container host Compiler: gcc 8.5.0 20210514 (Red Hat 8.5.0-22) Ubuntu 22.04 Kernel: Depends on container host Compiler: gcc (Ubuntu 11.4.0-1ubuntu1~22.04) 11.4.0 RHEL9 Kernel: Depends on container host Compiler: gcc 11.5.0 20240719 (Red Hat 11.5.0-2) Ubuntu 24.04 Kernel: Depends on container host Compiler: gcc (Ubuntu 13.3.0-6ubuntu2~24.04) 13.3.0 To view detailed results, visit: https://lab.dpdk.org/results/dashboard/patchsets/33154/ UNH-IOL DPDK Community Lab To manage your email subscriptions, visit: https://lab.dpdk.org/results/dashboard/preferences/subscriptions/