From mboxrd@z Thu Jan 1 00:00:00 1970 Return-Path: Received: from mails.dpdk.org (mails.dpdk.org [217.70.189.124]) by inbox.dpdk.org (Postfix) with ESMTP id EDF734670E for ; Sat, 10 May 2025 14:24:31 +0200 (CEST) Received: from mails.dpdk.org (localhost [127.0.0.1]) by mails.dpdk.org (Postfix) with ESMTP id EA6EF40270; Sat, 10 May 2025 14:24:31 +0200 (CEST) Received: from mail-io1-f97.google.com (mail-io1-f97.google.com [209.85.166.97]) by mails.dpdk.org (Postfix) with ESMTP id 385D14026C for ; Sat, 10 May 2025 14:24:30 +0200 (CEST) Received: by mail-io1-f97.google.com with SMTP id ca18e2360f4ac-85dac9729c3so277387039f.2 for ; Sat, 10 May 2025 05:24:30 -0700 (PDT) DKIM-Signature: v=1; a=rsa-sha256; c=relaxed/relaxed; d=iol.unh.edu; s=unh-iol; t=1746879869; x=1747484669; darn=dpdk.org; h=references:in-reply-to:cc:to:from:subject:message-id:date:from:to :cc:subject:date:message-id:reply-to; bh=GNFflM2E12r64sgnajF7a3JJljtQQYM/O05vF+2W654=; b=SqD5k+eZ7U2wYl2nZabC3jIO6VjSHvVTyafRUuW3SN/MSaFnveYFte2yg7q9Iewqbr YjZnKq4bUBeqoEkV1z8j7XvnmuueUAjYHQwVDgUqMKiAajpLKZ2CX5n4ek8tMQnpx8q/ WMv5fMyJ0HBaJfXhBQzmj4bAT0K6EzzpcnQ8o= X-Google-DKIM-Signature: v=1; a=rsa-sha256; c=relaxed/relaxed; d=1e100.net; s=20230601; t=1746879869; x=1747484669; h=references:in-reply-to:cc:to:from:subject:message-id:date :x-gm-message-state:from:to:cc:subject:date:message-id:reply-to; bh=GNFflM2E12r64sgnajF7a3JJljtQQYM/O05vF+2W654=; b=fQljXW4WCdMPgfqyMb25NfCkV/f9+vUBesJutYZSuHhc75u4PoEJde6VV98KCEzB4x erAOVbPFVsYeWiYoN0706yxRz2jfiz/dw9cqCtoiUhmjZvrvMeVkf0lDboof1rG8nSQT S3opRXDkOJ59quKqbn1lbau0a8k5T093Pm8W1jsRdQ9cCuhKqyyIU1gGGRCtQeOU8M7v PSN5UcFr7QprHxLjs3ucvpZGOvwkop1s3D4/VObtvt/4s1/agE2DQ4pY2W8HAZSmrdv3 kHXOcrA8r7HYkV2yP+bOdm3nFY5mYXCFNbNvFh2VkHikcZRZcagvO2Xrd8oJ4PEpA9Vw Fn4w== X-Gm-Message-State: AOJu0Yxmr3Fcbi15l8Jp5B/rQd0i1c73tC0XTPENTH2uoHVuTQEfxgd1 nYfr8iYXkndjLxJRc/qcan1Otb40YbYouSEvI6asbgOQqrYuGto9/1eId59Cq/Nk4/QusRDiaY9 ZMDzSQDUMmrNzuCVIqxancv+ycYX2n6QOcne9yo1R X-Gm-Gg: ASbGncspSe8L0alaI38NZGg2SbTwv5lTinQZu1QNqJAErj6ldLlzc730oilsE3YWFZW s36mbdN9Wtp1MLXBMDe+fCb4krKVcMLkBEWD4wKfFUJygCYktT2daiT8w/g6hYeVgR4bLiw4RPN HKgJ6/xRYoJTL1hBWShPXTakswccG4WuBzjVnD7uudg5mfndL/G5tufyRWZpxKsMYPZvPGjimGH JBT6lqcz8EtArvPsK1m8uidkyVTA3hLFfmiKHTJBelW9ePYsVWpG6xuIftG+0910OQ1NpdhGVRp 5cles1LW8dAbYHAKj1nv+G8mr78vpdhcupHqVGGm6unh6nMcmx4qTWgI9hw= X-Google-Smtp-Source: AGHT+IHg3NE1foqB1+8lCdCMWPMhwtzEEO3/xNSCDm+yupb5OrJmXqqlsok/Go3ujNi/VGJ/EBmcBxAd6kH8 X-Received: by 2002:a05:6602:1553:b0:867:97b:2268 with SMTP id ca18e2360f4ac-8676350eb1cmr770615639f.1.1746879869445; Sat, 10 May 2025 05:24:29 -0700 (PDT) Received: from postal.iol.unh.edu (postal.iol.unh.edu. [132.177.123.84]) by smtp-relay.gmail.com with ESMTPS id ca18e2360f4ac-86763698096sm17061039f.14.2025.05.10.05.24.29 (version=TLS1_2 cipher=ECDHE-ECDSA-AES128-GCM-SHA256 bits=128/128); Sat, 10 May 2025 05:24:29 -0700 (PDT) X-Relaying-Domain: iol.unh.edu Date: Sat, 10 May 2025 05:24:29 -0700 (PDT) Message-ID: <681f457d.050a0220.30f635.92d0SMTPIN_ADDED_MISSING@mx.google.com> Received: from [172.17.0.4] (unknown [172.18.0.74]) by postal.iol.unh.edu (Postfix) with ESMTP id E486B6052471; Sat, 10 May 2025 08:24:28 -0400 (EDT) Subject: |SUCCESS| pw153394 [PATCH] test/crypto: fix return value in RSA veri From: dpdklab@iol.unh.edu To: Test Report Cc: dpdk-test-reports@iol.unh.edu In-Reply-To: <20250510104553.2246-1-gmuthukrishn@marvell.com> References: <20250510104553.2246-1-gmuthukrishn@marvell.com> Content-Type: text/plain X-BeenThere: test-report@dpdk.org X-Mailman-Version: 2.1.29 Precedence: list List-Id: automatic DPDK test reports List-Unsubscribe: , List-Archive: List-Post: List-Help: List-Subscribe: , Errors-To: test-report-bounces@dpdk.org Test-Label: iol-unit-amd64-testing Test-Status: SUCCESS http://dpdk.org/patch/153394 _Testing PASS_ Submitter: Gowrishankar Muthukrishnan Date: Saturday, May 10 2025 10:45:49 DPDK git baseline: Repo:dpdk Branch: master CommitID:ca1690ebd224f148268285b15b97441ccdbdd07e 153394 --> testing pass Upstream job id: Generic-VM-Unit-Test-DPDK#28450 Test environment and result as below: +---------------------+----------------+ | Environment | dpdk_unit_test | +=====================+================+ | CentOS Stream 9 | PASS | +---------------------+----------------+ | Debian 12 | PASS | +---------------------+----------------+ | CentOS Stream 10 | PASS | +---------------------+----------------+ | Fedora 41 | PASS | +---------------------+----------------+ | Fedora 40 (Clang) | PASS | +---------------------+----------------+ | Fedora 40 | PASS | +---------------------+----------------+ | Fedora 41 (Clang) | PASS | +---------------------+----------------+ | Ubuntu 20.04 | PASS | +---------------------+----------------+ | RHEL8 | PASS | +---------------------+----------------+ | RHEL9 | PASS | +---------------------+----------------+ | Ubuntu 24.04 | PASS | +---------------------+----------------+ | Ubuntu 22.04 | PASS | +---------------------+----------------+ | Windows Server 2022 | PASS | +---------------------+----------------+ CentOS Stream 9 Kernel: Depends on container host Compiler: gcc 11.5.0 20240719 (Red Hat 11.5.0-2) Debian 12 Kernel: Depends on container host Compiler: gcc (Debian 12.2.0-14) 12.2.0 CentOS Stream 10 Kernel: Depends on container host Compiler: gcc 14.2.1 20241104 (Red Hat 14.2.1-6) Fedora 41 Kernel: Depends on container host Compiler: gcc 14.2.1 20240912 (Red Hat 14.2.1-3) Fedora 40 (Clang) Kernel: Depends on container host Compiler: clang 18.1.8 (Fedora 18.1.8-1.fc40) Fedora 40 Kernel: Depends on container host Compiler: gcc 14.2.1 20240912 (Red Hat 14.2.1-3) Fedora 41 (Clang) Kernel: Depends on container host Compiler: clang 19.1.5 (Fedora 19.1.5-1.fc41) Ubuntu 20.04 Kernel: Depends on container host Compiler: gcc (Ubuntu 9.4.0-1ubuntu1~20.04.2) 9.4.0 RHEL8 Kernel: Depends on container host Compiler: gcc 8.5.0 20210514 (Red Hat 8.5.0-22) RHEL9 Kernel: Depends on container host Compiler: gcc 11.5.0 20240719 (Red Hat 11.5.0-2) Ubuntu 24.04 Kernel: Depends on container host Compiler: gcc (Ubuntu 13.3.0-6ubuntu2~24.04) 13.3.0 Ubuntu 22.04 Kernel: Depends on container host Compiler: gcc (Ubuntu 11.4.0-1ubuntu1~22.04) 11.4.0 Windows Server 2022 Kernel: 10.0.20348.2031 Compiler: clang 15.0.7, gcc 14.1.0 (MinGW), and MSVC VS 19.39.33521 To view detailed results, visit: https://lab.dpdk.org/results/dashboard/patchsets/33154/ UNH-IOL DPDK Community Lab To manage your email subscriptions, visit: https://lab.dpdk.org/results/dashboard/preferences/subscriptions/