From mboxrd@z Thu Jan 1 00:00:00 1970 Return-Path: Received: from mails.dpdk.org (mails.dpdk.org [217.70.189.124]) by inbox.dpdk.org (Postfix) with ESMTP id BB4BF4670E for ; Sat, 10 May 2025 14:31:16 +0200 (CEST) Received: from mails.dpdk.org (localhost [127.0.0.1]) by mails.dpdk.org (Postfix) with ESMTP id 942CF40270; Sat, 10 May 2025 14:31:16 +0200 (CEST) Received: from mail-pj1-f99.google.com (mail-pj1-f99.google.com [209.85.216.99]) by mails.dpdk.org (Postfix) with ESMTP id 0C7C74026C for ; Sat, 10 May 2025 14:31:15 +0200 (CEST) Received: by mail-pj1-f99.google.com with SMTP id 98e67ed59e1d1-30c54b40112so840525a91.2 for ; Sat, 10 May 2025 05:31:14 -0700 (PDT) DKIM-Signature: v=1; a=rsa-sha256; c=relaxed/relaxed; d=iol.unh.edu; s=unh-iol; t=1746880274; x=1747485074; darn=dpdk.org; h=references:in-reply-to:cc:to:from:subject:message-id:date:from:to :cc:subject:date:message-id:reply-to; bh=i6vhfTCvwH/JKl6mVnGpFA6/SPPIhIHqYqKraRkMqjw=; b=R2QYKBK0HotcbUJqZylGLmKhAKSZPusIFLsAp9Da+OT7wX9REbpkR53uDODJE6NvKf PY0X+SdqX0mFhu0oEMRh3fiTo4j0PEesUyR7GGoXlq2IqSdkpmaAlSVnF2+TZ0CKBmzd 1rWTv1i1Tn+A31dbRZX2SNUPNvsc8PCTIqsSM= X-Google-DKIM-Signature: v=1; a=rsa-sha256; c=relaxed/relaxed; d=1e100.net; s=20230601; t=1746880274; x=1747485074; h=references:in-reply-to:cc:to:from:subject:message-id:date :x-gm-message-state:from:to:cc:subject:date:message-id:reply-to; bh=i6vhfTCvwH/JKl6mVnGpFA6/SPPIhIHqYqKraRkMqjw=; b=tn4qQbuANC22wWJDBKsfwc744vvWScw7qK/bk7+iTdH8IShD+sMCTmQjff6hKY/4gh xPdrTcd0cNqcadyazPZxACtN+GuvJNZYmOjYi+y71Bq6Y7tnnEwiuUEdIi69SpMBNQqm n7IiADQYzYcndkxuhxsKHxfqajyVztMJ4kufH7iun4TWhKXzBgjO7ANLcO1EqPegaktp tjKz6EqoD7pwMCoMXW9nC+8hYzyCvXUwcEoUP6t2gICPsbqr5bpeV4IEawPDiOJc+jp7 mfVJKcTLvajxiYiilMIH+F5Ed/l49RNkbohYAydpQQIl8bj7qHWwCCs7J57uSS9xHClU rCGw== X-Gm-Message-State: AOJu0Yz1AEWZszGCf5Lzk3OEDNoiWcvQKxmLDDbTE8YySDBbBdk/B9Ei tkvwa8XpG+qwdI0Oho60qfBDHdZwwQonJUg8MzFUUrgZQEKwo6th844ACJxrRYemJn59bGDvty9 K4bj7AAR3PJ/g8iKYKxVS5aRke4buPwJf963Ovk2ArjsNvOcOgJUEq8pn X-Gm-Gg: ASbGncvbP+oFBoPHqPp1aQG6YTUR4pA4VwzAVVbJu3aLXIohjGN9//mHBFGuNvPiS1b lv1it5g6BhQcZzs1NfuvHLO30Qj43sErmFIEPZQUGoLBFLxyVp6FDoDQOj/kk94KUt1VV+T7Hcg xxj93C5MKoSTiSsSoOt7STxo1trlGgnHQkCXH2sH+3112w1KNxfLijNWGQZFqBMqn33dXKBJ8Av d8yh9qyClZ9I3+ojFoEFuxhEj2EqEGwd4bO2wGYghDrdwygHPYVGwEOYF3IjahXNz8JLn6u1+tr oI0gjg56bCipaYWAuoOt5YnwpD6r+Q9m56qR X-Google-Smtp-Source: AGHT+IGZk+V1UISX0EOZzn01dvfLm1c8sOoq5DRosQW4CjQ+min03pp4HuBTE0ggZfiBkUkNgJPRtRpee7xl X-Received: by 2002:a17:90b:1801:b0:303:75a7:26a4 with SMTP id 98e67ed59e1d1-30c3cafbbe8mr10871074a91.7.1746880273965; Sat, 10 May 2025 05:31:13 -0700 (PDT) Received: from postal.iol.unh.edu (postal.iol.unh.edu. [2606:4100:3880:1234::84]) by smtp-relay.gmail.com with ESMTPS id 98e67ed59e1d1-30ad5054339sm373034a91.13.2025.05.10.05.31.13 (version=TLS1_2 cipher=ECDHE-ECDSA-AES128-GCM-SHA256 bits=128/128); Sat, 10 May 2025 05:31:13 -0700 (PDT) X-Relaying-Domain: iol.unh.edu Date: Sat, 10 May 2025 05:31:13 -0700 (PDT) Message-ID: <681f4711.170a0220.3ab088.4321SMTPIN_ADDED_MISSING@mx.google.com> Received: from [172.17.0.3] (unknown [172.18.0.74]) by postal.iol.unh.edu (Postfix) with ESMTP id 216906052471; Sat, 10 May 2025 08:31:13 -0400 (EDT) Subject: |SUCCESS| pw153394 [PATCH] test/crypto: fix return value in RSA veri From: dpdklab@iol.unh.edu To: Test Report Cc: dpdk-test-reports@iol.unh.edu In-Reply-To: <20250510104553.2246-1-gmuthukrishn@marvell.com> References: <20250510104553.2246-1-gmuthukrishn@marvell.com> Content-Type: text/plain X-BeenThere: test-report@dpdk.org X-Mailman-Version: 2.1.29 Precedence: list List-Id: automatic DPDK test reports List-Unsubscribe: , List-Archive: List-Post: List-Help: List-Subscribe: , Errors-To: test-report-bounces@dpdk.org Test-Label: iol-unit-arm64-testing Test-Status: SUCCESS http://dpdk.org/patch/153394 _Testing PASS_ Submitter: Gowrishankar Muthukrishnan Date: Saturday, May 10 2025 10:45:49 DPDK git baseline: Repo:dpdk Branch: master CommitID:ca1690ebd224f148268285b15b97441ccdbdd07e 153394 --> testing pass Upstream job id: Generic-Unit-Test-DPDK#336942 Test environment and result as below: +-----------------------------+---------------------------+--------------+------------------------------+----------------+ | Environment | cryptodev_sw_zuc_autotest | lpm_autotest | cryptodev_sw_snow3g_autotest | dpdk_unit_test | +=============================+===========================+==============+==============================+================+ | Debian 12 (arm) | PASS | SKIPPED | PASS | PASS | +-----------------------------+---------------------------+--------------+------------------------------+----------------+ | Ubuntu 20.04 ARM SVE | SKIPPED | PASS | SKIPPED | SKIPPED | +-----------------------------+---------------------------+--------------+------------------------------+----------------+ | CentOS Stream 10 (ARM) | SKIPPED | SKIPPED | SKIPPED | PASS | +-----------------------------+---------------------------+--------------+------------------------------+----------------+ | CentOS Stream 9 (ARM) | SKIPPED | SKIPPED | SKIPPED | PASS | +-----------------------------+---------------------------+--------------+------------------------------+----------------+ | Fedora 40 (ARM) | SKIPPED | SKIPPED | SKIPPED | PASS | +-----------------------------+---------------------------+--------------+------------------------------+----------------+ | Fedora 41 (ARM) | SKIPPED | SKIPPED | SKIPPED | PASS | +-----------------------------+---------------------------+--------------+------------------------------+----------------+ | Fedora 40 (ARM Clang) | SKIPPED | SKIPPED | SKIPPED | PASS | +-----------------------------+---------------------------+--------------+------------------------------+----------------+ | RHEL9 (ARM) | SKIPPED | SKIPPED | SKIPPED | PASS | +-----------------------------+---------------------------+--------------+------------------------------+----------------+ | Fedora 41 (ARM Clang) | SKIPPED | SKIPPED | SKIPPED | PASS | +-----------------------------+---------------------------+--------------+------------------------------+----------------+ | Ubuntu 22.04 (ARM) | SKIPPED | SKIPPED | SKIPPED | PASS | +-----------------------------+---------------------------+--------------+------------------------------+----------------+ | Ubuntu 20.04 (ARM) | SKIPPED | SKIPPED | SKIPPED | PASS | +-----------------------------+---------------------------+--------------+------------------------------+----------------+ | Ubuntu 24.04 (ARM) | SKIPPED | SKIPPED | SKIPPED | PASS | +-----------------------------+---------------------------+--------------+------------------------------+----------------+ | 32-bit Ubuntu 22.04.4 (ARM) | SKIPPED | SKIPPED | SKIPPED | PASS | +-----------------------------+---------------------------+--------------+------------------------------+----------------+ Debian 12 (arm) Kernel: Depends on container host Compiler: gcc (Debian 12.2.0-14) 12.2.0 Ubuntu 20.04 ARM SVE Kernel: Depends on container host Compiler: gcc (Ubuntu 10.5.0-1ubuntu1~20.04) 10.5.0 CentOS Stream 10 (ARM) Kernel: Depends on container host Compiler: gcc 14.2.1 20241104 (Red Hat 14.2.1-6) CentOS Stream 9 (ARM) Kernel: Depends on container host Compiler: gcc 11.5.0 20240719 (Red Hat 11.5.0-2) Fedora 40 (ARM) Kernel: Depends on container host Compiler: gcc 14.2.1 20240912 (Red Hat 14.2.1-3) Fedora 41 (ARM) Kernel: Depends on container host Compiler: gcc 14.2.1 20240912 (Red Hat 14.2.1-3) Fedora 40 (ARM Clang) Kernel: Depends on container host Compiler: clang 18.1.8 (Fedora 18.1.8-1.fc40) RHEL9 (ARM) Kernel: Depends on container host Compiler: gcc 11.5.0 20240719 (Red Hat 11.5.0-2) Fedora 41 (ARM Clang) Kernel: Depends on container host Compiler: clang 19.1.5 (Fedora 19.1.5-1.fc41) Ubuntu 22.04 (ARM) Kernel: Depends on container host Compiler: gcc (Ubuntu 11.4.0-1ubuntu1~22.04) 11.4.0 Ubuntu 20.04 (ARM) Kernel: Depends on container host Compiler: gcc (Ubuntu 9.4.0-1ubuntu1~20.04.2) 9.4.0 Ubuntu 24.04 (ARM) Kernel: Depends on container host Compiler: gcc (Ubuntu 13.3.0-6ubuntu2~24.04) 13.3.0 32-bit Ubuntu 22.04.4 (ARM) Kernel: 5.15.83+ aarch64 Compiler: gcc (Ubuntu 11.4.0-1ubuntu1~22.04) 11.4.0 To view detailed results, visit: https://lab.dpdk.org/results/dashboard/patchsets/33154/ UNH-IOL DPDK Community Lab To manage your email subscriptions, visit: https://lab.dpdk.org/results/dashboard/preferences/subscriptions/