From mboxrd@z Thu Jan 1 00:00:00 1970 Return-Path: Received: from mails.dpdk.org (mails.dpdk.org [217.70.189.124]) by inbox.dpdk.org (Postfix) with ESMTP id 7B7AE4670E for ; Sat, 10 May 2025 14:47:37 +0200 (CEST) Received: from mails.dpdk.org (localhost [127.0.0.1]) by mails.dpdk.org (Postfix) with ESMTP id 5BE0640270; Sat, 10 May 2025 14:47:37 +0200 (CEST) Received: from mail-pl1-f225.google.com (mail-pl1-f225.google.com [209.85.214.225]) by mails.dpdk.org (Postfix) with ESMTP id 82A1B4026C for ; Sat, 10 May 2025 14:47:36 +0200 (CEST) Received: by mail-pl1-f225.google.com with SMTP id d9443c01a7336-22c3407a87aso38454475ad.3 for ; Sat, 10 May 2025 05:47:36 -0700 (PDT) DKIM-Signature: v=1; a=rsa-sha256; c=relaxed/relaxed; d=iol.unh.edu; s=unh-iol; t=1746881255; x=1747486055; darn=dpdk.org; h=references:in-reply-to:cc:to:from:subject:message-id:date:from:to :cc:subject:date:message-id:reply-to; bh=eHQzrHek1dp1pJiXnf0BxdxjmI2AT6pN6ABzub6pyd8=; b=IC8CIS2Kf1mVrHNc2wJjaUZujv0aRrLrmTlU104FX34lqUA/V9jJELuhhZGvChZuiI lHuST7N9VLHtT0BxDTpZ4RCYlg/kElQvL7Qp5wLL7aCxcCH48f0M5z9Jx6thwpaCo80/ Vg8NCR5NuPffrzklzcKvxhF499LSyuPNMcAyA= X-Google-DKIM-Signature: v=1; a=rsa-sha256; c=relaxed/relaxed; d=1e100.net; s=20230601; t=1746881255; x=1747486055; h=references:in-reply-to:cc:to:from:subject:message-id:date :x-gm-message-state:from:to:cc:subject:date:message-id:reply-to; bh=eHQzrHek1dp1pJiXnf0BxdxjmI2AT6pN6ABzub6pyd8=; b=xOyW9pHKEIdihIau0Qr3nWmLjSjFg8vb9BWbLOl87voKoGI6xHu8lBvnvA6ye5dyvu zWUekXU/kPIABHimFYlP0BcnTi9qfco1hyI2hG1VpCOKFYvw8X7w1V3VOe083+ItCH0Q ZcAkjijMTeCECm2VJO3Bkm5Y9Jdt3U1YSVUE1ToBi/mqJsIANc/taLPqggAgDnJJFxCs uSWYfAwR6xtgi3Jy+ocp/V3pY8rBCGVEAgGhLqthnRo7pFBOLkHdeifz6P5Pd2l/2hCW 9l7VAuflBDlAnxe4psD7qBeL7r+m8FSw/gr4PBG/AQUagD4Jd1I6CmvTp0ckFHaCgNvY deyA== X-Gm-Message-State: AOJu0YwzvjXoaxBLc1uupDIWuLINKPnXCrxMnKsXpn2SmxgcgLC61Y30 2D0r6I3S2Nolx/4cMIw8BH5uS3kiS5C0l5cSXP5raR0XPeBAhDHyUTTukdeVvuhMYS31ggCrIvi I4MbivSS6UAs7D5JBfHnWcQgZKCFFwc+dSApgwY5IXovDl3xR6NQqY5z0 X-Gm-Gg: ASbGncv4+eaeqKaYm4QFBdD+FV7vv1UXGsIaCcEnj9+Q+gTGMD+UKcNyG1i7246YYvQ wmO6waAVbv4rDM17gc9O8TakQNPnplaW8cOgbxX6zVGoP2Q/EK3l3wPFblP5QZPb2gOgBdTdXVd YtIh9NL/bIg1Um5PZATpGVVZ9gapZnojo07u8DpJgKz/E9E6QdIeSN3gOS47x3NRh4T7GiO5B7X ZAIqqG9mOYIuT2mQo0WaR35dNieOVaZrojEoRyjFSyBvBI7MBzJ75WfsSG87zei+O7ncxcpIJZM 4MhjR07hX3ih6AOaskt6bVKpWm9yZEH/82FJ X-Google-Smtp-Source: AGHT+IEEODa+VCIdJOb8ywOpxifHVWel/6SoDOTyLH+KBXS6mcPqZxgfXa89gBRHwpNc6ke5Pz++pkKRgFZI X-Received: by 2002:a17:903:244c:b0:220:c813:dfcc with SMTP id d9443c01a7336-22fc91a05ecmr107018205ad.40.1746881255473; Sat, 10 May 2025 05:47:35 -0700 (PDT) Received: from postal.iol.unh.edu (postal.iol.unh.edu. [2606:4100:3880:1234::84]) by smtp-relay.gmail.com with ESMTPS id d9443c01a7336-22fc6f24952sm1957835ad.108.2025.05.10.05.47.35 (version=TLS1_2 cipher=ECDHE-ECDSA-AES128-GCM-SHA256 bits=128/128); Sat, 10 May 2025 05:47:35 -0700 (PDT) X-Relaying-Domain: iol.unh.edu Date: Sat, 10 May 2025 05:47:35 -0700 (PDT) Message-ID: <681f4ae7.170a0220.127b9f.b0d5SMTPIN_ADDED_MISSING@mx.google.com> Received: from [172.21.0.6] (unknown [172.18.0.240]) by postal.iol.unh.edu (Postfix) with ESMTP id DBF9C6052471; Sat, 10 May 2025 08:47:34 -0400 (EDT) Subject: |SUCCESS| pw153394 [PATCH] test/crypto: fix return value in RSA veri From: dpdklab@iol.unh.edu To: Test Report Cc: dpdk-test-reports@iol.unh.edu In-Reply-To: <20250510104553.2246-1-gmuthukrishn@marvell.com> References: <20250510104553.2246-1-gmuthukrishn@marvell.com> Content-Type: text/plain X-BeenThere: test-report@dpdk.org X-Mailman-Version: 2.1.29 Precedence: list List-Id: automatic DPDK test reports List-Unsubscribe: , List-Archive: List-Post: List-Help: List-Subscribe: , Errors-To: test-report-bounces@dpdk.org Test-Label: iol-compile-amd64-testing Test-Status: SUCCESS http://dpdk.org/patch/153394 _Testing PASS_ Submitter: Gowrishankar Muthukrishnan Date: Saturday, May 10 2025 10:45:49 DPDK git baseline: Repo:dpdk Branch: master CommitID:ca1690ebd224f148268285b15b97441ccdbdd07e 153394 --> testing pass Upstream job id: Generic-DPDK-Compile-Meson#386967 Test environment and result as below: +-----------------------------------+--------------------+-------------------+------------------+-------------------------+-------------------+----------------------+ | Environment | dpdk_meson_compile | dpdk_compile_spdk | dpdk_compile_ovs | dpdk_llvm_clang_compile | dpdk_msvc_compile | dpdk_mingw64_compile | +===================================+====================+===================+==================+=========================+===================+======================+ | CentOS Stream 9 | PASS | PASS | SKIPPED | SKIPPED | SKIPPED | SKIPPED | +-----------------------------------+--------------------+-------------------+------------------+-------------------------+-------------------+----------------------+ | CentOS Stream 10 | PASS | SKIPPED | SKIPPED | SKIPPED | SKIPPED | SKIPPED | +-----------------------------------+--------------------+-------------------+------------------+-------------------------+-------------------+----------------------+ | Debian 12 | PASS | PASS | SKIPPED | SKIPPED | SKIPPED | SKIPPED | +-----------------------------------+--------------------+-------------------+------------------+-------------------------+-------------------+----------------------+ | RHEL9 | PASS | SKIPPED | SKIPPED | SKIPPED | SKIPPED | SKIPPED | +-----------------------------------+--------------------+-------------------+------------------+-------------------------+-------------------+----------------------+ | Fedora 40 | PASS | PASS | SKIPPED | SKIPPED | SKIPPED | SKIPPED | +-----------------------------------+--------------------+-------------------+------------------+-------------------------+-------------------+----------------------+ | Fedora 40 (Clang) | PASS | PASS | SKIPPED | SKIPPED | SKIPPED | SKIPPED | +-----------------------------------+--------------------+-------------------+------------------+-------------------------+-------------------+----------------------+ | Fedora 41 | PASS | PASS | PASS | SKIPPED | SKIPPED | SKIPPED | +-----------------------------------+--------------------+-------------------+------------------+-------------------------+-------------------+----------------------+ | openSUSE Leap 15 | PASS | SKIPPED | SKIPPED | SKIPPED | SKIPPED | SKIPPED | +-----------------------------------+--------------------+-------------------+------------------+-------------------------+-------------------+----------------------+ | Ubuntu 24.04 | PASS | PASS | PASS | SKIPPED | SKIPPED | SKIPPED | +-----------------------------------+--------------------+-------------------+------------------+-------------------------+-------------------+----------------------+ | Ubuntu 22.04 | PASS | PASS | SKIPPED | SKIPPED | SKIPPED | SKIPPED | +-----------------------------------+--------------------+-------------------+------------------+-------------------------+-------------------+----------------------+ | Ubuntu 20.04 | PASS | SKIPPED | SKIPPED | SKIPPED | SKIPPED | SKIPPED | +-----------------------------------+--------------------+-------------------+------------------+-------------------------+-------------------+----------------------+ | Alpine | PASS | SKIPPED | SKIPPED | SKIPPED | SKIPPED | SKIPPED | +-----------------------------------+--------------------+-------------------+------------------+-------------------------+-------------------+----------------------+ | Ubuntu 24.04 32 Bit Cross Compile | PASS | SKIPPED | SKIPPED | SKIPPED | SKIPPED | SKIPPED | +-----------------------------------+--------------------+-------------------+------------------+-------------------------+-------------------+----------------------+ | FreeBSD 14.2 | PASS | SKIPPED | SKIPPED | SKIPPED | SKIPPED | SKIPPED | +-----------------------------------+--------------------+-------------------+------------------+-------------------------+-------------------+----------------------+ | Fedora 41 (Clang) | PASS | PASS | PASS | SKIPPED | SKIPPED | SKIPPED | +-----------------------------------+--------------------+-------------------+------------------+-------------------------+-------------------+----------------------+ | RHEL8 | PASS | SKIPPED | SKIPPED | SKIPPED | SKIPPED | SKIPPED | +-----------------------------------+--------------------+-------------------+------------------+-------------------------+-------------------+----------------------+ | FreeBSD 13.5 | PASS | SKIPPED | SKIPPED | SKIPPED | SKIPPED | SKIPPED | +-----------------------------------+--------------------+-------------------+------------------+-------------------------+-------------------+----------------------+ | Windows Server 2022 | SKIPPED | SKIPPED | SKIPPED | PASS | PASS | PASS | +-----------------------------------+--------------------+-------------------+------------------+-------------------------+-------------------+----------------------+ CentOS Stream 9 Kernel: Depends on container host Compiler: gcc 11.5.0 20240719 (Red Hat 11.5.0-2) CentOS Stream 10 Kernel: Depends on container host Compiler: gcc 14.2.1 20241104 (Red Hat 14.2.1-6) Debian 12 Kernel: Depends on container host Compiler: gcc (Debian 12.2.0-14) 12.2.0 RHEL9 Kernel: Depends on container host Compiler: gcc 11.5.0 20240719 (Red Hat 11.5.0-2) Fedora 40 Kernel: Depends on container host Compiler: gcc 14.2.1 20240912 (Red Hat 14.2.1-3) Fedora 40 (Clang) Kernel: Depends on container host Compiler: clang 18.1.8 (Fedora 18.1.8-1.fc40) Fedora 41 Kernel: Depends on container host Compiler: gcc 14.2.1 20240912 (Red Hat 14.2.1-3) openSUSE Leap 15 Kernel: Depends on container host Compiler: gcc (SUSE Linux) 7.5.0 Ubuntu 24.04 Kernel: Depends on container host Compiler: gcc (Ubuntu 13.3.0-6ubuntu2~24.04) 13.3.0 Ubuntu 22.04 Kernel: Depends on container host Compiler: gcc (Ubuntu 11.4.0-1ubuntu1~22.04) 11.4.0 Ubuntu 20.04 Kernel: Depends on container host Compiler: gcc (Ubuntu 9.4.0-1ubuntu1~20.04.2) 9.4.0 Alpine Kernel: Depends on container host Compiler: gcc (Alpine 14.2.0) 14.2.0 Ubuntu 24.04 32 Bit Cross Compile Kernel: Depends on container host Compiler: gcc (Ubuntu 13.3.0-6ubuntu2~24.04) 13.3.0 FreeBSD 14.2 Kernel: 14.2-RELEASE Compiler: clang 18.1.6 Fedora 41 (Clang) Kernel: Depends on container host Compiler: clang 19.1.5 (Fedora 19.1.5-1.fc41) RHEL8 Kernel: Depends on container host Compiler: gcc 8.5.0 20210514 (Red Hat 8.5.0-22) FreeBSD 13.5 Kernel: 13.5-RELEASE Compiler: clang 19.1.7 Windows Server 2022 Kernel: 10.0.20348.2031 Compiler: clang 15.0.7, gcc 14.1.0 (MinGW), and MSVC VS 19.39.33521 To view detailed results, visit: https://lab.dpdk.org/results/dashboard/patchsets/33154/ UNH-IOL DPDK Community Lab To manage your email subscriptions, visit: https://lab.dpdk.org/results/dashboard/preferences/subscriptions/