From mboxrd@z Thu Jan 1 00:00:00 1970 Return-Path: Received: from mails.dpdk.org (mails.dpdk.org [217.70.189.124]) by inbox.dpdk.org (Postfix) with ESMTP id BAE6C4670E for ; Sat, 10 May 2025 15:30:01 +0200 (CEST) Received: from mails.dpdk.org (localhost [127.0.0.1]) by mails.dpdk.org (Postfix) with ESMTP id 8D2BD40270; Sat, 10 May 2025 15:30:01 +0200 (CEST) Received: from mail-pl1-f225.google.com (mail-pl1-f225.google.com [209.85.214.225]) by mails.dpdk.org (Postfix) with ESMTP id A80034026C for ; Sat, 10 May 2025 15:30:00 +0200 (CEST) Received: by mail-pl1-f225.google.com with SMTP id d9443c01a7336-22e7eff58a0so29208815ad.3 for ; Sat, 10 May 2025 06:30:00 -0700 (PDT) DKIM-Signature: v=1; a=rsa-sha256; c=relaxed/relaxed; d=iol.unh.edu; s=unh-iol; t=1746883800; x=1747488600; darn=dpdk.org; h=references:in-reply-to:cc:to:from:subject:message-id:date:from:to :cc:subject:date:message-id:reply-to; bh=ABuQfj3nEl7D8OGDzs0gjCuzzbunHKQ9qaCYzn2CaBQ=; b=WtyULyqoGn2s3clC2L/GxqhoC8ri+zp6ufAqajbkIEl2Ks63hxCQR2QQfRVs5Z5Emw lblG6SLJphYyWXZWC8zNl1I55jZe711vQc3TxVd8+Vxv3Z4UqGq9WpO2eqqsfmDiChNB lVsvhbAUMoHRXAuG1dZM87+whKgJblqw0GWnc= X-Google-DKIM-Signature: v=1; a=rsa-sha256; c=relaxed/relaxed; d=1e100.net; s=20230601; t=1746883800; x=1747488600; h=references:in-reply-to:cc:to:from:subject:message-id:date :x-gm-message-state:from:to:cc:subject:date:message-id:reply-to; bh=ABuQfj3nEl7D8OGDzs0gjCuzzbunHKQ9qaCYzn2CaBQ=; b=qRlZjhcSI7385v1b/4wOPnwgVnTn6Po1GHZwJbup50/f2mY5WJhXeCMVjwaOHIOXui foTe460JIV+IOrn9hz+dlE0eg/U9mOQGVE3x2mKvXtpEMaAyKU0PcBUOrjf7e3jqnnUD zWyyPc9jbTRDQlK1FtA6Q4bH9qhhxGM594SDav1DVvjJCImc+jNwrlZGNHlyMzctxGmS gJuScREhRXD61oa76pz0+mQhoRlhN2jeNSDqjW6NSDNWnnaZdyifkgKIIvFZy4HS1+Iv LeZyeD1/QHkmr8NkZAqC3AgSdwmx0teXA+zTfudbNYsjivqJIbdiqh4D90ziu28qGzMS mooQ== X-Gm-Message-State: AOJu0YyynwB4eE2N8HT+jXPpNRv4O3daPnO34012jfX3+AC9reiMkGYs L7miBrUIbtpNdKA4wc4/Rf7lyFQ2AdQJb7N270NpQSDiVf00Hp6V3ZG5dQR9Vdw6+M+0kzxd+7c lW2GKHSicpO3GJQZManbEjDIDcjcBCcYEEiA/nlfR X-Gm-Gg: ASbGncswY0eboMEHPnwD4Ae0+d0VpxQYvXyn4hBaJ+YHcWa8/1fNvKLNya3eQF6nwIY LzLKdFGrVeIT7h0qSs3HvNLqgwqZZPtPZNf9BvMEL73b8SMGdEQYskJqRnZDvJ1t3qDX+isYBY9 2/grf/zBWqUoY8IL+A51YTHg+owhIOlO5c5HH9a4LqJwkGDCIWvnLmJezGpJnv4r4hFxKNBFyAX z8k2w47ckB3LjpgKsmF4aZb7y9KOjb6Qk2gPaGx77c8aKBc5OjJex5PMemgJuvDUyI/cLl4Agy6 ZJ+i9gfsgmdT9gHEIik/Q+lKfVJIYiNzcLwFNvu3feX8FnhlilHdpvzHNQM= X-Google-Smtp-Source: AGHT+IFkD2FzaHWozOpsklCYVcKJ4hbKF2kJK/HDrWuH8+dNkG5RhhI7oLMkKNr3nTCjs8rczY3vekTW2ySi X-Received: by 2002:a17:902:e806:b0:215:8d49:e2a7 with SMTP id d9443c01a7336-22fc91a3729mr95776495ad.50.1746883799719; Sat, 10 May 2025 06:29:59 -0700 (PDT) Received: from postal.iol.unh.edu (postal.iol.unh.edu. [132.177.123.84]) by smtp-relay.gmail.com with ESMTPS id d9443c01a7336-22fc581fcf5sm2032275ad.24.2025.05.10.06.29.59 (version=TLS1_2 cipher=ECDHE-ECDSA-AES128-GCM-SHA256 bits=128/128); Sat, 10 May 2025 06:29:59 -0700 (PDT) X-Relaying-Domain: iol.unh.edu Date: Sat, 10 May 2025 06:29:59 -0700 (PDT) Message-ID: <681f54d7.170a0220.a4568.b5d7SMTPIN_ADDED_MISSING@mx.google.com> Received: from [172.21.0.6] (unknown [172.18.0.240]) by postal.iol.unh.edu (Postfix) with ESMTP id E45B96052471; Sat, 10 May 2025 09:29:58 -0400 (EDT) Subject: |SUCCESS| pw153393 [PATCH] test/crypto: fix RSA decrypt op validatio From: dpdklab@iol.unh.edu To: Test Report Cc: dpdk-test-reports@iol.unh.edu In-Reply-To: <20250510104452.2186-1-gmuthukrishn@marvell.com> References: <20250510104452.2186-1-gmuthukrishn@marvell.com> Content-Type: text/plain X-BeenThere: test-report@dpdk.org X-Mailman-Version: 2.1.29 Precedence: list List-Id: automatic DPDK test reports List-Unsubscribe: , List-Archive: List-Post: List-Help: List-Subscribe: , Errors-To: test-report-bounces@dpdk.org Test-Label: iol-abi-testing Test-Status: SUCCESS http://dpdk.org/patch/153393 _Testing PASS_ Submitter: Gowrishankar Muthukrishnan Date: Saturday, May 10 2025 10:44:47 DPDK git baseline: Repo:dpdk Branch: master CommitID:ca1690ebd224f148268285b15b97441ccdbdd07e 153393 --> testing pass Upstream job id: Generic-DPDK-Compile-ABI#125986 Test environment and result as below: +-------------------+----------+ | Environment | abi_test | +===================+==========+ | CentOS Stream 9 | PASS | +-------------------+----------+ | CentOS Stream 10 | PASS | +-------------------+----------+ | Debian 12 | PASS | +-------------------+----------+ | Fedora 40 (Clang) | PASS | +-------------------+----------+ | Fedora 41 (Clang) | PASS | +-------------------+----------+ | Fedora 40 | PASS | +-------------------+----------+ | openSUSE Leap 15 | PASS | +-------------------+----------+ | Fedora 41 | PASS | +-------------------+----------+ | RHEL9 | PASS | +-------------------+----------+ | Ubuntu 22.04 | PASS | +-------------------+----------+ | Ubuntu 24.04 | PASS | +-------------------+----------+ | RHEL8 | PASS | +-------------------+----------+ CentOS Stream 9 Kernel: Depends on container host Compiler: gcc 11.5.0 20240719 (Red Hat 11.5.0-2) CentOS Stream 10 Kernel: Depends on container host Compiler: gcc 14.2.1 20241104 (Red Hat 14.2.1-6) Debian 12 Kernel: Depends on container host Compiler: gcc (Debian 12.2.0-14) 12.2.0 Fedora 40 (Clang) Kernel: Depends on container host Compiler: clang 18.1.8 (Fedora 18.1.8-1.fc40) Fedora 41 (Clang) Kernel: Depends on container host Compiler: clang 19.1.5 (Fedora 19.1.5-1.fc41) Fedora 40 Kernel: Depends on container host Compiler: gcc 14.2.1 20240912 (Red Hat 14.2.1-3) openSUSE Leap 15 Kernel: Depends on container host Compiler: gcc (SUSE Linux) 7.5.0 Fedora 41 Kernel: Depends on container host Compiler: gcc 14.2.1 20240912 (Red Hat 14.2.1-3) RHEL9 Kernel: Depends on container host Compiler: gcc 11.5.0 20240719 (Red Hat 11.5.0-2) Ubuntu 22.04 Kernel: Depends on container host Compiler: gcc (Ubuntu 11.4.0-1ubuntu1~22.04) 11.4.0 Ubuntu 24.04 Kernel: Depends on container host Compiler: gcc (Ubuntu 13.3.0-6ubuntu2~24.04) 13.3.0 RHEL8 Kernel: Depends on container host Compiler: gcc 8.5.0 20210514 (Red Hat 8.5.0-22) To view detailed results, visit: https://lab.dpdk.org/results/dashboard/patchsets/33153/ UNH-IOL DPDK Community Lab To manage your email subscriptions, visit: https://lab.dpdk.org/results/dashboard/preferences/subscriptions/