From mboxrd@z Thu Jan 1 00:00:00 1970 Return-Path: Received: from mails.dpdk.org (mails.dpdk.org [217.70.189.124]) by inbox.dpdk.org (Postfix) with ESMTP id 8A6C94670E for ; Sat, 10 May 2025 15:48:55 +0200 (CEST) Received: from mails.dpdk.org (localhost [127.0.0.1]) by mails.dpdk.org (Postfix) with ESMTP id 8574240270; Sat, 10 May 2025 15:48:55 +0200 (CEST) Received: from mail-io1-f99.google.com (mail-io1-f99.google.com [209.85.166.99]) by mails.dpdk.org (Postfix) with ESMTP id C909A4026C for ; Sat, 10 May 2025 15:48:53 +0200 (CEST) Received: by mail-io1-f99.google.com with SMTP id ca18e2360f4ac-86135ac9542so114399439f.1 for ; Sat, 10 May 2025 06:48:53 -0700 (PDT) DKIM-Signature: v=1; a=rsa-sha256; c=relaxed/relaxed; d=iol.unh.edu; s=unh-iol; t=1746884933; x=1747489733; darn=dpdk.org; h=references:in-reply-to:cc:to:from:subject:message-id:date:from:to :cc:subject:date:message-id:reply-to; bh=Dn9h3hvIdfLzUP+LXgWkkTuhcKozt37IgM+bOy1Qo1s=; b=hkJtaoAWi2+TBGNN1o0CPZQtLt7XK7YT2pQhXaFCGESxWLZ49K9XMZJfiA4JGoRvMy 0sX2K9FjJ5XH3yMeIdVuerdimEhapFEO+9aS4squp8RipHq4dz3GQDynbUKm4HtvuoXf zXIg8ypQHvnEbE95hJzQlQMh5p5ZmKBWn2+qc= X-Google-DKIM-Signature: v=1; a=rsa-sha256; c=relaxed/relaxed; d=1e100.net; s=20230601; t=1746884933; x=1747489733; h=references:in-reply-to:cc:to:from:subject:message-id:date :x-gm-message-state:from:to:cc:subject:date:message-id:reply-to; bh=Dn9h3hvIdfLzUP+LXgWkkTuhcKozt37IgM+bOy1Qo1s=; b=JL5P7SLcU6HrSY0nrXnnfkBHlDPcjqlfDztDvIWaJ8mpu24Po/ceyMCZtFfoJii3kG oc+FTRSMvAzEYBIVKGwaSp437q9ZaGX75yOPP2MVcaYFcdDiwCukLGq0+5Mg7WwLtPjP iEcmhLSR9WwnJoR69S2eENLdq3TrjSTEFhjmvlM0azw6riZdyuxIzqtXPGVLCtF+PVTq eRg9vvLmSNL49Azzulmfq9wGclVjDmopQTXRV0MOubrVni4LZqBRZyy5XTEV2P78rsqY rzIIQ6BDqaOLXeZYS/V6JnOPnU3robeAvRJqOZUJAkpQNz0Nn/WdSeDvSYqq6JuVtejx L51Q== X-Gm-Message-State: AOJu0YwOjhny0NRTSw+zwroznzlLdHk/tGxGXDuVKteYruMB8jAX+U6i 4vyUmtaSE9UcLUl357QhIZ20VZgpD7eeX2WLlqVlx7U5mBRH/MPHBsX5jQAB8Q4IkVHcre3ZBJ1 ea9mz9cDB2zwXkF4Sy22pPKnM64DKPXMZYOkmmxYJ X-Gm-Gg: ASbGncuPTjC8tSnYRqKNDwFIpp6fxt6jxgo03ftDS/FgN+gFNbxh5Gcn8k6JfEayDQ9 fPhliF2xEi2u0CpN9lZ/YDSB0wSGQkbsFHGRKI0VY+Bq7ZSMmYR/C67TavXc90yi5R0YnE6HM4G UGvUwv2ohfEHZU5qrbbPh269B8nQiWOZmDiMj0MUYqrSYGAbNdJe1qzhVQfbjSLPyEaGo0B/qjI 1I/BDW7HbxfAeInL8pbMsLHOiv7fK0lvPPJkmHCtd3I+hINL3ACH/rybPTdWv5xJIr7ow06yXAo YsKQSc2yScMnxyVb+YDOJizZhobxFFDpgk6J/AJo4aMMMJyNWAxaW7IkxMg= X-Google-Smtp-Source: AGHT+IGCt2kW4ZQHNfJJmHCwJCojnK2FT+ilNZVhdnuxdOsChFmB9mfTcYwTLW0G63ppRagkPRjh5/BfcTyb X-Received: by 2002:a05:6602:6d12:b0:867:973:f2cb with SMTP id ca18e2360f4ac-8676447ff93mr649275339f.7.1746884933032; Sat, 10 May 2025 06:48:53 -0700 (PDT) Received: from postal.iol.unh.edu (postal.iol.unh.edu. [132.177.123.84]) by smtp-relay.gmail.com with ESMTPS id ca18e2360f4ac-867637b08acsm18224139f.28.2025.05.10.06.48.52 (version=TLS1_2 cipher=ECDHE-ECDSA-AES128-GCM-SHA256 bits=128/128); Sat, 10 May 2025 06:48:53 -0700 (PDT) X-Relaying-Domain: iol.unh.edu Date: Sat, 10 May 2025 06:48:53 -0700 (PDT) Message-ID: <681f5945.050a0220.28b484.af01SMTPIN_ADDED_MISSING@mx.google.com> Received: from [172.17.0.2] (unknown [172.18.0.74]) by postal.iol.unh.edu (Postfix) with ESMTP id 8A18C6052471; Sat, 10 May 2025 09:48:52 -0400 (EDT) Subject: |SUCCESS| pw153392 [PATCH] crypto/virtio: fix DER encoding for posit From: dpdklab@iol.unh.edu To: Test Report Cc: dpdk-test-reports@iol.unh.edu In-Reply-To: <20250510104412.2154-1-gmuthukrishn@marvell.com> References: <20250510104412.2154-1-gmuthukrishn@marvell.com> Content-Type: text/plain X-BeenThere: test-report@dpdk.org X-Mailman-Version: 2.1.29 Precedence: list List-Id: automatic DPDK test reports List-Unsubscribe: , List-Archive: List-Post: List-Help: List-Subscribe: , Errors-To: test-report-bounces@dpdk.org Test-Label: iol-abi-testing Test-Status: SUCCESS http://dpdk.org/patch/153392 _Testing PASS_ Submitter: Gowrishankar Muthukrishnan Date: Saturday, May 10 2025 10:44:07 DPDK git baseline: Repo:dpdk Branch: master CommitID:ca1690ebd224f148268285b15b97441ccdbdd07e 153392 --> testing pass Upstream job id: Generic-DPDK-Compile-ABI#125996 Test environment and result as below: +-------------------+----------+ | Environment | abi_test | +===================+==========+ | CentOS Stream 9 | PASS | +-------------------+----------+ | CentOS Stream 10 | PASS | +-------------------+----------+ | Debian 12 | PASS | +-------------------+----------+ | Fedora 40 | PASS | +-------------------+----------+ | Fedora 41 (Clang) | PASS | +-------------------+----------+ | Fedora 40 (Clang) | PASS | +-------------------+----------+ | RHEL8 | PASS | +-------------------+----------+ | Fedora 41 | PASS | +-------------------+----------+ | openSUSE Leap 15 | PASS | +-------------------+----------+ | Ubuntu 22.04 | PASS | +-------------------+----------+ | RHEL9 | PASS | +-------------------+----------+ | Ubuntu 24.04 | PASS | +-------------------+----------+ CentOS Stream 9 Kernel: Depends on container host Compiler: gcc 11.5.0 20240719 (Red Hat 11.5.0-2) CentOS Stream 10 Kernel: Depends on container host Compiler: gcc 14.2.1 20241104 (Red Hat 14.2.1-6) Debian 12 Kernel: Depends on container host Compiler: gcc (Debian 12.2.0-14) 12.2.0 Fedora 40 Kernel: Depends on container host Compiler: gcc 14.2.1 20240912 (Red Hat 14.2.1-3) Fedora 41 (Clang) Kernel: Depends on container host Compiler: clang 19.1.5 (Fedora 19.1.5-1.fc41) Fedora 40 (Clang) Kernel: Depends on container host Compiler: clang 18.1.8 (Fedora 18.1.8-1.fc40) RHEL8 Kernel: Depends on container host Compiler: gcc 8.5.0 20210514 (Red Hat 8.5.0-22) Fedora 41 Kernel: Depends on container host Compiler: gcc 14.2.1 20240912 (Red Hat 14.2.1-3) openSUSE Leap 15 Kernel: Depends on container host Compiler: gcc (SUSE Linux) 7.5.0 Ubuntu 22.04 Kernel: Depends on container host Compiler: gcc (Ubuntu 11.4.0-1ubuntu1~22.04) 11.4.0 RHEL9 Kernel: Depends on container host Compiler: gcc 11.5.0 20240719 (Red Hat 11.5.0-2) Ubuntu 24.04 Kernel: Depends on container host Compiler: gcc (Ubuntu 13.3.0-6ubuntu2~24.04) 13.3.0 To view detailed results, visit: https://lab.dpdk.org/results/dashboard/patchsets/33152/ UNH-IOL DPDK Community Lab To manage your email subscriptions, visit: https://lab.dpdk.org/results/dashboard/preferences/subscriptions/