From mboxrd@z Thu Jan 1 00:00:00 1970 Return-Path: Received: from mails.dpdk.org (mails.dpdk.org [217.70.189.124]) by inbox.dpdk.org (Postfix) with ESMTP id DBB534670F for ; Sat, 10 May 2025 16:24:39 +0200 (CEST) Received: from mails.dpdk.org (localhost [127.0.0.1]) by mails.dpdk.org (Postfix) with ESMTP id D696340270; Sat, 10 May 2025 16:24:39 +0200 (CEST) Received: from mail-io1-f100.google.com (mail-io1-f100.google.com [209.85.166.100]) by mails.dpdk.org (Postfix) with ESMTP id 3372E4026C for ; Sat, 10 May 2025 16:24:38 +0200 (CEST) Received: by mail-io1-f100.google.com with SMTP id ca18e2360f4ac-85dac9729c3so285516639f.2 for ; Sat, 10 May 2025 07:24:38 -0700 (PDT) DKIM-Signature: v=1; a=rsa-sha256; c=relaxed/relaxed; d=iol.unh.edu; s=unh-iol; t=1746887077; x=1747491877; darn=dpdk.org; h=references:in-reply-to:cc:to:from:subject:message-id:date:from:to :cc:subject:date:message-id:reply-to; bh=J/e/pCpTKk0mkliqHCbcdffstSpbVQZhwHSe1ac3RQc=; b=N2FxNCkF5XE5pz4ulfP7SFiISwx1gPj0vnAD0jpOZ6mDHVUcYbj0+ffDNqbkdqMR2e dJ8JnQc1eARv++33laRu0hCXmEGGL8vjY3uenE9xTTtRcia+ZkMyDurbCtU9f3+8B/rm oxXclJnUuiPp2iIa7JSa85c61T7yht8wFj1Ys= X-Google-DKIM-Signature: v=1; a=rsa-sha256; c=relaxed/relaxed; d=1e100.net; s=20230601; t=1746887077; x=1747491877; h=references:in-reply-to:cc:to:from:subject:message-id:date :x-gm-message-state:from:to:cc:subject:date:message-id:reply-to; bh=J/e/pCpTKk0mkliqHCbcdffstSpbVQZhwHSe1ac3RQc=; b=Bc8cUDd2HEt63U/G2x+SrOBq0uVN4/npa3VZBTcaxHNBS/4Sey4qMUyDqhKq3Tl+1R jOHwp1P74dcRA0PP4v/sT59g/+biTI9Bk5sSMamy939/5Qj/gwOn1SOCdd+FiA3fDH0H oyrg7sInE3APRBKAuvG9gktaeV4ZzFu+Si1Tox9UZzfIVwM3vpXNqQE2KY/ipd5sSfkc J9kBoCxAq9Gjie/NnfbmbhGmv8DZz94ugpb/6zUT/eDEqNFJ2S+d9wytl+0Hl902cQGc xirRZ6D6HWbQ74zDnkI5ZAEl7+1GG9Tidn3wgTrLxyd4OsnnQ3GDA314J1CcHB/vFvnZ zDFA== X-Gm-Message-State: AOJu0YzoySozEe5wf0C9Ag94GLWa5JoEm1NGDepPrOZgZI5gj3OCZtRB VpS8oLXMeaXQujtPmJg6P2mmzgXPhF5sljOIHtfJfcZoo7LgpbdFxO03i4+dSuChM7xur5ftivw TeG8setz5YN3dFhBivvrtqipHz1yoYtK/ZoX9dptxKmKCSO1zNFxUiXCR X-Gm-Gg: ASbGncvA5eh4APa+uvuzhucsA/4grVEFwdr0aIT5XeWoFB1J6xW7UVocbRLs1BkTHZO QiNj6cLaJYdB6bqbjVjDwbtlLn+YJWmqwXT3verJqOh+faC+gAYXD/H61ueLr5UVbr9vTtfQlaw LlW02bbo4jeynEx0OFCMhALb0Bj3Yrr1KwUA/c5gvnp+DjqNgTqx/zDNCZXuu3LiRmfJ2ZgtQiq MMVgxMzL82VIGE/Uo2VAyGYbi6zlFxypc+N8VDf43dYgFtrzBUuzU9wb0SBWFUXhmN4JxS2YKBW udEBhT17T9tm0LxWYkogZZD66FarEcg5rdFr X-Google-Smtp-Source: AGHT+IGkX30p9PWL23Pbml1xaPxqoYgp9w96afdkpHzaWRh3Zk3tyDT9AG3H8dmb2y/bw7JHsNB0elQB2INi X-Received: by 2002:a05:6602:1588:b0:85b:58b0:7ac9 with SMTP id ca18e2360f4ac-8676362397amr760557639f.10.1746887077272; Sat, 10 May 2025 07:24:37 -0700 (PDT) Received: from postal.iol.unh.edu (postal.iol.unh.edu. [2606:4100:3880:1234::84]) by smtp-relay.gmail.com with ESMTPS id 8926c6da1cb9f-4fa224706c1sm67284173.16.2025.05.10.07.24.37 (version=TLS1_2 cipher=ECDHE-ECDSA-AES128-GCM-SHA256 bits=128/128); Sat, 10 May 2025 07:24:37 -0700 (PDT) X-Relaying-Domain: iol.unh.edu Date: Sat, 10 May 2025 07:24:37 -0700 (PDT) Message-ID: <681f61a5.020a0220.8af6a.424eSMTPIN_ADDED_MISSING@mx.google.com> Received: from [172.17.0.5] (unknown [172.18.0.74]) by postal.iol.unh.edu (Postfix) with ESMTP id 91D236052471; Sat, 10 May 2025 10:24:36 -0400 (EDT) Subject: |SUCCESS| pw153393 [PATCH] test/crypto: fix RSA decrypt op validatio From: dpdklab@iol.unh.edu To: Test Report Cc: dpdk-test-reports@iol.unh.edu In-Reply-To: <20250510104452.2186-1-gmuthukrishn@marvell.com> References: <20250510104452.2186-1-gmuthukrishn@marvell.com> Content-Type: text/plain X-BeenThere: test-report@dpdk.org X-Mailman-Version: 2.1.29 Precedence: list List-Id: automatic DPDK test reports List-Unsubscribe: , List-Archive: List-Post: List-Help: List-Subscribe: , Errors-To: test-report-bounces@dpdk.org Test-Label: iol-compile-amd64-testing Test-Status: SUCCESS http://dpdk.org/patch/153393 _Testing PASS_ Submitter: Gowrishankar Muthukrishnan Date: Saturday, May 10 2025 10:44:47 DPDK git baseline: Repo:dpdk Branch: master CommitID:ca1690ebd224f148268285b15b97441ccdbdd07e 153393 --> testing pass Upstream job id: Generic-DPDK-Compile-Meson#387005 Test environment and result as below: +-----------------------------------+--------------------+-------------------+------------------+-------------------------+-------------------+----------------------+ | Environment | dpdk_meson_compile | dpdk_compile_spdk | dpdk_compile_ovs | dpdk_llvm_clang_compile | dpdk_msvc_compile | dpdk_mingw64_compile | +===================================+====================+===================+==================+=========================+===================+======================+ | CentOS Stream 9 | PASS | PASS | SKIPPED | SKIPPED | SKIPPED | SKIPPED | +-----------------------------------+--------------------+-------------------+------------------+-------------------------+-------------------+----------------------+ | CentOS Stream 10 | PASS | SKIPPED | SKIPPED | SKIPPED | SKIPPED | SKIPPED | +-----------------------------------+--------------------+-------------------+------------------+-------------------------+-------------------+----------------------+ | Debian 12 | PASS | PASS | SKIPPED | SKIPPED | SKIPPED | SKIPPED | +-----------------------------------+--------------------+-------------------+------------------+-------------------------+-------------------+----------------------+ | Fedora 40 | PASS | PASS | SKIPPED | SKIPPED | SKIPPED | SKIPPED | +-----------------------------------+--------------------+-------------------+------------------+-------------------------+-------------------+----------------------+ | Fedora 41 (Clang) | PASS | PASS | PASS | SKIPPED | SKIPPED | SKIPPED | +-----------------------------------+--------------------+-------------------+------------------+-------------------------+-------------------+----------------------+ | Fedora 41 | PASS | PASS | PASS | SKIPPED | SKIPPED | SKIPPED | +-----------------------------------+--------------------+-------------------+------------------+-------------------------+-------------------+----------------------+ | RHEL8 | PASS | SKIPPED | SKIPPED | SKIPPED | SKIPPED | SKIPPED | +-----------------------------------+--------------------+-------------------+------------------+-------------------------+-------------------+----------------------+ | openSUSE Leap 15 | PASS | SKIPPED | SKIPPED | SKIPPED | SKIPPED | SKIPPED | +-----------------------------------+--------------------+-------------------+------------------+-------------------------+-------------------+----------------------+ | Fedora 40 (Clang) | PASS | PASS | SKIPPED | SKIPPED | SKIPPED | SKIPPED | +-----------------------------------+--------------------+-------------------+------------------+-------------------------+-------------------+----------------------+ | Ubuntu 22.04 | PASS | PASS | SKIPPED | SKIPPED | SKIPPED | SKIPPED | +-----------------------------------+--------------------+-------------------+------------------+-------------------------+-------------------+----------------------+ | Ubuntu 20.04 | PASS | SKIPPED | SKIPPED | SKIPPED | SKIPPED | SKIPPED | +-----------------------------------+--------------------+-------------------+------------------+-------------------------+-------------------+----------------------+ | RHEL9 | PASS | SKIPPED | SKIPPED | SKIPPED | SKIPPED | SKIPPED | +-----------------------------------+--------------------+-------------------+------------------+-------------------------+-------------------+----------------------+ | Ubuntu 24.04 | PASS | PASS | PASS | SKIPPED | SKIPPED | SKIPPED | +-----------------------------------+--------------------+-------------------+------------------+-------------------------+-------------------+----------------------+ | Alpine | PASS | SKIPPED | SKIPPED | SKIPPED | SKIPPED | SKIPPED | +-----------------------------------+--------------------+-------------------+------------------+-------------------------+-------------------+----------------------+ | Ubuntu 24.04 32 Bit Cross Compile | PASS | SKIPPED | SKIPPED | SKIPPED | SKIPPED | SKIPPED | +-----------------------------------+--------------------+-------------------+------------------+-------------------------+-------------------+----------------------+ | FreeBSD 13.5 | PASS | SKIPPED | SKIPPED | SKIPPED | SKIPPED | SKIPPED | +-----------------------------------+--------------------+-------------------+------------------+-------------------------+-------------------+----------------------+ | FreeBSD 14.2 | PASS | SKIPPED | SKIPPED | SKIPPED | SKIPPED | SKIPPED | +-----------------------------------+--------------------+-------------------+------------------+-------------------------+-------------------+----------------------+ | Windows Server 2022 | SKIPPED | SKIPPED | SKIPPED | PASS | PASS | PASS | +-----------------------------------+--------------------+-------------------+------------------+-------------------------+-------------------+----------------------+ CentOS Stream 9 Kernel: Depends on container host Compiler: gcc 11.5.0 20240719 (Red Hat 11.5.0-2) CentOS Stream 10 Kernel: Depends on container host Compiler: gcc 14.2.1 20241104 (Red Hat 14.2.1-6) Debian 12 Kernel: Depends on container host Compiler: gcc (Debian 12.2.0-14) 12.2.0 Fedora 40 Kernel: Depends on container host Compiler: gcc 14.2.1 20240912 (Red Hat 14.2.1-3) Fedora 41 (Clang) Kernel: Depends on container host Compiler: clang 19.1.5 (Fedora 19.1.5-1.fc41) Fedora 41 Kernel: Depends on container host Compiler: gcc 14.2.1 20240912 (Red Hat 14.2.1-3) RHEL8 Kernel: Depends on container host Compiler: gcc 8.5.0 20210514 (Red Hat 8.5.0-22) openSUSE Leap 15 Kernel: Depends on container host Compiler: gcc (SUSE Linux) 7.5.0 Fedora 40 (Clang) Kernel: Depends on container host Compiler: clang 18.1.8 (Fedora 18.1.8-1.fc40) Ubuntu 22.04 Kernel: Depends on container host Compiler: gcc (Ubuntu 11.4.0-1ubuntu1~22.04) 11.4.0 Ubuntu 20.04 Kernel: Depends on container host Compiler: gcc (Ubuntu 9.4.0-1ubuntu1~20.04.2) 9.4.0 RHEL9 Kernel: Depends on container host Compiler: gcc 11.5.0 20240719 (Red Hat 11.5.0-2) Ubuntu 24.04 Kernel: Depends on container host Compiler: gcc (Ubuntu 13.3.0-6ubuntu2~24.04) 13.3.0 Alpine Kernel: Depends on container host Compiler: gcc (Alpine 14.2.0) 14.2.0 Ubuntu 24.04 32 Bit Cross Compile Kernel: Depends on container host Compiler: gcc (Ubuntu 13.3.0-6ubuntu2~24.04) 13.3.0 FreeBSD 13.5 Kernel: 13.5-RELEASE Compiler: clang 19.1.7 FreeBSD 14.2 Kernel: 14.2-RELEASE Compiler: clang 18.1.6 Windows Server 2022 Kernel: 10.0.20348.2031 Compiler: clang 15.0.7, gcc 14.1.0 (MinGW), and MSVC VS 19.39.33521 To view detailed results, visit: https://lab.dpdk.org/results/dashboard/patchsets/33153/ UNH-IOL DPDK Community Lab To manage your email subscriptions, visit: https://lab.dpdk.org/results/dashboard/preferences/subscriptions/