From mboxrd@z Thu Jan 1 00:00:00 1970 Return-Path: Received: from mails.dpdk.org (mails.dpdk.org [217.70.189.124]) by inbox.dpdk.org (Postfix) with ESMTP id ED86A4670F for ; Sat, 10 May 2025 16:25:02 +0200 (CEST) Received: from mails.dpdk.org (localhost [127.0.0.1]) by mails.dpdk.org (Postfix) with ESMTP id E8E3F40270; Sat, 10 May 2025 16:25:02 +0200 (CEST) Received: from mail-pl1-f228.google.com (mail-pl1-f228.google.com [209.85.214.228]) by mails.dpdk.org (Postfix) with ESMTP id 627A54026C for ; Sat, 10 May 2025 16:25:02 +0200 (CEST) Received: by mail-pl1-f228.google.com with SMTP id d9443c01a7336-22c3407a87aso39012215ad.3 for ; Sat, 10 May 2025 07:25:02 -0700 (PDT) DKIM-Signature: v=1; a=rsa-sha256; c=relaxed/relaxed; d=iol.unh.edu; s=unh-iol; t=1746887101; x=1747491901; darn=dpdk.org; h=references:in-reply-to:cc:to:from:subject:message-id:date:from:to :cc:subject:date:message-id:reply-to; bh=2+58gz9wrbhEZW3UCAe8KRchcporDe0k9gl285fB1fU=; b=eAwmAIyuQwo07QCde7nWuR5P7/11Dyzq4C52CKNbZobVMvhJ+gnoEh1ffil5uMUb4A +2E+V+OHNGH2W/6gZ4zE5zoRsudNPWZ94/eugabtL20Gla7M+emkyzqLBin2k517FrGV jrWgGgn1OviGxT2iij6IGvPid870gMo8Pa7tw= X-Google-DKIM-Signature: v=1; a=rsa-sha256; c=relaxed/relaxed; d=1e100.net; s=20230601; t=1746887101; x=1747491901; h=references:in-reply-to:cc:to:from:subject:message-id:date :x-gm-message-state:from:to:cc:subject:date:message-id:reply-to; bh=2+58gz9wrbhEZW3UCAe8KRchcporDe0k9gl285fB1fU=; b=l5DALJj5Vc7YUD49KyHQjokcqhmJzXPL0tPJPK3sGLrBJeDg4eP305cqWogxQT9y3b 9ZVqCJ5vecfnp1fNHh26ex3k/QsYypmoQA3C5daVe4AfV5IXa9yLtYik27/OiPwb4wtG fCxHhwmstzRIlHmqg1UCYPCEygQmp2CRaOfF2J4ZB3ef6QR0QGMvt4czbm9GXhRWzbL2 Wz46ondISIMDNcITgjjrAw/jMiqoX4Gbq/JUtZ84GnJjgDYW2LmtW7f3rfLOLETITCJi yyVLjrvMqGUcIWy3j4f9AzLy5DIR9Er2Tad/ajonW3ssySAnj8G5AIGgpguMCufWrXMi kUpA== X-Gm-Message-State: AOJu0YwTE/JTT/CeXM5lXWWqiY9MfTRymgYFbSjzeV+C2EC0lt8IgTyJ rIOhJcVm8yg43rubx/40KOzAjznf8d2LjB7sPMBWKWYoD6QnHbiB0M9cUkJ9gUX+pVAn1k5RSJy s/iXOyUmCPjsK6fevxouCngLQXhIpen9P8eWLyWXcTsLUzwLjRSoHTQzp X-Gm-Gg: ASbGncvcZGssIqtU9UlwbHLn7k2vRge98vzBC44ybiv3jBb7L7zPejZrBhKE+YoOXQe 74rQ0FUB55R9pjKtsJczLLtawaY7xdIRfnpjPMBgshTeIi16yp4WprAX7C6sbXMRhtKo5RD0xjk ssHEoAQN0uQWSEkRjjBfgNi2KsleCpSffYy2N7cV582E3X3E5ZRQRCSL1rRPhpIVhwYVRsOZ12e Hb8QBANikxUvC/6Z7VmfNRZh0ZuXNXrVSZ95GP10qTqxnD2cNGIRdVDwTcJmQKSg0QyXb2b3omB rU26P+8I6Eg6MgAOqVRqhtIfwmNZMStE0BwX X-Google-Smtp-Source: AGHT+IFwlE/WsdzFYGfV6F9eAjzWqUqmc0X3LIcEa2KnEg++NCkyIijBxvcIY7maCL7UuMZ1geicAHdmugvb X-Received: by 2002:a17:902:d4ca:b0:223:faf3:b9c2 with SMTP id d9443c01a7336-22fc8c801f3mr105553725ad.27.1746887101231; Sat, 10 May 2025 07:25:01 -0700 (PDT) Received: from postal.iol.unh.edu (postal.iol.unh.edu. [2606:4100:3880:1234::84]) by smtp-relay.gmail.com with ESMTPS id d9443c01a7336-22fc6f30752sm2194485ad.125.2025.05.10.07.25.01 (version=TLS1_2 cipher=ECDHE-ECDSA-AES128-GCM-SHA256 bits=128/128); Sat, 10 May 2025 07:25:01 -0700 (PDT) X-Relaying-Domain: iol.unh.edu Date: Sat, 10 May 2025 07:25:01 -0700 (PDT) Message-ID: <681f61bd.170a0220.319ce4.c452SMTPIN_ADDED_MISSING@mx.google.com> Received: from [172.21.0.6] (unknown [172.18.0.240]) by postal.iol.unh.edu (Postfix) with ESMTP id 661876052471; Sat, 10 May 2025 10:25:00 -0400 (EDT) Subject: |SUCCESS| pw153393 [PATCH] test/crypto: fix RSA decrypt op validatio From: dpdklab@iol.unh.edu To: Test Report Cc: dpdk-test-reports@iol.unh.edu In-Reply-To: <20250510104452.2186-1-gmuthukrishn@marvell.com> References: <20250510104452.2186-1-gmuthukrishn@marvell.com> Content-Type: text/plain X-BeenThere: test-report@dpdk.org X-Mailman-Version: 2.1.29 Precedence: list List-Id: automatic DPDK test reports List-Unsubscribe: , List-Archive: List-Post: List-Help: List-Subscribe: , Errors-To: test-report-bounces@dpdk.org Test-Label: iol-compile-amd64-testing Test-Status: SUCCESS http://dpdk.org/patch/153393 _Testing PASS_ Submitter: Gowrishankar Muthukrishnan Date: Saturday, May 10 2025 10:44:47 DPDK git baseline: Repo:dpdk Branch: master CommitID:ca1690ebd224f148268285b15b97441ccdbdd07e 153393 --> testing pass Upstream job id: Generic-DPDK-Compile-Meson#387006 Test environment and result as below: +-----------------------------------+--------------------+-------------------+------------------+-------------------------+-------------------+----------------------+ | Environment | dpdk_meson_compile | dpdk_compile_spdk | dpdk_compile_ovs | dpdk_llvm_clang_compile | dpdk_msvc_compile | dpdk_mingw64_compile | +===================================+====================+===================+==================+=========================+===================+======================+ | CentOS Stream 9 | PASS | PASS | SKIPPED | SKIPPED | SKIPPED | SKIPPED | +-----------------------------------+--------------------+-------------------+------------------+-------------------------+-------------------+----------------------+ | CentOS Stream 10 | PASS | SKIPPED | SKIPPED | SKIPPED | SKIPPED | SKIPPED | +-----------------------------------+--------------------+-------------------+------------------+-------------------------+-------------------+----------------------+ | Debian 12 | PASS | PASS | SKIPPED | SKIPPED | SKIPPED | SKIPPED | +-----------------------------------+--------------------+-------------------+------------------+-------------------------+-------------------+----------------------+ | Fedora 40 | PASS | PASS | SKIPPED | SKIPPED | SKIPPED | SKIPPED | +-----------------------------------+--------------------+-------------------+------------------+-------------------------+-------------------+----------------------+ | Fedora 41 (Clang) | PASS | PASS | PASS | SKIPPED | SKIPPED | SKIPPED | +-----------------------------------+--------------------+-------------------+------------------+-------------------------+-------------------+----------------------+ | Fedora 41 | PASS | PASS | PASS | SKIPPED | SKIPPED | SKIPPED | +-----------------------------------+--------------------+-------------------+------------------+-------------------------+-------------------+----------------------+ | RHEL8 | PASS | SKIPPED | SKIPPED | SKIPPED | SKIPPED | SKIPPED | +-----------------------------------+--------------------+-------------------+------------------+-------------------------+-------------------+----------------------+ | openSUSE Leap 15 | PASS | SKIPPED | SKIPPED | SKIPPED | SKIPPED | SKIPPED | +-----------------------------------+--------------------+-------------------+------------------+-------------------------+-------------------+----------------------+ | Fedora 40 (Clang) | PASS | PASS | SKIPPED | SKIPPED | SKIPPED | SKIPPED | +-----------------------------------+--------------------+-------------------+------------------+-------------------------+-------------------+----------------------+ | Ubuntu 22.04 | PASS | PASS | SKIPPED | SKIPPED | SKIPPED | SKIPPED | +-----------------------------------+--------------------+-------------------+------------------+-------------------------+-------------------+----------------------+ | Ubuntu 20.04 | PASS | SKIPPED | SKIPPED | SKIPPED | SKIPPED | SKIPPED | +-----------------------------------+--------------------+-------------------+------------------+-------------------------+-------------------+----------------------+ | RHEL9 | PASS | SKIPPED | SKIPPED | SKIPPED | SKIPPED | SKIPPED | +-----------------------------------+--------------------+-------------------+------------------+-------------------------+-------------------+----------------------+ | Ubuntu 24.04 | PASS | PASS | PASS | SKIPPED | SKIPPED | SKIPPED | +-----------------------------------+--------------------+-------------------+------------------+-------------------------+-------------------+----------------------+ | Alpine | PASS | SKIPPED | SKIPPED | SKIPPED | SKIPPED | SKIPPED | +-----------------------------------+--------------------+-------------------+------------------+-------------------------+-------------------+----------------------+ | Ubuntu 24.04 32 Bit Cross Compile | PASS | SKIPPED | SKIPPED | SKIPPED | SKIPPED | SKIPPED | +-----------------------------------+--------------------+-------------------+------------------+-------------------------+-------------------+----------------------+ | FreeBSD 13.5 | PASS | SKIPPED | SKIPPED | SKIPPED | SKIPPED | SKIPPED | +-----------------------------------+--------------------+-------------------+------------------+-------------------------+-------------------+----------------------+ | FreeBSD 14.2 | PASS | SKIPPED | SKIPPED | SKIPPED | SKIPPED | SKIPPED | +-----------------------------------+--------------------+-------------------+------------------+-------------------------+-------------------+----------------------+ | Windows Server 2022 | SKIPPED | SKIPPED | SKIPPED | PASS | PASS | PASS | +-----------------------------------+--------------------+-------------------+------------------+-------------------------+-------------------+----------------------+ CentOS Stream 9 Kernel: Depends on container host Compiler: gcc 11.5.0 20240719 (Red Hat 11.5.0-2) CentOS Stream 10 Kernel: Depends on container host Compiler: gcc 14.2.1 20241104 (Red Hat 14.2.1-6) Debian 12 Kernel: Depends on container host Compiler: gcc (Debian 12.2.0-14) 12.2.0 Fedora 40 Kernel: Depends on container host Compiler: gcc 14.2.1 20240912 (Red Hat 14.2.1-3) Fedora 41 (Clang) Kernel: Depends on container host Compiler: clang 19.1.5 (Fedora 19.1.5-1.fc41) Fedora 41 Kernel: Depends on container host Compiler: gcc 14.2.1 20240912 (Red Hat 14.2.1-3) RHEL8 Kernel: Depends on container host Compiler: gcc 8.5.0 20210514 (Red Hat 8.5.0-22) openSUSE Leap 15 Kernel: Depends on container host Compiler: gcc (SUSE Linux) 7.5.0 Fedora 40 (Clang) Kernel: Depends on container host Compiler: clang 18.1.8 (Fedora 18.1.8-1.fc40) Ubuntu 22.04 Kernel: Depends on container host Compiler: gcc (Ubuntu 11.4.0-1ubuntu1~22.04) 11.4.0 Ubuntu 20.04 Kernel: Depends on container host Compiler: gcc (Ubuntu 9.4.0-1ubuntu1~20.04.2) 9.4.0 RHEL9 Kernel: Depends on container host Compiler: gcc 11.5.0 20240719 (Red Hat 11.5.0-2) Ubuntu 24.04 Kernel: Depends on container host Compiler: gcc (Ubuntu 13.3.0-6ubuntu2~24.04) 13.3.0 Alpine Kernel: Depends on container host Compiler: gcc (Alpine 14.2.0) 14.2.0 Ubuntu 24.04 32 Bit Cross Compile Kernel: Depends on container host Compiler: gcc (Ubuntu 13.3.0-6ubuntu2~24.04) 13.3.0 FreeBSD 13.5 Kernel: 13.5-RELEASE Compiler: clang 19.1.7 FreeBSD 14.2 Kernel: 14.2-RELEASE Compiler: clang 18.1.6 Windows Server 2022 Kernel: 10.0.20348.2031 Compiler: clang 15.0.7, gcc 14.1.0 (MinGW), and MSVC VS 19.39.33521 To view detailed results, visit: https://lab.dpdk.org/results/dashboard/patchsets/33153/ UNH-IOL DPDK Community Lab To manage your email subscriptions, visit: https://lab.dpdk.org/results/dashboard/preferences/subscriptions/