From mboxrd@z Thu Jan 1 00:00:00 1970 Return-Path: Received: from mails.dpdk.org (mails.dpdk.org [217.70.189.124]) by inbox.dpdk.org (Postfix) with ESMTP id DC4724670F for ; Sat, 10 May 2025 16:34:00 +0200 (CEST) Received: from mails.dpdk.org (localhost [127.0.0.1]) by mails.dpdk.org (Postfix) with ESMTP id D76C040288; Sat, 10 May 2025 16:34:00 +0200 (CEST) Received: from mail-il1-f225.google.com (mail-il1-f225.google.com [209.85.166.225]) by mails.dpdk.org (Postfix) with ESMTP id 2B45A4026C for ; Sat, 10 May 2025 16:34:00 +0200 (CEST) Received: by mail-il1-f225.google.com with SMTP id e9e14a558f8ab-3da852764f4so883805ab.1 for ; Sat, 10 May 2025 07:34:00 -0700 (PDT) DKIM-Signature: v=1; a=rsa-sha256; c=relaxed/relaxed; d=iol.unh.edu; s=unh-iol; t=1746887639; x=1747492439; darn=dpdk.org; h=references:in-reply-to:cc:to:from:subject:message-id:date:from:to :cc:subject:date:message-id:reply-to; bh=nFVL2UXj/hd2Vho30OpQfaPfccYBu7gOHDGmVDeSSV8=; b=JZjN68YOojcB+UFJDmNCwEjHc1p4BsoZY3rkH5kSKLSmXqH3uTaujdWxT90Lt18dQF Vj66x+HPTZ+L5qQBFito0cwuy87BUxalBkVkXV2t+NrJJ7S7fTlbhTI8I2ZVSUGoAW5D U8gkIU8aBFneJKMG6etKaDvmRkERo+hSQP2MA= X-Google-DKIM-Signature: v=1; a=rsa-sha256; c=relaxed/relaxed; d=1e100.net; s=20230601; t=1746887639; x=1747492439; h=references:in-reply-to:cc:to:from:subject:message-id:date :x-gm-message-state:from:to:cc:subject:date:message-id:reply-to; bh=nFVL2UXj/hd2Vho30OpQfaPfccYBu7gOHDGmVDeSSV8=; b=LjzrC4VMsM6RMam2i4oxGknKp3I6DTm1qGArkHoeOsiIRo7VvPNklTtqDWtWPR1QJ3 1otQZKtWOv1ZbJuplmwjj0kbfuXNXyLi3KlOnSGPVBwoQlwTaSLz+jcNrvVkdU9jJQmP etdTCO5rA+zcw1RRK2GTeTDVW7SL0RU8e2mOdhOpSKq8v5FxQqi/U7GZ/3b8Nebaxnml SonT6j78brNcaJhcgfkmYtqLkt4enP45TQ1mtRJjgk8kW0D1wgU0Ks6BG0RaHia16pud tw+f3ySb3ucn1b+WnuJBwvWdNlF5NQpyh6HODqwvDKTDADsncSuU6gEjaD6edeQwNhvx bdXw== X-Gm-Message-State: AOJu0YwIgrn/i6yF8lq8TFeizU9BOyuu5l0oY3/20MFf66vzIfwTJFfD UKNl+aokWwk+AqReicHAeiVsedJNkRl+BjsGIpmnjMv2JVvWv/sE0ZfhX3Ji0D5CQKywe0sa+SX i637u42RqCuiEGL649Q8EyQZAqu7ORcyeMvI6CejMFDqTgKHpwbeG14LG X-Gm-Gg: ASbGnctcpEyWdyJcMF4TpzFGa2eKYSgFBMkO/NT/zy6j1fRnw0dEAUTMWCW+2eNGZcA 21LX5HrFSlGRN5uy4wu/vmHn4XUQWWv26/pwo1SPoWlhsVLOphVSdApBNm0C5ch6qeFB8HSjarl 9nXtLplOFB4R2ORA2y/0dKNO9ziNtoCMlLoASZHz6PpJpus1hTaUuwgB5MPUc0ts0CwcehB9csB bvsu1mOuKd70PWQNDZTBndF7O/cP8nIx+W4ZTS1dlaDjNt5no/WTFpTzYmS0RFP/WdZaBsaIsJB dHh2zsobOzoNhQpdDSbtsNXG3b4Rhrv+jYDu X-Google-Smtp-Source: AGHT+IG4yEaXI7dlZIwIIqayE+nAfgz4ptRDVQF+3IOiP/0CmemAu4jkVihlOvpCxO4RE1yr9Lp9k/+ymGXc X-Received: by 2002:a05:6e02:1a4b:b0:3da:6f23:bab1 with SMTP id e9e14a558f8ab-3da78532e49mr133559765ab.1.1746887639418; Sat, 10 May 2025 07:33:59 -0700 (PDT) Received: from postal.iol.unh.edu (postal.iol.unh.edu. [2606:4100:3880:1234::84]) by smtp-relay.gmail.com with ESMTPS id e9e14a558f8ab-3da7e103031sm2755755ab.24.2025.05.10.07.33.59 (version=TLS1_2 cipher=ECDHE-ECDSA-AES128-GCM-SHA256 bits=128/128); Sat, 10 May 2025 07:33:59 -0700 (PDT) X-Relaying-Domain: iol.unh.edu Date: Sat, 10 May 2025 07:33:59 -0700 (PDT) Message-ID: <681f63d7.050a0220.1ab60e.eef2SMTPIN_ADDED_MISSING@mx.google.com> Received: from [172.21.0.6] (unknown [172.18.0.240]) by postal.iol.unh.edu (Postfix) with ESMTP id 0FF366052471; Sat, 10 May 2025 10:33:59 -0400 (EDT) Subject: |SUCCESS| pw153392 [PATCH] crypto/virtio: fix DER encoding for posit From: dpdklab@iol.unh.edu To: Test Report Cc: dpdk-test-reports@iol.unh.edu In-Reply-To: <20250510104412.2154-1-gmuthukrishn@marvell.com> References: <20250510104412.2154-1-gmuthukrishn@marvell.com> Content-Type: text/plain X-BeenThere: test-report@dpdk.org X-Mailman-Version: 2.1.29 Precedence: list List-Id: automatic DPDK test reports List-Unsubscribe: , List-Archive: List-Post: List-Help: List-Subscribe: , Errors-To: test-report-bounces@dpdk.org Test-Label: iol-unit-amd64-testing Test-Status: SUCCESS http://dpdk.org/patch/153392 _Testing PASS_ Submitter: Gowrishankar Muthukrishnan Date: Saturday, May 10 2025 10:44:07 DPDK git baseline: Repo:dpdk Branch: master CommitID:ca1690ebd224f148268285b15b97441ccdbdd07e 153392 --> testing pass Upstream job id: Generic-Unit-Test-DPDK#336995 Test environment and result as below: +-------------------+----------------+ | Environment | dpdk_unit_test | +===================+================+ | Debian 12 | PASS | +-------------------+----------------+ | CentOS Stream 10 | PASS | +-------------------+----------------+ | CentOS Stream 9 | PASS | +-------------------+----------------+ | Fedora 40 | PASS | +-------------------+----------------+ | RHEL8 | PASS | +-------------------+----------------+ | Fedora 40 (Clang) | PASS | +-------------------+----------------+ | RHEL9 | PASS | +-------------------+----------------+ | Fedora 41 | PASS | +-------------------+----------------+ | Fedora 41 (Clang) | PASS | +-------------------+----------------+ | Ubuntu 22.04 | PASS | +-------------------+----------------+ | Ubuntu 20.04 | PASS | +-------------------+----------------+ | Ubuntu 24.04 | PASS | +-------------------+----------------+ Debian 12 Kernel: Depends on container host Compiler: gcc (Debian 12.2.0-14) 12.2.0 CentOS Stream 10 Kernel: Depends on container host Compiler: gcc 14.2.1 20241104 (Red Hat 14.2.1-6) CentOS Stream 9 Kernel: Depends on container host Compiler: gcc 11.5.0 20240719 (Red Hat 11.5.0-2) Fedora 40 Kernel: Depends on container host Compiler: gcc 14.2.1 20240912 (Red Hat 14.2.1-3) RHEL8 Kernel: Depends on container host Compiler: gcc 8.5.0 20210514 (Red Hat 8.5.0-22) Fedora 40 (Clang) Kernel: Depends on container host Compiler: clang 18.1.8 (Fedora 18.1.8-1.fc40) RHEL9 Kernel: Depends on container host Compiler: gcc 11.5.0 20240719 (Red Hat 11.5.0-2) Fedora 41 Kernel: Depends on container host Compiler: gcc 14.2.1 20240912 (Red Hat 14.2.1-3) Fedora 41 (Clang) Kernel: Depends on container host Compiler: clang 19.1.5 (Fedora 19.1.5-1.fc41) Ubuntu 22.04 Kernel: Depends on container host Compiler: gcc (Ubuntu 11.4.0-1ubuntu1~22.04) 11.4.0 Ubuntu 20.04 Kernel: Depends on container host Compiler: gcc (Ubuntu 9.4.0-1ubuntu1~20.04.2) 9.4.0 Ubuntu 24.04 Kernel: Depends on container host Compiler: gcc (Ubuntu 13.3.0-6ubuntu2~24.04) 13.3.0 To view detailed results, visit: https://lab.dpdk.org/results/dashboard/patchsets/33152/ UNH-IOL DPDK Community Lab To manage your email subscriptions, visit: https://lab.dpdk.org/results/dashboard/preferences/subscriptions/